Workbook
Name list: 'تحديد المجالات'!$AG$7:$AG$30
Name رياضيات_ثالث_ابتدائي: 'مج 1'!$V$4:$V$37
Name رياضيات_ثالث_ابتدائي: 'مج 3'!$W$4:$W$37
Name رياضيات_ثالث_ابتدائي: 'مج 5'!$W$4:$W$37
Name رياضيات_ثالث_ابتدائي: مج2!$X$4:$X$37
Name رياضيات_ثالث_ابتدائي: مج4!$W$4:$W$37
Name رياضيات_ثالث_ابتدائي: 'مج 0'!$Z$4:$Z$37
Name رياضيات_ثالث_متوسط: 'مج 1'!$AB$4:$AB$37
Name رياضيات_ثالث_متوسط: 'مج 3'!$AC$4:$AC$37
Name رياضيات_ثالث_متوسط: 'مج 5'!$AC$4:$AC$37
Name رياضيات_ثالث_متوسط: مج2!$AD$4:$AD$37
Name رياضيات_ثالث_متوسط: مج4!$AC$4:$AC$37
Name رياضيات_ثالث_متوسط: 'مج 0'!$AF$4:$AF$37
Name رياضيات_سادس: 'مج 1'!$U$4:$U$37
Name رياضيات_سادس: 'مج 3'!$V$4:$V$37
Name رياضيات_سادس: 'مج 5'!$V$4:$V$37
Name رياضيات_سادس: مج2!$W$4:$W$37
Name رياضيات_سادس: مج4!$V$4:$V$37
Name رياضيات_سادس: 'مج 0'!$Y$4:$Y$37
Name رياضيات_سادس_ابتدائي: 'مج 1'!$U$4:$U$37
Name رياضيات_سادس_ابتدائي: 'مج 3'!$V$4:$V$37
Name رياضيات_سادس_ابتدائي: 'مج 5'!$V$4:$V$37
Name رياضيات_سادس_ابتدائي: مج2!$W$4:$W$37
Name رياضيات_سادس_ابتدائي: مج4!$V$4:$V$37
Name رياضيات_سادس_ابتدائي: 'مج 0'!$Y$4:$Y$37
Name علوم_ثالث_متوسط: 'مج 1'!$AA$4:$AA$37
Name علوم_ثالث_متوسط: 'مج 3'!$AB$4:$AB$37
Name علوم_ثالث_متوسط: 'مج 5'!$AB$4:$AB$37
Name علوم_ثالث_متوسط: مج2!$AC$4:$AC$37
Name علوم_ثالث_متوسط: مج4!$AB$4:$AB$37
Name علوم_ثالث_متوسط: 'مج 0'!$AE$4:$AE$37
Name علوم_سادس: 'مج 1'!$Z$4:$Z$37
Name علوم_سادس: 'مج 3'!$AA$4:$AA$37
Name علوم_سادس: 'مج 5'!$AA$4:$AA$37
Name علوم_سادس: مج2!$AB$4:$AB$37
Name علوم_سادس: مج4!$AA$4:$AA$37
Name علوم_سادس: 'مج 0'!$AD$4:$AD$37
Name علوم_سادس_ابتدائي: 'مج 1'!$Z$4:$Z$37
Name علوم_سادس_ابتدائي: 'مج 3'!$AA$4:$AA$37
Name علوم_سادس_ابتدائي: 'مج 5'!$AA$4:$AA$37
Name علوم_سادس_ابتدائي: مج2!$AB$4:$AB$37
Name علوم_سادس_ابتدائي: مج4!$AA$4:$AA$37
Name علوم_سادس_ابتدائي: 'مج 0'!$AD$4:$AD$37
Name قراءة_ثالث_ابتدائي: 'مج 1'!$W$4:$W$37
Name قراءة_ثالث_ابتدائي: 'مج 3'!$X$4:$X$37
Name قراءة_ثالث_ابتدائي: 'مج 5'!$X$4:$X$37
Name قراءة_ثالث_ابتدائي: مج2!$Y$4:$Y$37
Name قراءة_ثالث_ابتدائي: مج4!$X$4:$X$37
Name قراءة_ثالث_ابتدائي: 'مج 0'!$AA$4:$AA$37
Name قراءة_ثالث_متوسط: 'مج 1'!$Y$4:$Y$37
Name قراءة_ثالث_متوسط: 'مج 3'!$Z$4:$Z$37
Name قراءة_ثالث_متوسط: 'مج 5'!$Z$4:$Z$37
Name قراءة_ثالث_متوسط: مج2!$AA$4:$AA$37
Name قراءة_ثالث_متوسط: مج4!$Z$4:$Z$37
Name قراءة_ثالث_متوسط: 'مج 0'!$AC$4:$AC$37
Name قراءة_سادس_ابتدائي: 'مج 1'!$X$4:$X$37
Name قراءة_سادس_ابتدائي: 'مج 3'!$Y$4:$Y$37
Name قراءة_سادس_ابتدائي: 'مج 5'!$Y$4:$Y$37
Name قراءة_سادس_ابتدائي: مج2!$Z$4:$Z$37
Name قراءة_سادس_ابتدائي: مج4!$Y$4:$Y$37

Sheet الرئيسية
A16: تصميم أ / بدر عبدالله الصبي

Sheet جميع المجالات

Sheet تحديد المجالات
AM4: المؤشرات
C5: المادة ( اختر من القائمة ) | E5: المجال ( اختر من القائمة ) | I5: اختر المؤشر | K5: المؤشرات
C7: رياضيات ثالث متوسط | E7: رياضيات ثالث ابتدائي | F7: المنخفض جداً | G7: يتعرف على بعض التغيرات التي تطرأ على سطح الأرض مثل الزلازل والبراكين | J7: TRUE | K7: {=OFFSET('جميع المجالات'!$R$1,MATCH(E7,'جميع المجالات'!$Q$2:$Q$576,0),0,COUNTIF('جميع المجالات'!$Q$2:$Q$576,E7))} -> #N/A | AG7: =IF(J7=TRUE,K7,"") -> #N/A | AM7: {=IFERROR(INDEX($AG$7:$AG$222,MATCH(0,IF(ISBLANK($AG$7:$AG$222),1,COUNTIF($AM$6:AM6,$AG$7:$AG$222)),0)),"-")} -> -
J8: TRUE | AG8: =IF(J8=TRUE,K8,"") -> 0 | AM8: {=IFERROR(INDEX($AG$7:$AG$222,MATCH(0,IF(ISBLANK($AG$7:$AG$222),1,COUNTIF($AM$6:AM7,$AG$7:$AG$222)),0)),"-")} -> -
J9: TRUE | AG9: =IF(J9=TRUE,K9,"") -> 0 | AM9: {=IFERROR(INDEX($AG$7:$AG$222,MATCH(0,IF(ISBLANK($AG$7:$AG$222),1,COUNTIF($AM$6:AM8,$AG$7:$AG$222)),0)),"-")} -> -
J10: FALSE | AG10: =IF(J10=TRUE,K10,"") | AM10: {=IFERROR(INDEX($AG$7:$AG$222,MATCH(0,IF(ISBLANK($AG$7:$AG$222),1,COUNTIF($AM$6:AM9,$AG$7:$AG$222)),0)),"-")} -> -
J11: FALSE | AG11: =IF(J11=TRUE,K11,"") | AM11: {=IFERROR(INDEX($AG$7:$AG$222,MATCH(0,IF(ISBLANK($AG$7:$AG$222),1,COUNTIF($AM$6:AM10,$AG$7:$AG$222)),0)),"-")} -> -
J12: FALSE | AG12: =IF(J12=TRUE,K12,"") | AM12: {=IFERROR(INDEX($AG$7:$AG$222,MATCH(0,IF(ISBLANK($AG$7:$AG$222),1,COUNTIF($AM$6:AM11,$AG$7:$AG$222)),0)),"-")} -> -
J13: FALSE | AG13: =IF(J13=TRUE,K13,"") | AM13: {=IFERROR(INDEX($AG$7:$AG$222,MATCH(0,IF(ISBLANK($AG$7:$AG$222),1,COUNTIF($AM$6:AM12,$AG$7:$AG$222)),0)),"-")} -> -
J14: TRUE | AG14: =IF(J14=TRUE,K14,"") -> 0 | AM14: {=IFERROR(INDEX($AG$7:$AG$222,MATCH(0,IF(ISBLANK($AG$7:$AG$222),1,COUNTIF($AM$6:AM13,$AG$7:$AG$222)),0)),"-")} -> -
J15: FALSE | AG15: =IF(J15=TRUE,K15,"") | AM15: {=IFERROR(INDEX($AG$7:$AG$222,MATCH(0,IF(ISBLANK($AG$7:$AG$222),1,COUNTIF($AM$6:AM14,$AG$7:$AG$222)),0)),"-")} -> -
J16: FALSE | AG16: =IF(J16=TRUE,K16,"") | AM16: {=IFERROR(INDEX($AG$7:$AG$222,MATCH(0,IF(ISBLANK($AG$7:$AG$222),1,COUNTIF($AM$6:AM15,$AG$7:$AG$222)),0)),"-")} -> -
J17: FALSE | AG17: =IF(J17=TRUE,K17,"") | AM17: {=IFERROR(INDEX($AG$7:$AG$222,MATCH(0,IF(ISBLANK($AG$7:$AG$222),1,COUNTIF($AM$6:AM16,$AG$7:$AG$222)),0)),"-")} -> -
J18: FALSE | AG18: =IF(J18=TRUE,K18,"") | AM18: {=IFERROR(INDEX($AG$7:$AG$222,MATCH(0,IF(ISBLANK($AG$7:$AG$222),1,COUNTIF($AM$6:AM17,$AG$7:$AG$222)),0)),"-")} -> -
J19: FALSE | AG19: =IF(J19=TRUE,K19,"") | AM19: {=IFERROR(INDEX($AG$7:$AG$222,MATCH(0,IF(ISBLANK($AG$7:$AG$222),1,COUNTIF($AM$6:AM18,$AG$7:$AG$222)),0)),"-")} -> -
... J160: FALSE | AG160: =IF(J160=TRUE,K160,"") | AM160: {=IFERROR(INDEX($AG$7:$AG$222,MATCH(0,IF(ISBLANK($AG$7:$AG$222),1,COUNTIF($AM$6:AM159,$AG$7:$AG$222)),0)),"-")} -> -
AG161: =IF(J161=TRUE,K161,"") | AM161: {=IFERROR(INDEX($AG$7:$AG$222,MATCH(0,IF(ISBLANK($AG$7:$AG$222),1,COUNTIF($AM$6:AM160,$AG$7:$AG$222)),0)),"-")} -> -
AG162: =IF(J162=TRUE,K162,"") | AM162: {=IFERROR(INDEX($AG$7:$AG$222,MATCH(0,IF(ISBLANK($AG$7:$AG$222),1,COUNTIF($AM$6:AM161,$AG$7:$AG$222)),0)),"-")} -> -
AG163: =IF(J163=TRUE,K163,"") | AM163: {=IFERROR(INDEX($AG$7:$AG$222,MATCH(0,IF(ISBLANK($AG$7:$AG$222),1,COUNTIF($AM$6:AM162,$AG$7:$AG$222)),0)),"-")} -> -
AG164: =IF(J164=TRUE,K164,"") | AM164: {=IFERROR(INDEX($AG$7:$AG$222,MATCH(0,IF(ISBLANK($AG$7:$AG$222),1,COUNTIF($AM$6:AM163,$AG$7:$AG$222)),0)),"-")} -> -
AG165: =IF(J165=TRUE,K165,"") | AM165: {=IFERROR(INDEX($AG$7:$AG$222,MATCH(0,IF(ISBLANK($AG$7:$AG$222),1,COUNTIF($AM$6:AM164,$AG$7:$AG$222)),0)),"-")} -> -
AG166: =IF(J166=TRUE,K166,"") | AM166: {=IFERROR(INDEX($AG$7:$AG$222,MATCH(0,IF(ISBLANK($AG$7:$AG$222),1,COUNTIF($AM$6:AM165,$AG$7:$AG$222)),0)),"-")} -> -
AG167: =IF(J167=TRUE,K167,"") | AM167: {=IFERROR(INDEX($AG$7:$AG$222,MATCH(0,IF(ISBLANK($AG$7:$AG$222),1,COUNTIF($AM$6:AM166,$AG$7:$AG$222)),0)),"-")} -> -
AG168: =IF(J168=TRUE,K168,"") | AM168: {=IFERROR(INDEX($AG$7:$AG$222,MATCH(0,IF(ISBLANK($AG$7:$AG$222),1,COUNTIF($AM$6:AM167,$AG$7:$AG$222)),0)),"-")} -> -
AG169: =IF(J169=TRUE,K169,"") | AM169: {=IFERROR(INDEX($AG$7:$AG$222,MATCH(0,IF(ISBLANK($AG$7:$AG$222),1,COUNTIF($AM$6:AM168,$AG$7:$AG$222)),0)),"-")} -> -
AG170: =IF(J170=TRUE,K170,"") | AM170: {=IFERROR(INDEX($AG$7:$AG$222,MATCH(0,IF(ISBLANK($AG$7:$AG$222),1,COUNTIF($AM$6:AM169,$AG$7:$AG$222)),0)),"-")} -> -
AG171: =IF(J171=TRUE,K171,"") | AM171: {=IFERROR(INDEX($AG$7:$AG$222,MATCH(0,IF(ISBLANK($AG$7:$AG$222),1,COUNTIF($AM$6:AM170,$AG$7:$AG$222)),0)),"-")} -> -
AG172: =IF(J172=TRUE,K172,"") | AM172: {=IFERROR(INDEX($AG$7:$AG$222,MATCH(0,IF(ISBLANK($AG$7:$AG$222),1,COUNTIF($AM$6:AM171,$AG$7:$AG$222)),0)),"-")} -> -
... AG210: =IF(J210=TRUE,K210,"") | AM210: {=IFERROR(INDEX($AG$7:$AG$222,MATCH(0,IF(ISBLANK($AG$7:$AG$222),1,COUNTIF($AM$6:AM209,$AG$7:$AG$222)),0)),"-")} -> -
AG211: =IF(J211=TRUE,K211,"")
AG212: =IF(J212=TRUE,K212,"")

Sheet ورقة1
C5: الاختبار الأول
B7: م | C7: ='احصائيات 1'!B2 -> متوسط نتائج الطلاب في مهارات الاختبارات | D7: النسبة | E7: المتوسط | H7: الخط الأخضر هو متوسط المهارات ويوضح عدد المهارات التي تجاوزت المتوسط
B8: 1 | C8: ='احصائيات 1'!B3 -> - | D8: =IFERROR('احصائيات 1'!D3,"") | E8: =IFERROR(AVERAGE($D$8:$D$30),"")
B9: 2 | C9: ='احصائيات 1'!B4 -> - | D9: =IFERROR('احصائيات 1'!D4,"") | E9: =IFERROR(AVERAGE($D$8:$D$30),"")
B10: 3 | C10: ='احصائيات 1'!B5 -> - | D10: =IFERROR('احصائيات 1'!D5,"") | E10: =IFERROR(AVERAGE($D$8:$D$30),"")
B11: 4 | C11: ='احصائيات 1'!B6 -> - | D11: =IFERROR('احصائيات 1'!D6,"") | E11: =IFERROR(AVERAGE($D$8:$D$30),"")
B12: 5 | C12: ='احصائيات 1'!B7 -> - | D12: =IFERROR('احصائيات 1'!D7,"") | E12: =IFERROR(AVERAGE($D$8:$D$30),"")
B13: 6 | C13: ='احصائيات 1'!B8 -> - | D13: =IFERROR('احصائيات 1'!D8,"") | E13: =IFERROR(AVERAGE($D$8:$D$30),"")
B14: 7 | C14: ='احصائيات 1'!B9 -> - | D14: =IFERROR('احصائيات 1'!D9,"") | E14: =IFERROR(AVERAGE($D$8:$D$30),"")
B15: 8 | C15: ='احصائيات 1'!B10 -> - | D15: =IFERROR('احصائيات 1'!D10,"") | E15: =IFERROR(AVERAGE($D$8:$D$30),"")
B16: 9 | C16: ='احصائيات 1'!B11 -> - | D16: =IFERROR('احصائيات 1'!D11,"") | E16: =IFERROR(AVERAGE($D$8:$D$30),"")
B17: 10 | C17: ='احصائيات 1'!B12 -> - | D17: =IFERROR('احصائيات 1'!D12,"") | E17: =IFERROR(AVERAGE($D$8:$D$30),"")
B18: 11 | C18: ='احصائيات 1'!B13 -> - | D18: =IFERROR('احصائيات 1'!D13,"") | E18: =IFERROR(AVERAGE($D$8:$D$30),"")
B19: 12 | C19: ='احصائيات 1'!B14 -> - | D19: =IFERROR('احصائيات 1'!D14,"") | E19: =IFERROR(AVERAGE($D$8:$D$30),"")
... B32: 25 | C32: ='احصائيات 1'!B27 -> - | D32: =IFERROR('احصائيات 1'!D27,"") | E32: =IFERROR(AVERAGE($D$8:$D$30),"")

Sheet ورقة2
H3: الخط الأخضر هو متوسط المهارات ويوضح عدد المهارات التي تجاوزت المتوسط
C5: الاختبار الثاني
B7: م | C7: ='احصائيات 2'!B2 -> متوسط نتائج الطلاب في مهارات الاختبارات | D7: النسبة | E7: المتوسط
B8: 1 | C8: ='احصائيات 2'!B3 -> - | D8: =IFERROR('احصائيات 2'!C3,"") | E8: =IFERROR(AVERAGE($D$8:$D$30),"")
B9: 2 | C9: ='احصائيات 2'!B4 -> - | D9: =IFERROR('احصائيات 2'!C4,"") | E9: =IFERROR(AVERAGE($D$8:$D$30),"")
B10: 3 | C10: ='احصائيات 2'!B5 -> - | D10: =IFERROR('احصائيات 2'!C5,"") | E10: =IFERROR(AVERAGE($D$8:$D$30),"")
B11: 4 | C11: ='احصائيات 2'!B6 -> - | D11: =IFERROR('احصائيات 2'!C6,"") | E11: =IFERROR(AVERAGE($D$8:$D$30),"")
B12: 5 | C12: ='احصائيات 2'!B7 -> - | D12: =IFERROR('احصائيات 2'!C7,"") | E12: =IFERROR(AVERAGE($D$8:$D$30),"")
B13: 6 | C13: ='احصائيات 2'!B8 -> - | D13: =IFERROR('احصائيات 2'!C8,"") | E13: =IFERROR(AVERAGE($D$8:$D$30),"")
B14: 7 | C14: ='احصائيات 2'!B9 -> - | D14: =IFERROR('احصائيات 2'!C9,"") | E14: =IFERROR(AVERAGE($D$8:$D$30),"")
B15: 8 | C15: ='احصائيات 2'!B10 -> - | D15: =IFERROR('احصائيات 2'!C10,"") | E15: =IFERROR(AVERAGE($D$8:$D$30),"")
B16: 9 | C16: ='احصائيات 2'!B11 -> - | D16: =IFERROR('احصائيات 2'!C11,"") | E16: =IFERROR(AVERAGE($D$8:$D$30),"")
B17: 10 | C17: ='احصائيات 2'!B12 -> - | D17: =IFERROR('احصائيات 2'!C12,"") | E17: =IFERROR(AVERAGE($D$8:$D$30),"")
B18: 11 | C18: ='احصائيات 2'!B13 -> - | D18: =IFERROR('احصائيات 2'!C13,"") | E18: =IFERROR(AVERAGE($D$8:$D$30),"")
B19: 12 | C19: ='احصائيات 2'!B14 -> - | D19: =IFERROR('احصائيات 2'!C14,"") | E19: =IFERROR(AVERAGE($D$8:$D$30),"")
... B32: 25 | C32: ='احصائيات 2'!B27 -> - | D32: =IFERROR('احصائيات 2'!C27,"") | E32: =IFERROR(AVERAGE($D$8:$D$30),"")

Sheet ورقة3
H4: الخط الأخضر هو متوسط المهارات ويوضح عدد المهارات التي تجاوزت المتوسط
C5: الاختبار الثالث
B7: م | C7: ='احصائيات 3'!B2 -> متوسط نتائج الطلاب في مهارات الاختبارات | D7: النسبة | E7: المتوسط
B8: 1 | C8: ='احصائيات 3'!B3 -> - | D8: =IFERROR('ادخال درجات الاختبار الثالث'!FX11,"") | E8: =IFERROR(AVERAGE($D$8:$D$30),"")
B9: 2 | C9: ='احصائيات 3'!B4 -> - | D9: =IFERROR('ادخال درجات الاختبار الثالث'!FX12,"") | E9: =IFERROR(AVERAGE($D$8:$D$30),"")
B10: 3 | C10: ='احصائيات 3'!B5 -> - | D10: =IFERROR('ادخال درجات الاختبار الثالث'!FX13,"") | E10: =IFERROR(AVERAGE($D$8:$D$30),"")
B11: 4 | C11: ='احصائيات 3'!B6 -> - | D11: =IFERROR('ادخال درجات الاختبار الثالث'!FX14,"") | E11: =IFERROR(AVERAGE($D$8:$D$30),"")
B12: 5 | C12: ='احصائيات 3'!B7 -> - | D12: =IFERROR('ادخال درجات الاختبار الثالث'!FX15,"") | E12: =IFERROR(AVERAGE($D$8:$D$30),"")
B13: 6 | C13: ='احصائيات 3'!B8 -> - | D13: =IFERROR('ادخال درجات الاختبار الثالث'!FX16,"") | E13: =IFERROR(AVERAGE($D$8:$D$30),"")
B14: 7 | C14: ='احصائيات 3'!B9 -> - | D14: =IFERROR('ادخال درجات الاختبار الثالث'!FX17,"") | E14: =IFERROR(AVERAGE($D$8:$D$30),"")
B15: 8 | C15: ='احصائيات 3'!B10 -> - | D15: =IFERROR('ادخال درجات الاختبار الثالث'!FX18,"") | E15: =IFERROR(AVERAGE($D$8:$D$30),"")
B16: 9 | C16: ='احصائيات 3'!B11 -> - | D16: =IFERROR('ادخال درجات الاختبار الثالث'!FX19,"") | E16: =IFERROR(AVERAGE($D$8:$D$30),"")
B17: 10 | C17: ='احصائيات 3'!B12 -> - | D17: =IFERROR('ادخال درجات الاختبار الثالث'!FX20,"") | E17: =IFERROR(AVERAGE($D$8:$D$30),"")
B18: 11 | C18: ='احصائيات 3'!B13 -> - | D18: =IFERROR('ادخال درجات الاختبار الثالث'!FX21,"") | E18: =IFERROR(AVERAGE($D$8:$D$30),"")
B19: 12 | C19: ='احصائيات 3'!B14 -> - | D19: =IFERROR('ادخال درجات الاختبار الثالث'!FX22,"") | E19: =IFERROR(AVERAGE($D$8:$D$30),"")
... B32: 25 | C32: ='احصائيات 3'!B27 -> - | D32: =IFERROR('ادخال درجات الاختبار الثالث'!FX35,"") | E32: =IFERROR(AVERAGE($D$8:$D$30),"")

Sheet ورقة4
I4: الخط الأخضر هو متوسط المهارات ويوضح عدد المهارات التي تجاوزت المتوسط
D5: الاختبار الرابع
C7: م | D7: ='احصائيات 4'!B2 -> متوسط نتائج الطلاب في مهارات الاختبارات | E7: النسبة | F7: المتوسط
C8: 1 | D8: ='احصائيات 4'!B3 -> - | E8: =IFERROR('ادخال درجات الاختبار الرابع'!FJ10,"") | F8: =IFERROR(AVERAGE($E$8:$E$32),"")
C9: 2 | D9: ='احصائيات 4'!B4 -> - | E9: =IFERROR('ادخال درجات الاختبار الرابع'!FJ11,"") | F9: =IFERROR(AVERAGE($E$8:$E$32),"")
C10: 3 | D10: ='احصائيات 4'!B5 -> - | E10: =IFERROR('ادخال درجات الاختبار الرابع'!FJ12,"") | F10: =IFERROR(AVERAGE($E$8:$E$32),"")
C11: 4 | D11: ='احصائيات 4'!B6 -> - | E11: =IFERROR('ادخال درجات الاختبار الرابع'!FJ13,"") | F11: =IFERROR(AVERAGE($E$8:$E$32),"")
C12: 5 | D12: ='احصائيات 4'!B7 -> - | E12: =IFERROR('ادخال درجات الاختبار الرابع'!FJ14,"") | F12: =IFERROR(AVERAGE($E$8:$E$32),"")
C13: 6 | D13: ='احصائيات 4'!B8 -> - | E13: =IFERROR('ادخال درجات الاختبار الرابع'!FJ15,"") | F13: =IFERROR(AVERAGE($E$8:$E$32),"")
C14: 7 | D14: ='احصائيات 4'!B9 -> - | E14: =IFERROR('ادخال درجات الاختبار الرابع'!FJ16,"") | F14: =IFERROR(AVERAGE($E$8:$E$32),"")
C15: 8 | D15: ='احصائيات 4'!B10 -> - | E15: =IFERROR('ادخال درجات الاختبار الرابع'!FJ17,"") | F15: =IFERROR(AVERAGE($E$8:$E$32),"")
C16: 9 | D16: ='احصائيات 4'!B11 -> - | E16: =IFERROR('ادخال درجات الاختبار الرابع'!FJ18,"") | F16: =IFERROR(AVERAGE($E$8:$E$32),"")
C17: 10 | D17: ='احصائيات 4'!B12 -> - | E17: =IFERROR('ادخال درجات الاختبار الرابع'!FJ19,"") | F17: =IFERROR(AVERAGE($E$8:$E$32),"")
C18: 11 | D18: ='احصائيات 4'!B13 -> - | E18: =IFERROR('ادخال درجات الاختبار الرابع'!FJ20,"") | F18: =IFERROR(AVERAGE($E$8:$E$32),"")
C19: 12 | D19: ='احصائيات 4'!B14 -> - | E19: =IFERROR('ادخال درجات الاختبار الرابع'!FJ21,"") | F19: =IFERROR(AVERAGE($E$8:$E$32),"")
... C32: 25 | D32: ='احصائيات 4'!B27 -> - | E32: =IFERROR('ادخال درجات الاختبار الرابع'!FJ34,"") | F32: =IFERROR(AVERAGE($E$8:$E$32),"")

Sheet ورقة5
I4: الخط الأخضر هو متوسط المهارات ويوضح عدد المهارات التي تجاوزت المتوسط
D5: الاختبارالخامس
C7: م | D7: ='احصائيات 5'!B2 -> متوسط نتائج الطلاب في مهارات الاختبارات | E7: النسبة | F7: المتوسط
C8: 1 | D8: ='احصائيات 5'!B3 -> - | E8: =IFERROR('ادخال درجات الاختبار الخامس'!FW10,"") | F8: =IFERROR(AVERAGE($E$8:$E$32),"")
C9: 2 | D9: ='احصائيات 5'!B4 -> - | E9: =IFERROR('ادخال درجات الاختبار الخامس'!FW11,"") | F9: =IFERROR(AVERAGE($E$8:$E$32),"")
C10: 3 | D10: ='احصائيات 5'!B5 -> - | E10: =IFERROR('ادخال درجات الاختبار الخامس'!FW12,"") | F10: =IFERROR(AVERAGE($E$8:$E$32),"")
C11: 4 | D11: ='احصائيات 5'!B6 -> - | E11: =IFERROR('ادخال درجات الاختبار الخامس'!FW13,"") | F11: =IFERROR(AVERAGE($E$8:$E$32),"")
C12: 5 | D12: ='احصائيات 5'!B7 -> - | E12: =IFERROR('ادخال درجات الاختبار الخامس'!FW14,"") | F12: =IFERROR(AVERAGE($E$8:$E$32),"")
C13: 6 | D13: ='احصائيات 5'!B8 -> - | E13: =IFERROR('ادخال درجات الاختبار الخامس'!FW15,"") | F13: =IFERROR(AVERAGE($E$8:$E$32),"")
C14: 7 | D14: ='احصائيات 5'!B9 -> - | E14: =IFERROR('ادخال درجات الاختبار الخامس'!FW16,"") | F14: =IFERROR(AVERAGE($E$8:$E$32),"")
C15: 8 | D15: ='احصائيات 5'!B10 -> - | E15: =IFERROR('ادخال درجات الاختبار الخامس'!FW17,"") | F15: =IFERROR(AVERAGE($E$8:$E$32),"")
C16: 9 | D16: ='احصائيات 5'!B11 -> - | E16: =IFERROR('ادخال درجات الاختبار الخامس'!FW18,"") | F16: =IFERROR(AVERAGE($E$8:$E$32),"")
C17: 10 | D17: ='احصائيات 5'!B12 -> - | E17: =IFERROR('ادخال درجات الاختبار الخامس'!FW19,"") | F17: =IFERROR(AVERAGE($E$8:$E$32),"")
C18: 11 | D18: ='احصائيات 5'!B13 -> - | E18: =IFERROR('ادخال درجات الاختبار الخامس'!FW20,"") | F18: =IFERROR(AVERAGE($E$8:$E$32),"")
C19: 12 | D19: ='احصائيات 5'!B14 -> - | E19: =IFERROR('ادخال درجات الاختبار الخامس'!FW21,"") | F19: =IFERROR(AVERAGE($E$8:$E$32),"")
... C32: 25 | D32: ='احصائيات 5'!B27 -> - | E32: =IFERROR('ادخال درجات الاختبار الخامس'!FW34,"") | F32: =IFERROR(AVERAGE($E$8:$E$32),"")

Sheet الرسم البياني للاجابات
L2: عدد الطلاب | N2: ='ادخال درجات التشخيصي'!G209 -> 4 | Q2: عدد الأسئلة | S2: ='ادخال درجات التشخيصي'!AE3 -> 20
E4: ='ادخال درجات التشخيصي'!D216 -> س1 | F4: ='ادخال درجات التشخيصي'!E216 -> س2 | G4: ='ادخال درجات التشخيصي'!F216 -> س3 | H4: ='ادخال درجات التشخيصي'!G216 -> س4 | I4: ='ادخال درجات التشخيصي'!H216 | J4: ='ادخال درجات التشخيصي'!I216 | K4: ='ادخال درجات التشخيصي'!J216 | L4: ='ادخال درجات التشخيصي'!K216 | ... AC4: ='ادخال درجات التشخيصي'!AB216
C5: عدد الاجابات الصحيحة | E5: ='ادخال درجات التشخيصي'!D217 -> 4 | F5: ='ادخال درجات التشخيصي'!E217 -> 2 | G5: ='ادخال درجات التشخيصي'!F217 -> 3 | H5: ='ادخال درجات التشخيصي'!G217 -> 4 | I5: ='ادخال درجات التشخيصي'!H217 | J5: ='ادخال درجات التشخيصي'!I217 | K5: ='ادخال درجات التشخيصي'!J217 | L5: ='ادخال درجات التشخيصي'!K217 | ... AC5: ='ادخال درجات التشخيصي'!AB217
C6: عدد الاجابات الخاطئة | E6: ='ادخال درجات التشخيصي'!D220 -> 0 | F6: ='ادخال درجات التشخيصي'!E220 -> 2 | G6: ='ادخال درجات التشخيصي'!F220 -> 1 | H6: ='ادخال درجات التشخيصي'!G220 -> 0 | I6: ='ادخال درجات التشخيصي'!H220 -> 0 | J6: ='ادخال درجات التشخيصي'!I220 -> 0 | K6: ='ادخال درجات التشخيصي'!J220 -> 0 | L6: ='ادخال درجات التشخيصي'!K220 -> 0 | ... AC6: ='ادخال درجات التشخيصي'!AB220 -> 0
C7: نسبة الاستجابات الصحيحة | E7: =E5/$N$2 -> 1 | F7: =F5/$N$2 -> 0.5 | G7: =G5/$N$2 -> 0.75 | H7: =H5/$N$2 -> 1 | I7: =I5/$N$2 -> #VALUE! | J7: =J5/$N$2 -> #VALUE! | K7: =K5/$N$2 -> #VALUE! | L7: =L5/$N$2 -> #VALUE! | ... AC7: =AC5/$N$2 -> #VALUE!
C8: نسبة الاستجابات الخاطئة | E8: =IFERROR(E6/$N$2,"") -> 0 | F8: =IFERROR(F6/$N$2,"") -> 0.5 | G8: =IFERROR(G6/$N$2,"") -> 0.25 | H8: =IFERROR(H6/$N$2,"") -> 0 | I8: =IFERROR(I6/$N$2,"") -> 0 | J8: =IFERROR(J6/$N$2,"") -> 0 | K8: =IFERROR(K6/$N$2,"") -> 0 | L8: =IFERROR(L6/$N$2,"") -> 0 | ... AC8: =IFERROR(AC6/$N$2,"") -> 0

Sheet ورقة6
A2: المجال | B2: المجال الفرعي | C2: نواتج التعلم | D2: المؤشرات | G2: المجال | I2: المجال | J2: المجال الفرعي | L2: المجال الفرعي | M2: نواتج التعلم | O2: نواتج التعلم | P2: المؤشرات
A3: الأعداد والعمليات عليها | B3: الأعداد ومجموعات الأعداد | C3: وصــف الأعداد ضمــن 12 منزلة، وتمثيــل الأعداد، وقراءتهــا وكتابتهــا، والمقارنــة بينهــا، وترتيبهــا، وتقريبهــا | D3: يميز القيمة المنزلية لرقم في عدد ضمن 12 منزلة، ويمثل الأعداد باستخدام الرسوم وخط الأعداد ويقربها إلى أقرب منزلة معطاة | G3: الأعداد والعمليات عليها | I3: الأعداد والعمليات عليها | J3: الأعداد ومجموعات الأعداد | L3: العمليات على الأعداد، والحس العددي | M3: تقديــر نواتــج العمليــات الأربــع علــى الأعــداد الكليــة، والكســور ،واســتخدام الحســاب الذهنــي | O3: تقديــر نواتــج العمليــات الأربــع علــى الأعــداد الكليــة، والكســور ،واســتخدام الحســاب الذهنــي | P3: يقــدر نواتــج جمــع الأعــداد الكليــة، والكســور الاعتياديــة والأعــداد الكســرية، والكســور العشــرية، وطرحهــا وضربهــا وقســمتها باســتخدام التقريــب أو الأعــداد المتناغمــة
A4: الأعداد والعمليات عليها | B4: الأعداد ومجموعات الأعداد | C4: وصــف الأعداد ضمــن 12 منزلة، وتمثيــل الأعداد، وقراءتهــا وكتابتهــا، والمقارنــة بينهــا، وترتيبهــا، وتقريبهــا | D4: يقرأ الأعداد ضمن 12 منزلة، ويكتبها في الصور القياسية واللفظية والتحليلية | G4: الجبر والتحليل | I4: الأعداد والعمليات عليها | J4: العمليات على الأعداد، والحس العددي | L4: الأعداد ومجموعات الأعداد | M4: وصــف الأعداد ضمــن 12 منزلة، وتمثيــل الأعداد، وقراءتهــا وكتابتهــا، والمقارنــة بينهــا، وترتيبهــا، وتقريبهــا | O4: تقديــر نواتــج العمليــات الأربــع علــى الأعــداد الكليــة، والكســور ،واســتخدام الحســاب الذهنــي | P4: . يستخدم الحساب الذهني لإيجاد حاصل ضرب عدد من منزلتين على الأكثر، وقسمته، في / على مضاعفات (10، 001، 1000)
A5: الأعداد والعمليات عليها | B5: الأعداد ومجموعات الأعداد | C5: وصــف الأعداد ضمــن 12 منزلة، وتمثيــل الأعداد، وقراءتهــا وكتابتهــا، والمقارنــة بينهــا، وترتيبهــا، وتقريبهــا | D5: يقارن بين الأعداد ضمن 12 منزلة باستخدام الرموز(>،<،=) ويرتبها تصاعدياً وتنازلياً | G5: الهندسة والقياس | I5: الإحصاء والاحتمالات | J5: الإحصاء والتمثيات البيانية | L5: حساب الاحتمالات | M5: وصف التجربة العشوائية وإيجاد نواتجها، وتميز الحادثة، والتعبير عن احتمالات وقوعها | O5: تقديــر نواتــج العمليــات الأربــع علــى الأعــداد الكليــة، والكســور ،واســتخدام الحســاب الذهنــي | P5: يستخدم خاصية التوزيع لضرب عدد من منزلتين في عدد من منزلة واحدة ذهنيًّا
A6: الأعداد والعمليات عليها | B6: الأعداد ومجموعات الأعداد | C6: تمييز الكسور الاعتيادية والأعداد الكسرية والكسورغير الفعلية، وتمثيلها، وقراءتها، وكتابتها، والمقارنة بينها وترتيبها، وتقريبها | D6: يميز الكسر الاعتيادي، ويمثله باستخدام النماذج والرسوم وخط الأعداد ويقرؤه ويكتبه | G6: الإحصاء والاحتمالات | I6: الإحصاء والاحتمالات | J6: تحليل البيانات، وتفسيرها | L6: البنى الجبرية والعبارات الرياضية | M6: وصــف العبــارات العدديــة والجبريــة، وتمييــز المعادلــة الخطيــة البســيطة، وكتابتهــا، وإيجــاد قيمهــا ،واســتخدامها فــي حــل مســائل رياضيــة | O6: تقديــر نواتــج العمليــات الأربــع علــى الأعــداد الكليــة، والكســور ،واســتخدام الحســاب الذهنــي | P6: . يســتخدم الحســاب الذهنــي لضــرب الكســور العشــرية حتــى الجــزء مــن ألــف، ويقســمها في/علــى (10، 001، 1000)
A7: الأعداد والعمليات عليها | B7: الأعداد ومجموعات الأعداد | C7: تمييز الكسور الاعتيادية والأعداد الكسرية والكسورغير الفعلية، وتمثيلها، وقراءتها، وكتابتها، والمقارنة بينها وترتيبها، وتقريبها | D7: يوجد الكسور المكافئة لكسر، ويكتب كسراً في أبسط صورة، ويقربها إلى الصفر أو النصف أو الواحد | I7: الإحصاء والاحتمالات | J7: حساب الاحتمالات | L7: إحداثيات والتحويات الهندسية | M7: استخدام المستوى الإحداثي لتسمية المواقع، وتعيينها، ووصف التحويات الهندسية، وإجراؤها | O7: تقديــر نواتــج العمليــات الأربــع علــى الأعــداد الكليــة، والكســور ،واســتخدام الحســاب الذهنــي | P7: يتحقــق مــن معقوليــة نواتــج العمليــات الأربــع علــى الأعــداد الكليــة ،والكســور الاعتياديــة والعشــرية والأعــداد الكســرية باســتخدام التقديــر التقريبــي أو الحســاب الذهنــي
A8: الأعداد والعمليات عليها | B8: الأعداد ومجموعات الأعداد | C8: تمييز الكسور الاعتيادية والأعداد الكسرية والكسورغير الفعلية، وتمثيلها، وقراءتها، وكتابتها، والمقارنة بينها وترتيبها، وتقريبها | D8: يميز العدد الكسري، ويمثله باستخدام النماذج والرسوم وخط الأعداد ويقرؤه ويكتبه | I8: الجبر والتحليل | J8: الأنماط والعلاقات والدوال | L8: العمليات على الأعداد، والحس العددي | M8: إجراء العمليات الأربع على الكســور الاعتياديــة والأعــداد الكســرية ،واســتخدامها فــي حــل مســائل رياضيــة | O8: وصــف الأعداد ضمــن 12 منزلة، وتمثيــل الأعداد، وقراءتهــا وكتابتهــا، والمقارنــة بينهــا، وترتيبهــا، وتقريبهــا | P8: يميز القيمة المنزلية لرقم في عدد ضمن 12 منزلة، ويمثل الأعداد باستخدام الرسوم وخط الأعداد ويقربها إلى أقرب منزلة معطاة
A9: الأعداد والعمليات عليها | B9: الأعداد ومجموعات الأعداد | C9: تمييز الكسور الاعتيادية والأعداد الكسرية والكسورغير الفعلية، وتمثيلها، وقراءتها، وكتابتها، والمقارنة بينها وترتيبها، وتقريبها | D9: يميز الكسر غير الفعلي، ويحوله إلى عدد كسري والعكس | I9: الجبر والتحليل | J9: البنى الجبرية والعبارات الرياضية | L9: الأنماط والعلاقات والدوال | M9: تمييــز أنمــاط عدديــة ،وهندســية متناميــة، والعاقــة فــي جدول، ووصفها، وتوسيعها، وتكوينها ،واســتخدامها فــي حــل مســائل رياضيــة | O9: وصــف الأعداد ضمــن 12 منزلة، وتمثيــل الأعداد، وقراءتهــا وكتابتهــا، والمقارنــة بينهــا، وترتيبهــا، وتقريبهــا | P9: يقرأ الأعداد ضمن 12 منزلة، ويكتبها في الصور القياسية واللفظية والتحليلية
A10: الأعداد والعمليات عليها | B10: الأعداد ومجموعات الأعداد | C10: تمييز الكسور الاعتيادية والأعداد الكسرية والكسورغير الفعلية، وتمثيلها، وقراءتها، وكتابتها، والمقارنة بينها وترتيبها، وتقريبها | D10: يقارن بين الكسور والأعداد الكسرية ويرتبها تصاعدياً وتنازلياً | I10: الهندسة والقياس | J10: (الأشكال الهندسية) | L10: القياس ووحداته | M10: تمييز العلاقات بين وحدات الطــول والكتلــة والســعة والزمــن ،واســتخدامها فــي التحويــات بينهــا | O10: وصــف الأعداد ضمــن 12 منزلة، وتمثيــل الأعداد، وقراءتهــا وكتابتهــا، والمقارنــة بينهــا، وترتيبهــا، وتقريبهــا | P10: يقارن بين الأعداد ضمن 12 منزلة باستخدام الرموز(>،<،=) ويرتبها تصاعدياً وتنازلياً
A11: الأعداد والعمليات عليها | B11: الأعداد ومجموعات الأعداد | C11: وصف الكسور العشرية. وتمثيلها، وتمييز القيمة المنزلية لرقم فيها، وقراءتها، وكتابتها، والمقارنة بينها وترتيبها، وتقريبها. والتحويل بينها وبين الكسور الاعتيادية والأعداد الكسرية | D11: يصف الكسر العشري، ويمتلك باستخدام النماذج والرسوم وخط الأعداد ويميز القيمة المنزلية لرقم في كسر عشري ويقرب هذه الكسور إلى أقرب عدد كلي، أو إلى أقرب منزلة معطاة | I11: الهندسة والقياس | J11: تمييزالأشكال الهندسية ثنائية الأبعاد وثلاثية الأبعاد، وتسميتها، وتصنيفها وفًقًا لخصائص عناصرها، ورسمه | L11: الأعداد ومجموعات الأعداد | M11: تمييز الكسور الاعتيادية والأعداد الكسرية والكسورغير الفعلية، وتمثيلها، وقراءتها، وكتابتها، والمقارنة بينها وترتيبها، وتقريبها | O11: وصف التجربة العشوائية وإيجاد نواتجها، وتميز الحادثة، والتعبير عن احتمالات وقوعها | P11: يصف نواتج التجربة العشوائية الممكنة، ويوجد عددها باستخدام الجداول، والقوائم المنظمة، والرسم الشجري، ومبدأ العد
A12: الأعداد والعمليات عليها | B12: الأعداد ومجموعات الأعداد | C12: وصف الكسور العشرية. وتمثيلها، وتمييز القيمة المنزلية لرقم فيها، وقراءتها، وكتابتها، والمقارنة بينها وترتيبها، وتقريبها. والتحويل بينها وبين الكسور الاعتيادية والأعداد الكسرية | D12: يقرأ الكسور العشرية ويكتبها في الصور القياسية واللفظية والتحليلية | I12: الهندسة والقياس | J12: إحداثيات والتحويات الهندسية | L12: تمييزالأشكال الهندسية ثنائية الأبعاد وثلاثية الأبعاد، وتسميتها، وتصنيفها وفًقًا لخصائص عناصرها، ورسمه | M12: تمييز خصائص أشكال هندسية ثنائية الأبعاد وثاثية الأبعاد، وتحديد عناصرها، وتصنيفها. | O12: وصف التجربة العشوائية وإيجاد نواتجها، وتميز الحادثة، والتعبير عن احتمالات وقوعها | P12: يميز الحادثة، ويعبر عن احتمال وقوعها باستخدام الكلمات، والكسور الاعتيادية والعشرية، والنسب المئوية
A13: الأعداد والعمليات عليها | B13: الأعداد ومجموعات الأعداد | C13: وصف الكسور العشرية. وتمثيلها، وتمييز القيمة المنزلية لرقم فيها، وقراءتها، وكتابتها، والمقارنة بينها وترتيبها، وتقريبها. والتحويل بينها وبين الكسور الاعتيادية والأعداد الكسرية | D13: يقارن بين الكسور العشرية، ويرتبها تصاعدياً، وتنازلياً | I13: الهندسة والقياس | J13: القياس ووحداته | L13: القياس ووحداته | M13: تمييــز صيــغ المحيــط والمســاحة لأشــكال ثنائيــة الأبعــاد، واســتخدامها فــي إيجــاد المحيــط والمســاحة، وفــي حــل مســائل رياضيــة | O13: وصف التجربة العشوائية وإيجاد نواتجها، وتميز الحادثة، والتعبير عن احتمالات وقوعها | P13: يحل مسائل رياضية تتضمن تطبيقات حياتية على نوائح التجربة العشوائية واحتمال حادثة، ويستخدمها للتنبؤ، ويفسر حلها.
A14: الأعداد والعمليات عليها | B14: الأعداد ومجموعات الأعداد | C14: وصف الكسور العشرية. وتمثيلها، وتمييز القيمة المنزلية لرقم فيها، وقراءتها، وكتابتها، والمقارنة بينها وترتيبها، وتقريبها. والتحويل بينها وبين الكسور الاعتيادية والأعداد الكسرية | D14: يحول بين الكسور العشرية والكسور الاعتيادية، والأعداد الكسرية | L14: العمليات على الأعداد، والحس العددي | M14: جمع الأعداد الكلية ضمن سبع منازل وطرحها، وضرب الأعداد من ثلاث منازل على الأكثر، وقسمة الأعداد من أربع منازل على الأكثر على أعداد من منزلتين على الأكثر. واستخدامها في حل مسائل رياضية | O14: وصــف العبــارات العدديــة والجبريــة، وتمييــز المعادلــة الخطيــة البســيطة، وكتابتهــا، وإيجــاد قيمهــا ،واســتخدامها فــي حــل مســائل رياضيــة | P14: يصف العبارة العددية، ويكتبها بحيث تتضمن قوى (أسّها عدد كلي) وأقواسًا، ويوجد قيمتها باستخدام ترتيب العمليات
A15: الأعداد والعمليات عليها | B15: العمليات على الأعداد، والحس العددي | C15: جمع الأعداد الكلية ضمن سبع منازل وطرحها، وضرب الأعداد من ثلاث منازل على الأكثر، وقسمة الأعداد من أربع منازل على الأكثر على أعداد من منزلتين على الأكثر. واستخدامها في حل مسائل رياضية | D15: يجمع الأعداد ضمن سبع منازل ويطرحها (دون إعادة التجميع ومعه) | L15: العمليات على الأعداد، والحس العددي | M15: جمــع الكســور العشــرية ،وطرحهــا، وضربهــا، وقســمتها ،واســتخدامها فــي حــل مســائل رياضيــة | O15: وصــف العبــارات العدديــة والجبريــة، وتمييــز المعادلــة الخطيــة البســيطة، وكتابتهــا، وإيجــاد قيمهــا ،واســتخدامها فــي حــل مســائل رياضيــة | P15: يصف العبارة الجبرية، ويكتبها بحيث تتضمن عمليتين على الأكثر مع استخدام الأقواس، ويوجد قيمتها باستخدام ترتيب العمليات
A16: الأعداد والعمليات عليها | B16: العمليات على الأعداد، والحس العددي | C16: جمع الأعداد الكلية ضمن سبع منازل وطرحها، وضرب الأعداد من ثلاث منازل على الأكثر، وقسمة الأعداد من أربع منازل على الأكثر على أعداد من منزلتين على الأكثر. واستخدامها في حل مسائل رياضية | D16: يضرب عددًا من ثلاث منازل على الأكثر في عدد من منزلتين على الأكثر أدون ومع إعادة التجميع باستخدام الاستراتيجيات المعتمدة على القيمة المنزلية | L16: الإحصاء والتمثيات البيانية | M16: جـمــــع بيانـــات كـمــــيــــة ونوعيـــة واقعيـــة، وتنظيمهـــا، وتمثيلهـــا بالنقاط، والخطوط البيانية، والأعمدة، والقطــــــاعــات الدائــــريـة، وقــراءة تلك التمثيـلات، وتفســـيرها | O16: وصــف العبــارات العدديــة والجبريــة، وتمييــز المعادلــة الخطيــة البســيطة، وكتابتهــا، وإيجــاد قيمهــا ،واســتخدامها فــي حــل مســائل رياضيــة | P16: يصــف المعادلــة، ويميــز المعادلــة الخطيــة البســيطة (ذات الخطــوة الواحــدة)، ويكتبهــا
A17: الأعداد والعمليات عليها | B17: العمليات على الأعداد، والحس العددي | C17: جمع الأعداد الكلية ضمن سبع منازل وطرحها، وضرب الأعداد من ثلاث منازل على الأكثر، وقسمة الأعداد من أربع منازل على الأكثر على أعداد من منزلتين على الأكثر. واستخدامها في حل مسائل رياضية | D17: يقسم عدد من أربع منازل على الأكثر على عدد من منزلتين على الأكثر (دون باق وسباق) باستخدام الاستراتيجيات المعتمدة على القيمة المنزلية | L17: القياس ووحداته | M17: وصــف الحجــم والمســاحة الســطحية، وتمييــز صيغهــا، ووحداتهــا ،واســتخدامها فــي حــل مســائل رياضيــة | O17: وصــف العبــارات العدديــة والجبريــة، وتمييــز المعادلــة الخطيــة البســيطة، وكتابتهــا، وإيجــاد قيمهــا ،واســتخدامها فــي حــل مســائل رياضيــة | P17: يحّلّ معادلة خطية بسيطة ذهنيًّا وكتابيًّا وباستخدام النماذج، ويتحقق من صحة الحل
A18: الأعداد والعمليات عليها | B18: العمليات على الأعداد، والحس العددي | C18: جمع الأعداد الكلية ضمن سبع منازل وطرحها، وضرب الأعداد من ثلاث منازل على الأكثر، وقسمة الأعداد من أربع منازل على الأكثر على أعداد من منزلتين على الأكثر. واستخدامها في حل مسائل رياضية | D18: يحل مسائل رياضية من ثلاث خطوات على الأكثر تتضمن تطبيقات حياتية على العمليات الأربع ويفسر حلها | L18: الأعداد ومجموعات الأعداد | M18: وصف الكسور العشرية. وتمثيلها، وتمييز القيمة المنزلية لرقم فيها، وقراءتها، وكتابتها، والمقارنة بينها وترتيبها، وتقريبها. والتحويل بينها وبين الكسور الاعتيادية والأعداد الكسرية | O18: وصــف العبــارات العدديــة والجبريــة، وتمييــز المعادلــة الخطيــة البســيطة، وكتابتهــا، وإيجــاد قيمهــا ،واســتخدامها فــي حــل مســائل رياضيــة | P18: يحــل مســائل رياضيــة تتضمــن تطبيقــات حياتيــة علــى العبــارات العدديــة ،والجبريــة، والمعــادلات الخطيــة البســيطة، ويفســر حلهــا
A19: الأعداد والعمليات عليها | B19: العمليات على الأعداد، والحس العددي | C19: وصف عوامل عدد ومضاعفاته، وتمثيلها، وإيجادها، واستخدامها في حل مسائل رياضية | D19: يوجد عوامل العدد، ويمثلها باستخدام النماذج والرسوم | L19: (الأشكال الهندسية) | M19: وصف المفاهيم الهندسية الأولية، وتمييزها، ووصف الزاوية ،وتمييز العلاقات بين المستقيمات ،وبين الزوايا | O19: استخدام المستوى الإحداثي لتسمية المواقع، وتعيينها، ووصف التحويات الهندسية، وإجراؤها | P19: يسمي مواقع نقاط في المستوى الإحداثي (الربع الأول) باستخدام الأزواج المرتبة، ويعينها
A20: الأعداد والعمليات عليها | B20: العمليات على الأعداد، والحس العددي | C20: وصف عوامل عدد ومضاعفاته، وتمثيلها، وإيجادها، واستخدامها في حل مسائل رياضية | D20: يوجد مضاعفات العدد، ويمثلها باستخدام النماذج والرسوم | L20: العمليات على الأعداد، والحس العددي | M20: وصف النسبة، والمعدل، والنسبة المئوية، والتناسب، وتمثيلها، والتعبير عنها، والتمييز بينها، وإيجادها. واستخدامها في حل مسائل رياضية | O20: استخدام المستوى الإحداثي لتسمية المواقع، وتعيينها، ووصف التحويات الهندسية، وإجراؤها | P20: يرســم أشــكالًا هندســية ومضلعــات فــي المســتوى الإحداثــي (الربــع الأول) بمعلوميــة إحداثيــات الــرؤوس
A21: الأعداد والعمليات عليها | B21: العمليات على الأعداد، والحس العددي | C21: وصف عوامل عدد ومضاعفاته، وتمثيلها، وإيجادها، واستخدامها في حل مسائل رياضية | D21: يصف العدد الأولى، ويملكه باستخدام النماذج، والرسوم، ويميزه عن العدد غير الأولى، ويحلل عددا إلى عواملة الأولية | L21: العمليات على الأعداد، والحس العددي | M21: وصف عوامل عدد ومضاعفاته، وتمثيلها، وإيجادها، واستخدامها في حل مسائل رياضية | O21: استخدام المستوى الإحداثي لتسمية المواقع، وتعيينها، ووصف التحويات الهندسية، وإجراؤها | P21: يصــف الانســحاب، ويســتخدمه لرســم صــورة شــكل فــي المســتوى الإحداثــي (الربــع الأول)
A22: الأعداد والعمليات عليها | B22: العمليات على الأعداد، والحس العددي | C22: وصف عوامل عدد ومضاعفاته، وتمثيلها، وإيجادها، واستخدامها في حل مسائل رياضية | D22: يوجد العامل المشترك الأكبر والمضاعف المشترك الأصغر العددين أو أكثر باستخدام التحليل إلى عوامل | L22: العمليات على الأعداد، والحس العددي | M22: وصف قوى عدد كلي وتمثيلها، وإيجادها، وإيجاد قيم عبارات عددية تتضمنها، واستخدامها في حل مسائل رياضية | O22: استخدام المستوى الإحداثي لتسمية المواقع، وتعيينها، ووصف التحويات الهندسية، وإجراؤها | P22: يصــف الانعــكاس حــول محــور، ويســتخدمه لرســم صــورة شــكل فــي المســتوى الإحداثــي (الربــع الأول)
A23: الأعداد والعمليات عليها | B23: العمليات على الأعداد، والحس العددي | C23: وصف عوامل عدد ومضاعفاته، وتمثيلها، وإيجادها، واستخدامها في حل مسائل رياضية | D23: يحل مسائل رياضية تتضمن تطبيقات خيالية على العامل المشترك الأكبر والمضاعف المشترك الأصغر، ويفسر حلها | L23: تحليل البيانات، وتفسيرها | M23: وصف مقاييس النزعة المركزية والمدى، وإيجادها، وتفسيرها. واختيار المقياس الأنسب منها | O23: استخدام المستوى الإحداثي لتسمية المواقع، وتعيينها، ووصف التحويات الهندسية، وإجراؤها | P23: يصــف الــدوران حــول نقطــة، ويســتخدمه لرســم صــورة شــكل فــي المســتوى الإحداثــي (الربــع الأول)
A24: الأعداد والعمليات عليها | B24: العمليات على الأعداد، والحس العددي | C24: وصف قوى عدد كلي وتمثيلها، وإيجادها، وإيجاد قيم عبارات عددية تتضمنها، واستخدامها في حل مسائل رياضية | D24: يصف قوة عدد على أنه عدد كلي (أسه عدد كلي)، ويوجدها | O24: إجراء العمليات الأربع على الكســور الاعتياديــة والأعــداد الكســرية ،واســتخدامها فــي حــل مســائل رياضيــة | P24: يجمع الكسور الاعتيادية المتشابهة وغير المتشابهة، ويطرحها
A25: الأعداد والعمليات عليها | B25: العمليات على الأعداد، والحس العددي | C25: وصف قوى عدد كلي وتمثيلها، وإيجادها، وإيجاد قيم عبارات عددية تتضمنها، واستخدامها في حل مسائل رياضية | D25: يوجد قيم عبارات عددية تتضمن قوى باستخدام ترتيب العمليات | O25: إجراء العمليات الأربع على الكســور الاعتياديــة والأعــداد الكســرية ،واســتخدامها فــي حــل مســائل رياضيــة | P25: يجمع الأعداد الكسرية، ويطرحها بتحويلها إلى كسور غير فعلية
A26: الأعداد والعمليات عليها | B26: العمليات على الأعداد، والحس العددي | C26: وصف قوى عدد كلي وتمثيلها، وإيجادها، وإيجاد قيم عبارات عددية تتضمنها، واستخدامها في حل مسائل رياضية | D26: يحل مسائل رياضية تتضمن تطبيقات حياتية على عبارات عددية تتضمن قوى عدد كلى، ويفسر حلها | O26: إجراء العمليات الأربع على الكســور الاعتياديــة والأعــداد الكســرية ،واســتخدامها فــي حــل مســائل رياضيــة | P26: يضرب الكسور الاعتيادية، ويقسمها.
A27: الأعداد والعمليات عليها | B27: العمليات على الأعداد، والحس العددي | C27: وصف النسبة، والمعدل، والنسبة المئوية، والتناسب، وتمثيلها، والتعبير عنها، والتمييز بينها، وإيجادها. واستخدامها في حل مسائل رياضية | D27: يصف النسبة، والمعدل ويميز شهما ويمثلهما باستخدام النماذج والرسوم، ويوجدهما، ويعبر عنهما ككسور اعتيادية في أبسط صورة ويستخدمهما في المقارنة بين الكميات | O27: إجراء العمليات الأربع على الكســور الاعتياديــة والأعــداد الكســرية ،واســتخدامها فــي حــل مســائل رياضيــة | P27: يضرب الأعداد الكسرية، ويقسمها بتحويلها إلى كسور غير فعلية
A28: الأعداد والعمليات عليها | B28: العمليات على الأعداد، والحس العددي | C28: وصف النسبة، والمعدل، والنسبة المئوية، والتناسب، وتمثيلها، والتعبير عنها، والتمييز بينها، وإيجادها. واستخدامها في حل مسائل رياضية | D28: يميز النسبة المئوية، ويمثلها باستخدام النماذج، والرسوم، ويوجدها ،ويعبر عنها ككسر عشري أو اعتيادي في أبسط صورة | O28: إجراء العمليات الأربع على الكســور الاعتياديــة والأعــداد الكســرية ،واســتخدامها فــي حــل مســائل رياضيــة | P28: يحل مسائل رياضية من ثلاث خطوات على الأكثر تتضمن تطبيقات حياتية على العمليات الأربع على الكسور والأعداد الكسرية، ويفسر حلها
A29: الأعداد والعمليات عليها | B29: العمليات على الأعداد، والحس العددي | C29: وصف النسبة، والمعدل، والنسبة المئوية، والتناسب، وتمثيلها، والتعبير عنها، والتمييز بينها، وإيجادها. واستخدامها في حل مسائل رياضية | D29: . يصف التناسب، ويمثله باستخدام النماذج والرسوم، ويحدد الكميات المتناسبة، ويحل التناسب. | O29: تمييــز أنمــاط عدديــة ،وهندســية متناميــة، والعاقــة فــي جدول، ووصفها، وتوسيعها، وتكوينها ،واســتخدامها فــي حــل مســائل رياضيــة | P29: يميــز أنماًطًــا عدديــةً متناميــة، ويصفهــا، ويوســعها، ويكمــل العناصــر المفقــودة فيهــا، ويكونهــا، ويعممهــا
A30: الأعداد والعمليات عليها | B30: العمليات على الأعداد، والحس العددي | C30: وصف النسبة، والمعدل، والنسبة المئوية، والتناسب، وتمثيلها، والتعبير عنها، والتمييز بينها، وإيجادها. واستخدامها في حل مسائل رياضية | D30: . يحــل مســائل رياضيــة تتضمــن تطبيقــات حياتيــة علــى النســبة والمعــدل والنســبة المئويــة والتناســب، ويفســر حلهــا. | O30: تمييــز أنمــاط عدديــة ،وهندســية متناميــة، والعاقــة فــي جدول، ووصفها، وتوسيعها، وتكوينها ،واســتخدامها فــي حــل مســائل رياضيــة | P30: يميز أنماًطًا هندسيةً متنامية )متزايدة أو متناقصة بمقدار غير ثابت( ،ويصفهــا، ويوســعها، ويكمــل العناصــر المفقــودة فيهــا، ويكونهــا ، ويعممهــا
A31: الأعداد والعمليات عليها | B31: العمليات على الأعداد، والحس العددي | C31: إجراء العمليات الأربع على الكســور الاعتياديــة والأعــداد الكســرية ،واســتخدامها فــي حــل مســائل رياضيــة | D31: يجمع الكسور الاعتيادية المتشابهة وغير المتشابهة، ويطرحها | O31: تمييــز أنمــاط عدديــة ،وهندســية متناميــة، والعاقــة فــي جدول، ووصفها، وتوسيعها، وتكوينها ،واســتخدامها فــي حــل مســائل رياضيــة | P31: يصــف العلاقــة بيــن مجموعتيــن مــن البيانــات فــي جــدول المدخــلات والمخرجات، ويعبر عنها بالكلمات، والرموز، والأزواج المرتبة، ويمثلها فــي المســتوى الإحداثــي
A32: الأعداد والعمليات عليها | B32: العمليات على الأعداد، والحس العددي | C32: إجراء العمليات الأربع على الكســور الاعتياديــة والأعــداد الكســرية ،واســتخدامها فــي حــل مســائل رياضيــة | D32: يجمع الأعداد الكسرية، ويطرحها بتحويلها إلى كسور غير فعلية | O32: تمييــز أنمــاط عدديــة ،وهندســية متناميــة، والعاقــة فــي جدول، ووصفها، وتوسيعها، وتكوينها ،واســتخدامها فــي حــل مســائل رياضيــة | P32: يكــون جــدول المدخــلات والمخرجــات، ويكملهــا، وفــق عــدة معطــاة تتضمــن عمليتيــن علــى الأكثــر
A33: الأعداد والعمليات عليها | B33: العمليات على الأعداد، والحس العددي | C33: إجراء العمليات الأربع على الكســور الاعتياديــة والأعــداد الكســرية ،واســتخدامها فــي حــل مســائل رياضيــة | D33: يضرب الكسور الاعتيادية، ويقسمها. | O33: تمييــز أنمــاط عدديــة ،وهندســية متناميــة، والعاقــة فــي جدول، ووصفها، وتوسيعها، وتكوينها ،واســتخدامها فــي حــل مســائل رياضيــة | P33: يحل مسائل رياضية تتضمن تطبيقات حياتية لأنماط عددية وهندسية متنامية، وعلاقات، ويفسر حلها
A34: الأعداد والعمليات عليها | B34: العمليات على الأعداد، والحس العددي | C34: إجراء العمليات الأربع على الكســور الاعتياديــة والأعــداد الكســرية ،واســتخدامها فــي حــل مســائل رياضيــة | D34: يضرب الأعداد الكسرية، ويقسمها بتحويلها إلى كسور غير فعلية | O34: تمييز العلاقات بين وحدات الطــول والكتلــة والســعة والزمــن ،واســتخدامها فــي التحويــات بينهــا | P34: . يحــدد وحــدة القيــاس الأنســب مــن وحــدات القيــاس المتريــة للطــول والكتلــة والســعة.
A35: الأعداد والعمليات عليها | B35: العمليات على الأعداد، والحس العددي | C35: إجراء العمليات الأربع على الكســور الاعتياديــة والأعــداد الكســرية ،واســتخدامها فــي حــل مســائل رياضيــة | D35: يحل مسائل رياضية من ثلاث خطوات على الأكثر تتضمن تطبيقات حياتية على العمليات الأربع على الكسور والأعداد الكسرية، ويفسر حلها | O35: تمييز العلاقات بين وحدات الطــول والكتلــة والســعة والزمــن ،واســتخدامها فــي التحويــات بينهــا | P35: يميــز العلاقــات بيــن وحــدات الطــول المتريــة: (ســم، ملــم)، (م، ســم) ، (كلــم، م)، ويســتخدمها فــي التحويــل بينهــا.
... A75: الهندسة والقياس | B75: القياس ووحداته | C75: تمييــز صيــغ المحيــط والمســاحة لأشــكال ثنائيــة الأبعــاد، واســتخدامها فــي إيجــاد المحيــط والمســاحة، وفــي حــل مســائل رياضيــة | D75: يحــل مســائل رياضيــة تتضمــن تطبيقــات حياتيــة علــى حســاب محيطــات ومســاحات الأشــكال الهندســية، ويفســر حلهــا. | O75: وصف النسبة، والمعدل، والنسبة المئوية، والتناسب، وتمثيلها، والتعبير عنها، والتمييز بينها، وإيجادها. واستخدامها في حل مسائل رياضية | P75: يميز النسبة المئوية، ويمثلها باستخدام النماذج، والرسوم، ويوجدها ،ويعبر عنها ككسر عشري أو اعتيادي في أبسط صورة
A76: الهندسة والقياس | B76: القياس ووحداته | C76: وصــف الحجــم والمســاحة الســطحية، وتمييــز صيغهــا، ووحداتهــا ،واســتخدامها فــي حــل مســائل رياضيــة | D76: يصف الحجم، ويميز وحداته المناسبة والعلاقة بينها (الملمتر المكعب ،السنتمتر المكعب، المتر المكعب)، ويستخدمها في التحويل بينها | E76: . | O76: وصف النسبة، والمعدل، والنسبة المئوية، والتناسب، وتمثيلها، والتعبير عنها، والتمييز بينها، وإيجادها. واستخدامها في حل مسائل رياضية | P76: . يصف التناسب، ويمثله باستخدام النماذج والرسوم، ويحدد الكميات المتناسبة، ويحل التناسب.
A77: الهندسة والقياس | B77: القياس ووحداته | C77: وصــف الحجــم والمســاحة الســطحية، وتمييــز صيغهــا، ووحداتهــا ،واســتخدامها فــي حــل مســائل رياضيــة | D77: يميز صيغة حجم منشور رباعي قائم، ويستخدمها في حساب حجمه | E77: . | O77: وصف النسبة، والمعدل، والنسبة المئوية، والتناسب، وتمثيلها، والتعبير عنها، والتمييز بينها، وإيجادها. واستخدامها في حل مسائل رياضية | P77: . يحــل مســائل رياضيــة تتضمــن تطبيقــات حياتيــة علــى النســبة والمعــدل والنســبة المئويــة والتناســب، ويفســر حلهــا.
A78: الهندسة والقياس | B78: القياس ووحداته | C78: وصــف الحجــم والمســاحة الســطحية، وتمييــز صيغهــا، ووحداتهــا ،واســتخدامها فــي حــل مســائل رياضيــة | D78: يميز صيغة المساحة السطحية لمنشور رباعي قائم، ويستخدمها في تقدير وحساب المساحة السطحية | E78: . | O78: وصف عوامل عدد ومضاعفاته، وتمثيلها، وإيجادها، واستخدامها في حل مسائل رياضية | P78: يوجد عوامل العدد، ويمثلها باستخدام النماذج والرسوم
A79: الهندسة والقياس | B79: القياس ووحداته | C79: وصــف الحجــم والمســاحة الســطحية، وتمييــز صيغهــا، ووحداتهــا ،واســتخدامها فــي حــل مســائل رياضيــة | D79: يحل مسائل رياضية تتضمن تطبيقات حياتية على حساب حجم الرباعي القائم، والمساحة السطحية، ويفسر حلها | E79: . | O79: وصف عوامل عدد ومضاعفاته، وتمثيلها، وإيجادها، واستخدامها في حل مسائل رياضية | P79: يوجد مضاعفات العدد، ويمثلها باستخدام النماذج والرسوم
A80: الإحصاء والاحتمالات | B80: الإحصاء والتمثيات البيانية | C80: جـمــــع بيانـــات كـمــــيــــة ونوعيـــة واقعيـــة، وتنظيمهـــا، وتمثيلهـــا بالنقاط، والخطوط البيانية، والأعمدة، والقطــــــاعــات الدائــــريـة، وقــراءة تلك التمثيـلات، وتفســـيرها | D80: يجمــع بيانــات كميــة ونوعيــة واقعيــة، وينظمهــا فــي جــداول تكراريــة ، ويمثلها باستخدام النقاط والخطوط البيانية، والأعمدة، والقطاعات الدائريــة. | O80: وصف عوامل عدد ومضاعفاته، وتمثيلها، وإيجادها، واستخدامها في حل مسائل رياضية | P80: يصف العدد الأولى، ويملكه باستخدام النماذج، والرسوم، ويميزه عن العدد غير الأولى، ويحلل عددا إلى عواملة الأولية
...

Sheet المجالات والمؤشرات
C2: مهارات الرياضيات الصف الثالث - نافس ( اختر المهاارة المستهدفة بالسؤال )
B6: المستوى | C6: وصف المستوى | R6: 1 | S6: ='تحديد المجالات'!AM7 -> -
B7: المرتفع | C7: قراءة الأعداد ضمن عشرات الألوف وكتابتها | R7: 2 | S7: ='تحديد المجالات'!AM8 -> -
B8: المرتفع | C8: مقارنة الأعداد ضمن عشرات الألوف وترتيبها | R8: 3 | S8: ='تحديد المجالات'!AM9 -> -
B9: المرتفع | C9: التمكن من خصائص الطرح والجمع والضرب والقسمة | R9: 4 | S9: ='تحديد المجالات'!AM10 -> -
B10: المرتفع | C10: التعرف على مهارات القياس ( الحجم ، الكتلة ، الطول ) | R10: 5 | S10: ='تحديد المجالات'!AM11 -> -
B11: المرتفع | C11: الإلمام بمبادئ المهارات العلمية المتناسبة مع المرحلة ( التصنيف ، المقارنة ، الاستنتاج ... ) | R11: 6 | S11: ='تحديد المجالات'!AM12 -> -
R12: 7 | S12: ='تحديد المجالات'!AM13 -> -
R13: 8 | S13: ='تحديد المجالات'!AM14 -> -
R14: 9 | S14: ='تحديد المجالات'!AM15 -> -
R15: 10 | S15: ='تحديد المجالات'!AM16 -> -
R16: 11 | S16: ='تحديد المجالات'!AM17 -> -
R17: 12 | S17: ='تحديد المجالات'!AM18 -> -
R18: 13 | S18: ='تحديد المجالات'!AM19 -> -
R19: 14 | S19: ='تحديد المجالات'!AM20 -> -
R20: 15 | S20: ='تحديد المجالات'!AM21 -> -
R21: 16 | S21: ='تحديد المجالات'!AM22 -> -
R22: 17 | S22: ='تحديد المجالات'!AM23 -> -
R23: 18 | S23: ='تحديد المجالات'!AM24 -> -
... R28: 23 | S28: ='تحديد المجالات'!AM29 -> -
I29: =#REF! -> #REF! | R29: 24 | S29: ='تحديد المجالات'!AM30 -> -
R30: 25 | S30: ='تحديد المجالات'!AM31 -> -
R31: 26 | S31: ='تحديد المجالات'!AM32 -> -
R32: 27 | S32: ='تحديد المجالات'!AM33 -> -
R33: 28 | S33: ='تحديد المجالات'!AM34 -> -
R34: 29 | S34: ='تحديد المجالات'!AM35 -> -
R35: 30 | S35: ='تحديد المجالات'!AM36 -> -
R36: 31 | S36: ='تحديد المجالات'!AM37 -> -
R37: 32 | S37: ='تحديد المجالات'!AM38 -> -
R38: 33 | S38: ='تحديد المجالات'!AM39 -> -
R39: 34 | S39: ='تحديد المجالات'!AM40 -> -
R40: 35 | S40: ='تحديد المجالات'!AM41 -> -
R41: 36 | S41: ='تحديد المجالات'!AM42 -> -
... R176: 171 | S176: ='تحديد المجالات'!AM177 -> -
S177: ='تحديد المجالات'!AM178 -> -

Sheet س 1
J10: لطباعة النموذج بعد كتابة الأسئلة - ضلل الأسئلة ثم طباعة - طباعة التحديد
A13: م | B13: المؤشرات التي تم تحديدها للاختبار | I13: الاختبار الاول - نافس اسم الطالب : | W13: الصف | X13: ='مج 1'!G5 -> 0 | AD13: بنك الأسئلة ( لاضافة سؤال جديد أو تعديل صيغة سؤال )
A14: 1 | B14: =IF('مج 1'!G6="","",'مج 1'!G6) | I14: س1 | AC14: 1 | AD14: ماهو العدد المفقود في الصيغة التحليلية ( 4 + 10 + ....... + 6000 = 6314 ) | AZ14: {=TRANSPOSE(B14:G63)} | BA14: 0 | BC14: 0 | BE14: 0 | BG14: 0 | BI14: 0 | BK14: 0 | BM14: 0 | BO14: 0 | BQ14: 0 | BS14: 0 | BU14: 0 | BW14: 0 | BY14: 0 | CA14: 0 | CC14: 0 | CE14: 0 | CG14: 0 | CI14: 0 | CK14: 0 | CM14: 0 | CO14: 0 | CQ14: 0 | CS14: 0 | CU14: 0 | CW14: 0
J15: أ | N15: ب | R15: ج | V15: د | AC15: 2 | AD15: أكبر عدد فيما يلي هو : 5099 ، 5009 ، 9005 ، 5959 | AZ15: 0 | BA15: 0 | BB15: 0 | BC15: 0 | BD15: 0 | BE15: 0 | BF15: 0 | BG15: 0 | BH15: 0 | BI15: 0 | BJ15: 0 | BK15: 0 | BL15: 0 | BM15: 0 | BN15: 0 | BO15: 0 | BP15: 0 | BQ15: 0 | BR15: 0 | BS15: 0 | BT15: 0 | BU15: 0 | BV15: 0 | BW15: 0 | BX15: 0 | BY15: 0 | BZ15: 0 | CA15: 0 | CB15: 0 | CC15: 0 | CD15: 0 | CE15: 0 | CF15: 0 | CG15: 0 | CH15: 0 | CI15: 0 | CJ15: 0 | CK15: 0 | CL15: 0 | CM15: 0 | CN15: 0 | CO15: 0 | CP15: 0 | CQ15: 0 | CR15: 0 | CS15: 0 | CT15: 0 | CU15: 0 | CV15: 0 | CW15: 0
A16: 2 | B16: =IF('مج 1'!G7="","",'مج 1'!G7) | I16: س2 | AC16: 3 | AD16: زرع بدر 65% من مساحة حديقته ، والكسر الاعتيادي الذي يمثل المنطقة التي لم يزرعها ؟ | AZ16: 0 | BA16: 0 | BB16: 0 | BC16: 0 | BD16: 0 | BE16: 0 | BF16: 0 | BG16: 0 | BH16: 0 | BI16: 0 | BJ16: 0 | BK16: 0 | BL16: 0 | BM16: 0 | BN16: 0 | BO16: 0 | BP16: 0 | BQ16: 0 | BR16: 0 | BS16: 0 | BT16: 0 | BU16: 0 | BV16: 0 | BW16: 0 | BX16: 0 | BY16: 0 | BZ16: 0 | CA16: 0 | CB16: 0 | CC16: 0 | CD16: 0 | CE16: 0 | CF16: 0 | CG16: 0 | CH16: 0 | CI16: 0 | CJ16: 0 | CK16: 0 | CL16: 0 | CM16: 0 | CN16: 0 | CO16: 0 | CP16: 0 | CQ16: 0 | CR16: 0 | CS16: 0 | CT16: 0 | CU16: 0 | CV16: 0 | CW16: 0
J17: أ | N17: ب | R17: ج | V17: د | AC17: 4 | AD17: اشترت الجوهرة تلفازا بعد التخفيض بمبلغ ( 1989 ريالا ) اذا كان السعر الأصلي للتلفاز قبل التخفيض هو ( 2499 ريالا ) فما افضل تقدير للمبلغ الذي وفرته الجوهرة عند شرائها التلفاز ؟ | AZ17: 0 | BA17: 0 | BB17: 0 | BC17: 0 | BD17: 0 | BE17: 0 | BF17: 0 | BG17: 0 | BH17: 0 | BI17: 0 | BJ17: 0 | BK17: 0 | BL17: 0 | BM17: 0 | BN17: 0 | BO17: 0 | BP17: 0 | BQ17: 0 | BR17: 0 | BS17: 0 | BT17: 0 | BU17: 0 | BV17: 0 | BW17: 0 | BX17: 0 | BY17: 0 | BZ17: 0 | CA17: 0 | CB17: 0 | CC17: 0 | CD17: 0 | CE17: 0 | CF17: 0 | CG17: 0 | CH17: 0 | CI17: 0 | CJ17: 0 | CK17: 0 | CL17: 0 | CM17: 0 | CN17: 0 | CO17: 0 | CP17: 0 | CQ17: 0 | CR17: 0 | CS17: 0 | CT17: 0 | CU17: 0 | CV17: 0 | CW17: 0
A18: 3 | B18: =IF('مج 1'!G8="","",'مج 1'!G8) | I18: س3 | AC18: 5 | AD18: أي الاعداد التالية القيمة المنزلية للرقم 7 فيه هي ( 70000 ) | AZ18: 0 | BA18: 0 | BB18: 0 | BC18: 0 | BD18: 0 | BE18: 0 | BF18: 0 | BG18: 0 | BH18: 0 | BI18: 0 | BJ18: 0 | BK18: 0 | BL18: 0 | BM18: 0 | BN18: 0 | BO18: 0 | BP18: 0 | BQ18: 0 | BR18: 0 | BS18: 0 | BT18: 0 | BU18: 0 | BV18: 0 | BW18: 0 | BX18: 0 | BY18: 0 | BZ18: 0 | CA18: 0 | CB18: 0 | CC18: 0 | CD18: 0 | CE18: 0 | CF18: 0 | CG18: 0 | CH18: 0 | CI18: 0 | CJ18: 0 | CK18: 0 | CL18: 0 | CM18: 0 | CN18: 0 | CO18: 0 | CP18: 0 | CQ18: 0 | CR18: 0 | CS18: 0 | CT18: 0 | CU18: 0 | CV18: 0 | CW18: 0
J19: أ | N19: ب | R19: ج | V19: د | AC19: 6 | AD19: يدق قلب سميرة 410 مرات في 5 دقائق ، فكم مرة يدق قلبها في الدقيقة الواحدة بهذا المعدل ؟ | AZ19: 0 | BA19: 0 | BB19: 0 | BC19: 0 | BD19: 0 | BE19: 0 | BF19: 0 | BG19: 0 | BH19: 0 | BI19: 0 | BJ19: 0 | BK19: 0 | BL19: 0 | BM19: 0 | BN19: 0 | BO19: 0 | BP19: 0 | BQ19: 0 | BR19: 0 | BS19: 0 | BT19: 0 | BU19: 0 | BV19: 0 | BW19: 0 | BX19: 0 | BY19: 0 | BZ19: 0 | CA19: 0 | CB19: 0 | CC19: 0 | CD19: 0 | CE19: 0 | CF19: 0 | CG19: 0 | CH19: 0 | CI19: 0 | CJ19: 0 | CK19: 0 | CL19: 0 | CM19: 0 | CN19: 0 | CO19: 0 | CP19: 0 | CQ19: 0 | CR19: 0 | CS19: 0 | CT19: 0 | CU19: 0 | CV19: 0 | CW19: 0
A20: 4 | B20: =IF('مج 1'!G9="","",'مج 1'!G9) | I20: س4 | AC20: 7 | AD20: المنسبة المئوية 20 % على صورة كسر اعتيادي تساوي :
J21: أ | N21: ب | R21: ج | V21: د | AC21: 8 | AD21: إذا كانت 84 كعكة تكفي لإطعام 28 طفلا ، فكم كعكة تكفي لإطعام 30 طفل ؟
A22: 5 | B22: =IF('مج 1'!G10="","",'مج 1'!G10) | I22: س5 | AC22: 9 | AD22: تسمى النقطة في المستوى الإحداثي : ( 0 ، 0 ) :
J23: أ | N23: ب | R23: ج | V23: د | AC23: 10 | AD23: تقع النقطة ( 0 ، 7 ) على المستوى الاحداثي فوق محور :
A24: 6 | B24: =IF('مج 1'!G11="","",'مج 1'!G11) | I24: س6 | AC24: 11 | AD24: تستهلك سيارة سعود 99 لترا من البنززين في اليوم ، فكم لترا ستستلكه في أسبوع تقريبا
J25: أ | N25: ب | R25: ج | V25: د | AC25: 12 | AD25: الوسيط لمجموعة الاعداد : 23 ، 21 ، 27 ، 36 ، 44 هو
A26: 7 | B26: =IF('مج 1'!G12="","",'مج 1'!G12) | I26: س7 | AC26: 13 | AD26: الوحدة المناسبة لقياس طول شجرة هي :
J27: أ | N27: ب | R27: ج | V27: د | AC27: 14 | AD27: 0.9 - 0.3 =
A28: 8 | B28: =IF('مج 1'!G13="","",'مج 1'!G13) | I28: س8 | AC28: 15 | AD28: مربع محيطه 16 سم ، مساحته بالسنتيمتر المربع تساوي :
J29: أ | N29: ب | R29: ج | V29: د | AC29: 16 | AD29: تريد سلمى أن تزور ثلاث مواقع انترنت فبكم ترتيب يمكنها زيارة هذه المواقع .
A30: 9 | B30: =IF('مج 1'!G14="","",'مج 1'!G14) | I30: س9 | AC30: 17 | AD30: مدرج يتكون من 8 صفوف يتسع كل منها ل 25 شخص ، اذا كان المدرج مليئا بالاشخاص فكم شخصا في المدرج ؟
J31: أ | N31: ب | R31: ج | V31: د | AC31: 18 | AD31: وعاد سعته 3 لتر اذا تم تعبئته بكوب سعته 300 ملليتر من الماء ، فكم يحتاج محمد من كوب لملء الوعاء ؟
A32: 10 | B32: =IF('مج 1'!G15="","",'مج 1'!G15) | I32: س10 | AC32: 19 | AD32: لدى محمد مكعب حجمه 117 سم مكعب ومساحة قاعدته 13 سم مكعب فكم يكون ارتفاعه
J33: أ | N33: ب | R33: ج | V33: د | AC33: 20 | AD33: أي الاعداد التلية يكون قيمته 20000 إاذا تم تقريبه لعشرات الألوف
A34: 11 | B34: =IF('مج 1'!G16="","",'مج 1'!G16) | I34: س11 | AC34: 21 | AD34: وفر أحمد 5 ريالات في الأسبوع الأول و10 ريالات في الأسبوع الثاني ، و15 ريالا في الأسبوع الثالث ، اذا استمر بنفس النمط لمدة 6 أسابيع فكم سيكون معه بنهاية المدة
J35: أ | N35: ب | R35: ج | V35: د | AC35: 22 | AD35: وحدة الجرام هي الأنسب لقياس :
A36: 12 | B36: =IF('مج 1'!G17="","",'مج 1'!G17) | I36: س12 | AC36: 23 | AD36: نطرح : 22 - 5.18 يكون الناتج
J37: أ | N37: ب | R37: ج | V37: د | AC37: 24 | AD37: يبيع تاجر القطعة الواحدة من القماش ب 45.5 ريالا ، اذن هو سيبيع 5 قطع بمبلغ :
A38: 13 | B38: =IF('مج 1'!G18="","",'مج 1'!G18) | I38: س13 | AC38: 25 | AD38: 5أس4 تساوي :
J39: أ | N39: ب | R39: ج | V39: د | AC39: 26 | AD39: قيمة العبارة : 27 ÷ ( 3 + 6 ) × 5 - 12
A40: 14 | B40: =IF('مج 1'!G19="","",'مج 1'!G19) | I40: س14 | AC40: 27 | AD40: يمشر سعود 0.75 كيلو مترا في اليوم فكم مترا سيمشيها في خمسة أيام
J41: أ | N41: ب | R41: ج | V41: د | AC41: 28 | AD41: وحدة الطول المترية المناسبة لقياس طول شاطئ المملكة على البحر الأحمر هي
A42: 15 | B42: =IF('مج 1'!G20="","",'مج 1'!G20) | I42: س15 | AC42: 29 | AD42: بدأ الحفل الساعة 7:50 واستمر ساعتين و23 دقيقة ، متى ينتهي الحفل ؟
J43: أ | N43: ب | R43: ج | V43: د | AC43: 30 | AD43: ذكر سعيد أن ضعف مامعه يساوي 16.8 ، كم المبلغ الذي معه ؟
A44: 16 | B44: =IF('مج 1'!G21="","",'مج 1'!G21) | I44: س16 | AC44: 31 | AD44: بدأ الحفل الساعة 7:50 واستمر ساعتين و23 دقيقة ، متى ينتهي الحفل ؟
J45: أ | N45: ب | R45: ج | V45: د | AC45: 32 | AD45: سؤال جديد نكتبه هنا
A46: 17 | B46: =IF('مج 1'!G22="","",'مج 1'!G22) | I46: س17 | AC46: 33
J47: أ | N47: ب | R47: ج | V47: د | AC47: 34
A48: 18 | B48: =IF('مج 1'!G23="","",'مج 1'!G23) | I48: س18 | AC48: 35
J49: أ | N49: ب | R49: ج | V49: د | AC49: 36
A50: 19 | B50: =IF('مج 1'!G24="","",'مج 1'!G24) | I50: س19 | AC50: 37
J51: أ | N51: ب | R51: ج | V51: د | AC51: 38
...

Sheet مج 0
F2: تعليمات الصفحة :الخطوة 1 : اختر المادة الخطوة 2 : اختر المهارة التي يقيسها السؤال الخطوة 3 : ادخل درجة السؤال | I2: اكتب درجة السؤال | K2: الدرجة الكلية | M2: =SUM(I6:I30) -> 20
A3: المادة | B3: المستوى | C3: وصف المستوى | W3: المادة | Y3: رياضيات_سادس | Z3: رياضيات_ثالث_ابتدائي | AA3: قراءة_ثالث_ابتدائي | AB3: قراءة_سادس_ابتدائي | AC3: قراءة_ثالث_متوسط | AD3: علوم_سادس | AE3: علوم_ثالث_متوسط | AF3: رياضيات_ثالث_متوسط
A4: قراءة ثالث ابتدائي | B4: المرتفع | C4: يحدد المترادفات والمتضادات من السياق أو من غيره | G4: قوائم منسدلة للاختيار فقط | K4: عدد أسئلة الاختبار حسب مستوياتها | W4: قراءة ثالث ابتدائي | X4: =B4&" : "&C4 -> المرتفع : يحدد المترادفات والمتضادات من السياق أو من غيره | Y4: =X92 -> المرتفع : يحل مسائل رياضية على الكسور الاعتيادية والكسور العشرية | Z4: =X70 -> المرتفع : يقدر ناتج جمع وطرح الأعداد ضمن أربع منازل | AA4: =X4 -> المرتفع : يحدد المترادفات والمتضادات من السياق أو من غيره | AB4: =X22 -> المرتفع : يحدد المترادفات والمتضادات من السياق أو من غيره | AC4: =X44 -> المرتفع : يستنتج معاني مصطلحات تستخدم في مجالات علمية مختلفة | AD4: =X121 -> المرتفع : يصمم ويجري التجارب العلمية، ويحلل البيانات؛ ليقدم تفسيرات منطقية | AE4: =X155 -> المرتفع : يقدم أدلة تثبت أن المخلوقات الحية مكونة من خلايا | AF4: =X183 -> المرتفع : يحل المعادلات الخطية، ويحل نظام المعادلات الخطية
A5: قراءة ثالث ابتدائي | B5: المرتفع | C5: يفرق بين المفرد والمثنى والجمع من خلال السياق أو بدونه | F5: المادة | G5: رياضيات_سادس | I5: درجة السؤال | K5: المرتفع | L5: المتوسط | M5: المنخفض | N5: المنخفض جدا | X5: =B5&" : "&C5 -> المرتفع : يفرق بين المفرد والمثنى والجمع من خلال السياق أو بدونه | Y5: =X93 -> المرتفع : يقسم الأعداد الكسرية ويبسطها | Z5: =X71 -> المرتفع : يطبق خصائص الجمع والضرب | AA5: =X5 -> المرتفع : يفرق بين المفرد والمثنى والجمع من خلال السياق أو بدونه | AB5: =X23 -> المرتفع : يستنتج معاني مفردات تغيرت دلالاتها بتغير الزمن والسياق | AC5: =X45 -> المرتفع : يصنف معاني المصطلحات الجديدة وفقا لدلالاتها | AD5: =X122 -> المرتفع : يستكشف الدور الرئيس للجينات في نقل الصفات عبر الأجيال | AE5: =X156 -> المرتفع : يبني تفسيرًا مدعمًا بالأدلة حول كيفية عمل أجهزة الجسم وتفواعلها مع بعضها | AF5: =X184 -> المرتفع : يحل المتباينات الخطية في متغير واحد جبريًّا، ومتباينات تتضمن قيمة مطلقة
A6: قراءة ثالث ابتدائي | B6: المرتفع | C6: يوضح معاني المفردات من خلال السياق أو بدونه | F6: مهارة1 | G6: المرتفع : يحل مسائل رياضية على الأنماط العددية والدوال | I6: 5 | K6: =COUNTIF($Q$6:$Q$30,"المرتفع ") -> 2 | L6: =COUNTIF($Q$6:$Q$30,"المتوسط ") -> 2 | M6: =COUNTIF($Q$6:$Q$30,"المنخفض ") -> 0 | N6: =COUNTIF($Q$6:$Q$30,"المنخفض جداً ") -> 0 | Q6: =IFERROR(LEFT(G6,FIND(":",G6,1)-1),"") -> المرتفع | S6: {=_xlfn.UNIQUE(G6:G30)} -> المرتفع : يحل مسائل رياضية على الأنماط العددية والدوال | X6: =B6&" : "&C6 -> المرتفع : يوضح معاني المفردات من خلال السياق أو بدونه | Y6: =X94 -> المرتفع : يحل مسائل رياضية على النسبة والمعدل والنسبة المئوية والتناسب | Z6: =X72 -> المرتفع : يكتب جملاً عددية على العمليات الأربع ويوجد قيمتها | AA6: =X6 -> المرتفع : يوضح معاني المفردات من خلال السياق أو بدونه | AB6: =X24 -> المرتفع : يفهم النصوص المقروءة مع القدرة على تحليلها وتقويمها والتعبير عما يستنتج منها | AC6: =X46 -> المرتفع : يستنتج معاني المفردات الجديدة من خلال التفسير والتعريف | AD6: =X123 -> المرتفع : يميز التركيب والوظيفة في المخلوقات الحية | AE6: =X157 -> المرتفع : يوضح كيف تؤثر التغيرات في تركيب الجينات الطفرات( الموجودة على الكروموسومات في صنع البروتين) | AF6: =X185 -> المرتفع : يحل مسائل على الدالة الخطية
A7: قراءة ثالث ابتدائي | B7: المرتفع | C7: يحلل النصوص المقروءة ويقومها ويعبر عما يستنتج منها | F7: مهارة2 | G7: المرتفع : يدرك الفروق بين مقاييس النزعة المركزية | I7: 4 | Q7: =IFERROR(LEFT(G7,FIND(":",G7,1)-1),"") -> المرتفع | S7: المرتفع : يدرك الفروق بين مقاييس النزعة المركزية | X7: =B7&" : "&C7 -> المرتفع : يحلل النصوص المقروءة ويقومها ويعبر عما يستنتج منها | Y7: =X95 -> المرتفع : يحل مسائل رياضية على الأنماط العددية والدوال | Z7: =X73 -> المرتفع : يحل مسائل رياضية تتضمن تطبيقات مالية على النقود | AA7: =X7 -> المرتفع : يحلل النصوص المقروءة ويقومها ويعبر عما يستنتج منها | AB7: =X25 -> المرتفع : يميز نوع النص المقروء، ويحلل خصائصه، ويستنتج الأفكار الرئيسة والفرعية والضمنية فيه | AC7: =X47 -> المرتفع : يستنتج معاني المفردات الجديدة من خلال الترادف، والتضاد | AD7: =X124 -> المرتفع : يستخدم الأدلة العلمية لإيجاد حلول لبعض المشاكل التي تواجه النباتات والحيوانات؛ بسبب التغيرات البيئية | AE7: =X158 -> المرتفع : يجمع معلومات حول التقنيات الحديثة التي غيرت طرق البشر في توريث الصفات المرغوبة للمخلوقات الحية | AF7: =X186 -> المرتفع : يحل مسائل على الدالة التربيعية
A8: قراءة ثالث ابتدائي | B8: المرتفع | C8: يستنتج فكرة النص المنظور الرئيسة، ويستخرج قيمه وأفكاره الفرعية | F8: مهارة3 | G8: المتوسط : يوجد النسبة المئوية | I8: 5 | K8: عدد أسئلة الاختبار | N8: =K6+L6+M6+N6 -> 4 | Q8: =IFERROR(LEFT(G8,FIND(":",G8,1)-1),"") -> المتوسط | S8: المتوسط : يوجد النسبة المئوية | X8: =B8&" : "&C8 -> المرتفع : يستنتج فكرة النص المنظور الرئيسة، ويستخرج قيمه وأفكاره الفرعية | Y8: =X96 -> المرتفع : يوجد قاعدة دالة ما من خلال جدول | Z8: =X74 -> المرتفع : يحلل البيانات الممثلة في الرسوم البيانية | AA8: =X8 -> المرتفع : يستنتج فكرة النص المنظور الرئيسة، ويستخرج قيمه وأفكاره الفرعية | AB8: =X26 -> المرتفع : يستنتج المفاهيم من أفكار النص والعلاقات بينها | AC8: =X48 -> المرتفع : يستنتج معاني المفردات الجديدة من خلال السياق وبدونه | AD8: =X125 -> المرتفع : يبتكر طرًقًا جديدة ةعادة التدوير للحفاظ على الأرض | AE8: =X159 -> المرتفع : يتعرف على أمثلة الانتخاب الصناعي الانتقائي( لصفات معينة في النباتات والحيوانات) | AF8: =X187 -> المرتفع : يوجد قيم الدوال المثلثية باستخدام الآلة الحاسبة
A9: قراءة ثالث ابتدائي | B9: المرتفع | C9: يحلل أحداث النصوص المتشابكة وتسلسلها ويحدد شخصياتها | F9: مهارة4 | G9: المتوسط : يطبق العمليات على الكسور والأعداد العشرية | I9: 6 | Q9: =IFERROR(LEFT(G9,FIND(":",G9,1)-1),"") -> المتوسط | S9: المتوسط : يطبق العمليات على الكسور والأعداد العشرية | X9: =B9&" : "&C9 -> المرتفع : يحلل أحداث النصوص المتشابكة وتسلسلها ويحدد شخصياتها | Y9: =X97 -> المرتفع : يوجد زوايا قياسات مجهولة في المثلن أو الشكل الرباعي | Z9: =X75 -> المتوسط : يميز القيمة المنزلية لعدد ضمن سبع منازل | AA9: =X9 -> المرتفع : يحلل أحداث النصوص المتشابكة وتسلسلها ويحدد شخصياتها | AB9: =X27 -> المرتفع : يستنتج القيم والاتجاهات الإيجابية والسلبية من النص المقروء وأثرها في الفرد والمجتمع | AC9: =X49 -> المرتفع : يميز الفروق الأساسية في بنية النص المقروء | AD9: =X126 -> المرتفع : يميز مصادر الطاقة البديلة للحفاظ على البيئة | AE9: =X160 -> المرتفع : يتنبأ بتغيرات الأرض المسببة للكوارث الطبيعية ويقترح حلولاً لتقليل تأثير تلك التغيرات | AF9: =X188 -> المرتفع : يحل مسائل على اةحصاء والاحتمالات
A10: قراءة ثالث ابتدائي | B10: المتوسط | C10: يحدد المترادفات والأضداد من خلال السياق | F10: مهارة5 | Q10: =IFERROR(LEFT(G10,FIND(":",G10,1)-1),"") | S10: 0 | X10: =B10&" : "&C10 -> المتوسط : يحدد المترادفات والأضداد من خلال السياق | Y10: =X98 -> المرتفع : يحل مسائل رياضية تتضمن حساب المحيط والمساحة والحجم | Z10: =X76 -> المتوسط : يكتب الأعداد الكلية في الصور القياسية واللفظية والتحليلية | AA10: =X10 -> المتوسط : يحدد المترادفات والأضداد من خلال السياق | AB10: =X28 -> المتوسط : يحدد المترادفات والأضداد من خلال السياق | AC10: =X50 -> المرتفع : يحلل النصوص المقروءة من حيث الترتيب الزمني والمكاني والأهمية والمقارنة والمقابلة والقضية العامة والأدلة الداعمة | AD10: =X127 -> المرتفع : يستكشف الخصائص والتغيرات الفيزيائية والكيميائية للمادة | AE10: =X161 -> المرتفع : يتنبأ باتجاه حركة جسمٍ ما عند رميه أو إسقاطه | AF10: =X189 -> المرتفع : يوجد القيم العظمى والصغرى للدالة التربيعية
