Workbook
Name list: 'تحديد المجالات'!$AG$7:$AG$30
Name رياضيات_ثالث_ابتدائي: 'مج 1'!$V$4:$V$37
Name رياضيات_ثالث_ابتدائي: 'مج 3'!$W$4:$W$37
Name رياضيات_ثالث_ابتدائي: 'مج 5'!$W$4:$W$37
Name رياضيات_ثالث_ابتدائي: مج2!$X$4:$X$37
Name رياضيات_ثالث_ابتدائي: مج4!$W$4:$W$37
Name رياضيات_ثالث_ابتدائي: 'مج 0'!$Z$4:$Z$37
Name رياضيات_ثالث_متوسط: 'مج 1'!$AB$4:$AB$37
Name رياضيات_ثالث_متوسط: 'مج 3'!$AC$4:$AC$37
Name رياضيات_ثالث_متوسط: 'مج 5'!$AC$4:$AC$37
Name رياضيات_ثالث_متوسط: مج2!$AD$4:$AD$37
Name رياضيات_ثالث_متوسط: مج4!$AC$4:$AC$37
Name رياضيات_ثالث_متوسط: 'مج 0'!$AF$4:$AF$37
Name رياضيات_سادس: 'مج 1'!$U$4:$U$37
Name رياضيات_سادس: 'مج 3'!$V$4:$V$37
Name رياضيات_سادس: 'مج 5'!$V$4:$V$37
Name رياضيات_سادس: مج2!$W$4:$W$37
Name رياضيات_سادس: مج4!$V$4:$V$37
Name رياضيات_سادس: 'مج 0'!$Y$4:$Y$37
Name رياضيات_سادس_ابتدائي: 'مج 1'!$U$4:$U$37
Name رياضيات_سادس_ابتدائي: 'مج 3'!$V$4:$V$37
Name رياضيات_سادس_ابتدائي: 'مج 5'!$V$4:$V$37
Name رياضيات_سادس_ابتدائي: مج2!$W$4:$W$37
Name رياضيات_سادس_ابتدائي: مج4!$V$4:$V$37
Name رياضيات_سادس_ابتدائي: 'مج 0'!$Y$4:$Y$37
Name علوم_ثالث_متوسط: 'مج 1'!$AA$4:$AA$37
Name علوم_ثالث_متوسط: 'مج 3'!$AB$4:$AB$37
Name علوم_ثالث_متوسط: 'مج 5'!$AB$4:$AB$37
Name علوم_ثالث_متوسط: مج2!$AC$4:$AC$37
Name علوم_ثالث_متوسط: مج4!$AB$4:$AB$37
Name علوم_ثالث_متوسط: 'مج 0'!$AE$4:$AE$37
Name علوم_سادس: 'مج 1'!$Z$4:$Z$37
Name علوم_سادس: 'مج 3'!$AA$4:$AA$37
Name علوم_سادس: 'مج 5'!$AA$4:$AA$37
Name علوم_سادس: مج2!$AB$4:$AB$37
Name علوم_سادس: مج4!$AA$4:$AA$37
Name علوم_سادس: 'مج 0'!$AD$4:$AD$37
Name علوم_سادس_ابتدائي: 'مج 1'!$Z$4:$Z$37
Name علوم_سادس_ابتدائي: 'مج 3'!$AA$4:$AA$37
Name علوم_سادس_ابتدائي: 'مج 5'!$AA$4:$AA$37
Name علوم_سادس_ابتدائي: مج2!$AB$4:$AB$37
Name علوم_سادس_ابتدائي: مج4!$AA$4:$AA$37
Name علوم_سادس_ابتدائي: 'مج 0'!$AD$4:$AD$37
Name قراءة_ثالث_ابتدائي: 'مج 1'!$W$4:$W$37
Name قراءة_ثالث_ابتدائي: 'مج 3'!$X$4:$X$37
Name قراءة_ثالث_ابتدائي: 'مج 5'!$X$4:$X$37
Name قراءة_ثالث_ابتدائي: مج2!$Y$4:$Y$37
Name قراءة_ثالث_ابتدائي: مج4!$X$4:$X$37
Name قراءة_ثالث_ابتدائي: 'مج 0'!$AA$4:$AA$37
Name قراءة_ثالث_متوسط: 'مج 1'!$Y$4:$Y$37
Name قراءة_ثالث_متوسط: 'مج 3'!$Z$4:$Z$37
Name قراءة_ثالث_متوسط: 'مج 5'!$Z$4:$Z$37
Name قراءة_ثالث_متوسط: مج2!$AA$4:$AA$37
Name قراءة_ثالث_متوسط: مج4!$Z$4:$Z$37
Name قراءة_ثالث_متوسط: 'مج 0'!$AC$4:$AC$37
Name قراءة_سادس_ابتدائي: 'مج 1'!$X$4:$X$37
Name قراءة_سادس_ابتدائي: 'مج 3'!$Y$4:$Y$37
Name قراءة_سادس_ابتدائي: 'مج 5'!$Y$4:$Y$37
Name قراءة_سادس_ابتدائي: مج2!$Z$4:$Z$37
Name قراءة_سادس_ابتدائي: مج4!$Y$4:$Y$37

Sheet الرئيسية
A16: تصميم أ / بدر عبدالله الصبي

Sheet جميع المجالات

Sheet تحديد المجالات
AM4: المؤشرات
C5: المادة ( اختر من القائمة ) | E5: المجال ( اختر من القائمة ) | I5: اختر المؤشر | K5: المؤشرات
C7: رياضيات ثالث متوسط | E7: رياضيات ثالث ابتدائي | F7: المنخفض جداً | G7: يتعرف على بعض التغيرات التي تطرأ على سطح الأرض مثل الزلازل والبراكين | J7: TRUE | K7: {=OFFSET('جميع المجالات'!$R$1,MATCH(E7,'جميع المجالات'!$Q$2:$Q$576,0),0,COUNTIF('جميع المجالات'!$Q$2:$Q$576,E7))} -> #N/A | AG7: =IF(J7=TRUE,K7,"") -> #N/A | AM7: {=IFERROR(INDEX($AG$7:$AG$222,MATCH(0,IF(ISBLANK($AG$7:$AG$222),1,COUNTIF($AM$6:AM6,$AG$7:$AG$222)),0)),"-")} -> -
J8: TRUE | AG8: =IF(J8=TRUE,K8,"") -> 0 | AM8: {=IFERROR(INDEX($AG$7:$AG$222,MATCH(0,IF(ISBLANK($AG$7:$AG$222),1,COUNTIF($AM$6:AM7,$AG$7:$AG$222)),0)),"-")} -> -
J9: TRUE | AG9: =IF(J9=TRUE,K9,"") -> 0 | AM9: {=IFERROR(INDEX($AG$7:$AG$222,MATCH(0,IF(ISBLANK($AG$7:$AG$222),1,COUNTIF($AM$6:AM8,$AG$7:$AG$222)),0)),"-")} -> -
J10: FALSE | AG10: =IF(J10=TRUE,K10,"") | AM10: {=IFERROR(INDEX($AG$7:$AG$222,MATCH(0,IF(ISBLANK($AG$7:$AG$222),1,COUNTIF($AM$6:AM9,$AG$7:$AG$222)),0)),"-")} -> -
J11: FALSE | AG11: =IF(J11=TRUE,K11,"") | AM11: {=IFERROR(INDEX($AG$7:$AG$222,MATCH(0,IF(ISBLANK($AG$7:$AG$222),1,COUNTIF($AM$6:AM10,$AG$7:$AG$222)),0)),"-")} -> -
J12: FALSE | AG12: =IF(J12=TRUE,K12,"") | AM12: {=IFERROR(INDEX($AG$7:$AG$222,MATCH(0,IF(ISBLANK($AG$7:$AG$222),1,COUNTIF($AM$6:AM11,$AG$7:$AG$222)),0)),"-")} -> -
J13: FALSE | AG13: =IF(J13=TRUE,K13,"") | AM13: {=IFERROR(INDEX($AG$7:$AG$222,MATCH(0,IF(ISBLANK($AG$7:$AG$222),1,COUNTIF($AM$6:AM12,$AG$7:$AG$222)),0)),"-")} -> -
J14: TRUE | AG14: =IF(J14=TRUE,K14,"") -> 0 | AM14: {=IFERROR(INDEX($AG$7:$AG$222,MATCH(0,IF(ISBLANK($AG$7:$AG$222),1,COUNTIF($AM$6:AM13,$AG$7:$AG$222)),0)),"-")} -> -
J15: FALSE | AG15: =IF(J15=TRUE,K15,"") | AM15: {=IFERROR(INDEX($AG$7:$AG$222,MATCH(0,IF(ISBLANK($AG$7:$AG$222),1,COUNTIF($AM$6:AM14,$AG$7:$AG$222)),0)),"-")} -> -
J16: FALSE | AG16: =IF(J16=TRUE,K16,"") | AM16: {=IFERROR(INDEX($AG$7:$AG$222,MATCH(0,IF(ISBLANK($AG$7:$AG$222),1,COUNTIF($AM$6:AM15,$AG$7:$AG$222)),0)),"-")} -> -
J17: FALSE | AG17: =IF(J17=TRUE,K17,"") | AM17: {=IFERROR(INDEX($AG$7:$AG$222,MATCH(0,IF(ISBLANK($AG$7:$AG$222),1,COUNTIF($AM$6:AM16,$AG$7:$AG$222)),0)),"-")} -> -
J18: FALSE | AG18: =IF(J18=TRUE,K18,"") | AM18: {=IFERROR(INDEX($AG$7:$AG$222,MATCH(0,IF(ISBLANK($AG$7:$AG$222),1,COUNTIF($AM$6:AM17,$AG$7:$AG$222)),0)),"-")} -> -
J19: FALSE | AG19: =IF(J19=TRUE,K19,"") | AM19: {=IFERROR(INDEX($AG$7:$AG$222,MATCH(0,IF(ISBLANK($AG$7:$AG$222),1,COUNTIF($AM$6:AM18,$AG$7:$AG$222)),0)),"-")} -> -
... J160: FALSE | AG160: =IF(J160=TRUE,K160,"") | AM160: {=IFERROR(INDEX($AG$7:$AG$222,MATCH(0,IF(ISBLANK($AG$7:$AG$222),1,COUNTIF($AM$6:AM159,$AG$7:$AG$222)),0)),"-")} -> -
AG161: =IF(J161=TRUE,K161,"") | AM161: {=IFERROR(INDEX($AG$7:$AG$222,MATCH(0,IF(ISBLANK($AG$7:$AG$222),1,COUNTIF($AM$6:AM160,$AG$7:$AG$222)),0)),"-")} -> -
AG162: =IF(J162=TRUE,K162,"") | AM162: {=IFERROR(INDEX($AG$7:$AG$222,MATCH(0,IF(ISBLANK($AG$7:$AG$222),1,COUNTIF($AM$6:AM161,$AG$7:$AG$222)),0)),"-")} -> -
AG163: =IF(J163=TRUE,K163,"") | AM163: {=IFERROR(INDEX($AG$7:$AG$222,MATCH(0,IF(ISBLANK($AG$7:$AG$222),1,COUNTIF($AM$6:AM162,$AG$7:$AG$222)),0)),"-")} -> -
AG164: =IF(J164=TRUE,K164,"") | AM164: {=IFERROR(INDEX($AG$7:$AG$222,MATCH(0,IF(ISBLANK($AG$7:$AG$222),1,COUNTIF($AM$6:AM163,$AG$7:$AG$222)),0)),"-")} -> -
AG165: =IF(J165=TRUE,K165,"") | AM165: {=IFERROR(INDEX($AG$7:$AG$222,MATCH(0,IF(ISBLANK($AG$7:$AG$222),1,COUNTIF($AM$6:AM164,$AG$7:$AG$222)),0)),"-")} -> -
AG166: =IF(J166=TRUE,K166,"") | AM166: {=IFERROR(INDEX($AG$7:$AG$222,MATCH(0,IF(ISBLANK($AG$7:$AG$222),1,COUNTIF($AM$6:AM165,$AG$7:$AG$222)),0)),"-")} -> -
AG167: =IF(J167=TRUE,K167,"") | AM167: {=IFERROR(INDEX($AG$7:$AG$222,MATCH(0,IF(ISBLANK($AG$7:$AG$222),1,COUNTIF($AM$6:AM166,$AG$7:$AG$222)),0)),"-")} -> -
AG168: =IF(J168=TRUE,K168,"") | AM168: {=IFERROR(INDEX($AG$7:$AG$222,MATCH(0,IF(ISBLANK($AG$7:$AG$222),1,COUNTIF($AM$6:AM167,$AG$7:$AG$222)),0)),"-")} -> -
AG169: =IF(J169=TRUE,K169,"") | AM169: {=IFERROR(INDEX($AG$7:$AG$222,MATCH(0,IF(ISBLANK($AG$7:$AG$222),1,COUNTIF($AM$6:AM168,$AG$7:$AG$222)),0)),"-")} -> -
AG170: =IF(J170=TRUE,K170,"") | AM170: {=IFERROR(INDEX($AG$7:$AG$222,MATCH(0,IF(ISBLANK($AG$7:$AG$222),1,COUNTIF($AM$6:AM169,$AG$7:$AG$222)),0)),"-")} -> -
AG171: =IF(J171=TRUE,K171,"") | AM171: {=IFERROR(INDEX($AG$7:$AG$222,MATCH(0,IF(ISBLANK($AG$7:$AG$222),1,COUNTIF($AM$6:AM170,$AG$7:$AG$222)),0)),"-")} -> -
AG172: =IF(J172=TRUE,K172,"") | AM172: {=IFERROR(INDEX($AG$7:$AG$222,MATCH(0,IF(ISBLANK($AG$7:$AG$222),1,COUNTIF($AM$6:AM171,$AG$7:$AG$222)),0)),"-")} -> -
... AG210: =IF(J210=TRUE,K210,"") | AM210: {=IFERROR(INDEX($AG$7:$AG$222,MATCH(0,IF(ISBLANK($AG$7:$AG$222),1,COUNTIF($AM$6:AM209,$AG$7:$AG$222)),0)),"-")} -> -
AG211: =IF(J211=TRUE,K211,"")
AG212: =IF(J212=TRUE,K212,"")

Sheet ورقة1
C5: الاختبار الأول
B7: م | C7: ='احصائيات 1'!B2 -> متوسط نتائج الطلاب في مهارات الاختبارات | D7: النسبة | E7: المتوسط | H7: الخط الأخضر هو متوسط المهارات ويوضح عدد المهارات التي تجاوزت المتوسط
B8: 1 | C8: ='احصائيات 1'!B3 -> - | D8: =IFERROR('احصائيات 1'!D3,"") | E8: =IFERROR(AVERAGE($D$8:$D$30),"")
B9: 2 | C9: ='احصائيات 1'!B4 -> - | D9: =IFERROR('احصائيات 1'!D4,"") | E9: =IFERROR(AVERAGE($D$8:$D$30),"")
B10: 3 | C10: ='احصائيات 1'!B5 -> - | D10: =IFERROR('احصائيات 1'!D5,"") | E10: =IFERROR(AVERAGE($D$8:$D$30),"")
B11: 4 | C11: ='احصائيات 1'!B6 -> - | D11: =IFERROR('احصائيات 1'!D6,"") | E11: =IFERROR(AVERAGE($D$8:$D$30),"")
B12: 5 | C12: ='احصائيات 1'!B7 -> - | D12: =IFERROR('احصائيات 1'!D7,"") | E12: =IFERROR(AVERAGE($D$8:$D$30),"")
B13: 6 | C13: ='احصائيات 1'!B8 -> - | D13: =IFERROR('احصائيات 1'!D8,"") | E13: =IFERROR(AVERAGE($D$8:$D$30),"")
B14: 7 | C14: ='احصائيات 1'!B9 -> - | D14: =IFERROR('احصائيات 1'!D9,"") | E14: =IFERROR(AVERAGE($D$8:$D$30),"")
B15: 8 | C15: ='احصائيات 1'!B10 -> - | D15: =IFERROR('احصائيات 1'!D10,"") | E15: =IFERROR(AVERAGE($D$8:$D$30),"")
B16: 9 | C16: ='احصائيات 1'!B11 -> - | D16: =IFERROR('احصائيات 1'!D11,"") | E16: =IFERROR(AVERAGE($D$8:$D$30),"")
B17: 10 | C17: ='احصائيات 1'!B12 -> - | D17: =IFERROR('احصائيات 1'!D12,"") | E17: =IFERROR(AVERAGE($D$8:$D$30),"")
B18: 11 | C18: ='احصائيات 1'!B13 -> - | D18: =IFERROR('احصائيات 1'!D13,"") | E18: =IFERROR(AVERAGE($D$8:$D$30),"")
B19: 12 | C19: ='احصائيات 1'!B14 -> - | D19: =IFERROR('احصائيات 1'!D14,"") | E19: =IFERROR(AVERAGE($D$8:$D$30),"")
... B32: 25 | C32: ='احصائيات 1'!B27 -> - | D32: =IFERROR('احصائيات 1'!D27,"") | E32: =IFERROR(AVERAGE($D$8:$D$30),"")

Sheet ورقة2
H3: الخط الأخضر هو متوسط المهارات ويوضح عدد المهارات التي تجاوزت المتوسط
C5: الاختبار الثاني
B7: م | C7: ='احصائيات 2'!B2 -> متوسط نتائج الطلاب في مهارات الاختبارات | D7: النسبة | E7: المتوسط
B8: 1 | C8: ='احصائيات 2'!B3 -> - | D8: =IFERROR('احصائيات 2'!C3,"") | E8: =IFERROR(AVERAGE($D$8:$D$30),"")
B9: 2 | C9: ='احصائيات 2'!B4 -> - | D9: =IFERROR('احصائيات 2'!C4,"") | E9: =IFERROR(AVERAGE($D$8:$D$30),"")
B10: 3 | C10: ='احصائيات 2'!B5 -> - | D10: =IFERROR('احصائيات 2'!C5,"") | E10: =IFERROR(AVERAGE($D$8:$D$30),"")
B11: 4 | C11: ='احصائيات 2'!B6 -> - | D11: =IFERROR('احصائيات 2'!C6,"") | E11: =IFERROR(AVERAGE($D$8:$D$30),"")
B12: 5 | C12: ='احصائيات 2'!B7 -> - | D12: =IFERROR('احصائيات 2'!C7,"") | E12: =IFERROR(AVERAGE($D$8:$D$30),"")
B13: 6 | C13: ='احصائيات 2'!B8 -> - | D13: =IFERROR('احصائيات 2'!C8,"") | E13: =IFERROR(AVERAGE($D$8:$D$30),"")
B14: 7 | C14: ='احصائيات 2'!B9 -> - | D14: =IFERROR('احصائيات 2'!C9,"") | E14: =IFERROR(AVERAGE($D$8:$D$30),"")
B15: 8 | C15: ='احصائيات 2'!B10 -> - | D15: =IFERROR('احصائيات 2'!C10,"") | E15: =IFERROR(AVERAGE($D$8:$D$30),"")
B16: 9 | C16: ='احصائيات 2'!B11 -> - | D16: =IFERROR('احصائيات 2'!C11,"") | E16: =IFERROR(AVERAGE($D$8:$D$30),"")
B17: 10 | C17: ='احصائيات 2'!B12 -> - | D17: =IFERROR('احصائيات 2'!C12,"") | E17: =IFERROR(AVERAGE($D$8:$D$30),"")
B18: 11 | C18: ='احصائيات 2'!B13 -> - | D18: =IFERROR('احصائيات 2'!C13,"") | E18: =IFERROR(AVERAGE($D$8:$D$30),"")
B19: 12 | C19: ='احصائيات 2'!B14 -> - | D19: =IFERROR('احصائيات 2'!C14,"") | E19: =IFERROR(AVERAGE($D$8:$D$30),"")
... B32: 25 | C32: ='احصائيات 2'!B27 -> - | D32: =IFERROR('احصائيات 2'!C27,"") | E32: =IFERROR(AVERAGE($D$8:$D$30),"")

Sheet ورقة3
H4: الخط الأخضر هو متوسط المهارات ويوضح عدد المهارات التي تجاوزت المتوسط
C5: الاختبار الثالث
B7: م | C7: ='احصائيات 3'!B2 -> متوسط نتائج الطلاب في مهارات الاختبارات | D7: النسبة | E7: المتوسط
B8: 1 | C8: ='احصائيات 3'!B3 -> - | D8: =IFERROR('ادخال درجات الاختبار الثالث'!FX11,"") | E8: =IFERROR(AVERAGE($D$8:$D$30),"")
B9: 2 | C9: ='احصائيات 3'!B4 -> - | D9: =IFERROR('ادخال درجات الاختبار الثالث'!FX12,"") | E9: =IFERROR(AVERAGE($D$8:$D$30),"")
B10: 3 | C10: ='احصائيات 3'!B5 -> - | D10: =IFERROR('ادخال درجات الاختبار الثالث'!FX13,"") | E10: =IFERROR(AVERAGE($D$8:$D$30),"")
B11: 4 | C11: ='احصائيات 3'!B6 -> - | D11: =IFERROR('ادخال درجات الاختبار الثالث'!FX14,"") | E11: =IFERROR(AVERAGE($D$8:$D$30),"")
B12: 5 | C12: ='احصائيات 3'!B7 -> - | D12: =IFERROR('ادخال درجات الاختبار الثالث'!FX15,"") | E12: =IFERROR(AVERAGE($D$8:$D$30),"")
B13: 6 | C13: ='احصائيات 3'!B8 -> - | D13: =IFERROR('ادخال درجات الاختبار الثالث'!FX16,"") | E13: =IFERROR(AVERAGE($D$8:$D$30),"")
B14: 7 | C14: ='احصائيات 3'!B9 -> - | D14: =IFERROR('ادخال درجات الاختبار الثالث'!FX17,"") | E14: =IFERROR(AVERAGE($D$8:$D$30),"")
B15: 8 | C15: ='احصائيات 3'!B10 -> - | D15: =IFERROR('ادخال درجات الاختبار الثالث'!FX18,"") | E15: =IFERROR(AVERAGE($D$8:$D$30),"")
B16: 9 | C16: ='احصائيات 3'!B11 -> - | D16: =IFERROR('ادخال درجات الاختبار الثالث'!FX19,"") | E16: =IFERROR(AVERAGE($D$8:$D$30),"")
B17: 10 | C17: ='احصائيات 3'!B12 -> - | D17: =IFERROR('ادخال درجات الاختبار الثالث'!FX20,"") | E17: =IFERROR(AVERAGE($D$8:$D$30),"")
B18: 11 | C18: ='احصائيات 3'!B13 -> - | D18: =IFERROR('ادخال درجات الاختبار الثالث'!FX21,"") | E18: =IFERROR(AVERAGE($D$8:$D$30),"")
B19: 12 | C19: ='احصائيات 3'!B14 -> - | D19: =IFERROR('ادخال درجات الاختبار الثالث'!FX22,"") | E19: =IFERROR(AVERAGE($D$8:$D$30),"")
... B32: 25 | C32: ='احصائيات 3'!B27 -> - | D32: =IFERROR('ادخال درجات الاختبار الثالث'!FX35,"") | E32: =IFERROR(AVERAGE($D$8:$D$30),"")

Sheet ورقة4
I4: الخط الأخضر هو متوسط المهارات ويوضح عدد المهارات التي تجاوزت المتوسط
D5: الاختبار الرابع
C7: م | D7: ='احصائيات 4'!B2 -> متوسط نتائج الطلاب في مهارات الاختبارات | E7: النسبة | F7: المتوسط
C8: 1 | D8: ='احصائيات 4'!B3 -> - | E8: =IFERROR('ادخال درجات الاختبار الرابع'!FJ10,"") | F8: =IFERROR(AVERAGE($E$8:$E$32),"")
C9: 2 | D9: ='احصائيات 4'!B4 -> - | E9: =IFERROR('ادخال درجات الاختبار الرابع'!FJ11,"") | F9: =IFERROR(AVERAGE($E$8:$E$32),"")
C10: 3 | D10: ='احصائيات 4'!B5 -> - | E10: =IFERROR('ادخال درجات الاختبار الرابع'!FJ12,"") | F10: =IFERROR(AVERAGE($E$8:$E$32),"")
C11: 4 | D11: ='احصائيات 4'!B6 -> - | E11: =IFERROR('ادخال درجات الاختبار الرابع'!FJ13,"") | F11: =IFERROR(AVERAGE($E$8:$E$32),"")
C12: 5 | D12: ='احصائيات 4'!B7 -> - | E12: =IFERROR('ادخال درجات الاختبار الرابع'!FJ14,"") | F12: =IFERROR(AVERAGE($E$8:$E$32),"")
C13: 6 | D13: ='احصائيات 4'!B8 -> - | E13: =IFERROR('ادخال درجات الاختبار الرابع'!FJ15,"") | F13: =IFERROR(AVERAGE($E$8:$E$32),"")
C14: 7 | D14: ='احصائيات 4'!B9 -> - | E14: =IFERROR('ادخال درجات الاختبار الرابع'!FJ16,"") | F14: =IFERROR(AVERAGE($E$8:$E$32),"")
C15: 8 | D15: ='احصائيات 4'!B10 -> - | E15: =IFERROR('ادخال درجات الاختبار الرابع'!FJ17,"") | F15: =IFERROR(AVERAGE($E$8:$E$32),"")
C16: 9 | D16: ='احصائيات 4'!B11 -> - | E16: =IFERROR('ادخال درجات الاختبار الرابع'!FJ18,"") | F16: =IFERROR(AVERAGE($E$8:$E$32),"")
C17: 10 | D17: ='احصائيات 4'!B12 -> - | E17: =IFERROR('ادخال درجات الاختبار الرابع'!FJ19,"") | F17: =IFERROR(AVERAGE($E$8:$E$32),"")
C18: 11 | D18: ='احصائيات 4'!B13 -> - | E18: =IFERROR('ادخال درجات الاختبار الرابع'!FJ20,"") | F18: =IFERROR(AVERAGE($E$8:$E$32),"")
C19: 12 | D19: ='احصائيات 4'!B14 -> - | E19: =IFERROR('ادخال درجات الاختبار الرابع'!FJ21,"") | F19: =IFERROR(AVERAGE($E$8:$E$32),"")
... C32: 25 | D32: ='احصائيات 4'!B27 -> - | E32: =IFERROR('ادخال درجات الاختبار الرابع'!FJ34,"") | F32: =IFERROR(AVERAGE($E$8:$E$32),"")

Sheet ورقة5
I4: الخط الأخضر هو متوسط المهارات ويوضح عدد المهارات التي تجاوزت المتوسط
D5: الاختبارالخامس
C7: م | D7: ='احصائيات 5'!B2 -> متوسط نتائج الطلاب في مهارات الاختبارات | E7: النسبة | F7: المتوسط
C8: 1 | D8: ='احصائيات 5'!B3 -> - | E8: =IFERROR('ادخال درجات الاختبار الخامس'!FW10,"") | F8: =IFERROR(AVERAGE($E$8:$E$32),"")
C9: 2 | D9: ='احصائيات 5'!B4 -> - | E9: =IFERROR('ادخال درجات الاختبار الخامس'!FW11,"") | F9: =IFERROR(AVERAGE($E$8:$E$32),"")
C10: 3 | D10: ='احصائيات 5'!B5 -> - | E10: =IFERROR('ادخال درجات الاختبار الخامس'!FW12,"") | F10: =IFERROR(AVERAGE($E$8:$E$32),"")
C11: 4 | D11: ='احصائيات 5'!B6 -> - | E11: =IFERROR('ادخال درجات الاختبار الخامس'!FW13,"") | F11: =IFERROR(AVERAGE($E$8:$E$32),"")
C12: 5 | D12: ='احصائيات 5'!B7 -> - | E12: =IFERROR('ادخال درجات الاختبار الخامس'!FW14,"") | F12: =IFERROR(AVERAGE($E$8:$E$32),"")
C13: 6 | D13: ='احصائيات 5'!B8 -> - | E13: =IFERROR('ادخال درجات الاختبار الخامس'!FW15,"") | F13: =IFERROR(AVERAGE($E$8:$E$32),"")
C14: 7 | D14: ='احصائيات 5'!B9 -> - | E14: =IFERROR('ادخال درجات الاختبار الخامس'!FW16,"") | F14: =IFERROR(AVERAGE($E$8:$E$32),"")
C15: 8 | D15: ='احصائيات 5'!B10 -> - | E15: =IFERROR('ادخال درجات الاختبار الخامس'!FW17,"") | F15: =IFERROR(AVERAGE($E$8:$E$32),"")
C16: 9 | D16: ='احصائيات 5'!B11 -> - | E16: =IFERROR('ادخال درجات الاختبار الخامس'!FW18,"") | F16: =IFERROR(AVERAGE($E$8:$E$32),"")
C17: 10 | D17: ='احصائيات 5'!B12 -> - | E17: =IFERROR('ادخال درجات الاختبار الخامس'!FW19,"") | F17: =IFERROR(AVERAGE($E$8:$E$32),"")
C18: 11 | D18: ='احصائيات 5'!B13 -> - | E18: =IFERROR('ادخال درجات الاختبار الخامس'!FW20,"") | F18: =IFERROR(AVERAGE($E$8:$E$32),"")
C19: 12 | D19: ='احصائيات 5'!B14 -> - | E19: =IFERROR('ادخال درجات الاختبار الخامس'!FW21,"") | F19: =IFERROR(AVERAGE($E$8:$E$32),"")
... C32: 25 | D32: ='احصائيات 5'!B27 -> - | E32: =IFERROR('ادخال درجات الاختبار الخامس'!FW34,"") | F32: =IFERROR(AVERAGE($E$8:$E$32),"")

Sheet الرسم البياني للاجابات
L2: عدد الطلاب | N2: ='ادخال درجات التشخيصي'!G209 -> 4 | Q2: عدد الأسئلة | S2: ='ادخال درجات التشخيصي'!AE3 -> 20
E4: ='ادخال درجات التشخيصي'!D216 -> س1 | F4: ='ادخال درجات التشخيصي'!E216 -> س2 | G4: ='ادخال درجات التشخيصي'!F216 -> س3 | H4: ='ادخال درجات التشخيصي'!G216 -> س4 | I4: ='ادخال درجات التشخيصي'!H216 | J4: ='ادخال درجات التشخيصي'!I216 | K4: ='ادخال درجات التشخيصي'!J216 | L4: ='ادخال درجات التشخيصي'!K216 | ... AC4: ='ادخال درجات التشخيصي'!AB216
C5: عدد الاجابات الصحيحة | E5: ='ادخال درجات التشخيصي'!D217 -> 4 | F5: ='ادخال درجات التشخيصي'!E217 -> 2 | G5: ='ادخال درجات التشخيصي'!F217 -> 3 | H5: ='ادخال درجات التشخيصي'!G217 -> 4 | I5: ='ادخال درجات التشخيصي'!H217 | J5: ='ادخال درجات التشخيصي'!I217 | K5: ='ادخال درجات التشخيصي'!J217 | L5: ='ادخال درجات التشخيصي'!K217 | ... AC5: ='ادخال درجات التشخيصي'!AB217
C6: عدد الاجابات الخاطئة | E6: ='ادخال درجات التشخيصي'!D220 -> 0 | F6: ='ادخال درجات التشخيصي'!E220 -> 2 | G6: ='ادخال درجات التشخيصي'!F220 -> 1 | H6: ='ادخال درجات التشخيصي'!G220 -> 0 | I6: ='ادخال درجات التشخيصي'!H220 -> 0 | J6: ='ادخال درجات التشخيصي'!I220 -> 0 | K6: ='ادخال درجات التشخيصي'!J220 -> 0 | L6: ='ادخال درجات التشخيصي'!K220 -> 0 | ... AC6: ='ادخال درجات التشخيصي'!AB220 -> 0
C7: نسبة الاستجابات الصحيحة | E7: =E5/$N$2 -> 1 | F7: =F5/$N$2 -> 0.5 | G7: =G5/$N$2 -> 0.75 | H7: =H5/$N$2 -> 1 | I7: =I5/$N$2 -> #VALUE! | J7: =J5/$N$2 -> #VALUE! | K7: =K5/$N$2 -> #VALUE! | L7: =L5/$N$2 -> #VALUE! | ... AC7: =AC5/$N$2 -> #VALUE!
C8: نسبة الاستجابات الخاطئة | E8: =IFERROR(E6/$N$2,"") -> 0 | F8: =IFERROR(F6/$N$2,"") -> 0.5 | G8: =IFERROR(G6/$N$2,"") -> 0.25 | H8: =IFERROR(H6/$N$2,"") -> 0 | I8: =IFERROR(I6/$N$2,"") -> 0 | J8: =IFERROR(J6/$N$2,"") -> 0 | K8: =IFERROR(K6/$N$2,"") -> 0 | L8: =IFERROR(L6/$N$2,"") -> 0 | ... AC8: =IFERROR(AC6/$N$2,"") -> 0

Sheet ورقة6
A2: المجال | B2: المجال الفرعي | C2: نواتج التعلم | D2: المؤشرات | G2: المجال | I2: المجال | J2: المجال الفرعي | L2: المجال الفرعي | M2: نواتج التعلم | O2: نواتج التعلم | P2: المؤشرات
A3: الأعداد والعمليات عليها | B3: الأعداد ومجموعات الأعداد | C3: وصــف الأعداد ضمــن 12 منزلة، وتمثيــل الأعداد، وقراءتهــا وكتابتهــا، والمقارنــة بينهــا، وترتيبهــا، وتقريبهــا | D3: يميز القيمة المنزلية لرقم في عدد ضمن 12 منزلة، ويمثل الأعداد باستخدام الرسوم وخط الأعداد ويقربها إلى أقرب منزلة معطاة | G3: الأعداد والعمليات عليها | I3: الأعداد والعمليات عليها | J3: الأعداد ومجموعات الأعداد | L3: العمليات على الأعداد، والحس العددي | M3: تقديــر نواتــج العمليــات الأربــع علــى الأعــداد الكليــة، والكســور ،واســتخدام الحســاب الذهنــي | O3: تقديــر نواتــج العمليــات الأربــع علــى الأعــداد الكليــة، والكســور ،واســتخدام الحســاب الذهنــي | P3: يقــدر نواتــج جمــع الأعــداد الكليــة، والكســور الاعتياديــة والأعــداد الكســرية، والكســور العشــرية، وطرحهــا وضربهــا وقســمتها باســتخدام التقريــب أو الأعــداد المتناغمــة
A4: الأعداد والعمليات عليها | B4: الأعداد ومجموعات الأعداد | C4: وصــف الأعداد ضمــن 12 منزلة، وتمثيــل الأعداد، وقراءتهــا وكتابتهــا، والمقارنــة بينهــا، وترتيبهــا، وتقريبهــا | D4: يقرأ الأعداد ضمن 12 منزلة، ويكتبها في الصور القياسية واللفظية والتحليلية | G4: الجبر والتحليل | I4: الأعداد والعمليات عليها | J4: العمليات على الأعداد، والحس العددي | L4: الأعداد ومجموعات الأعداد | M4: وصــف الأعداد ضمــن 12 منزلة، وتمثيــل الأعداد، وقراءتهــا وكتابتهــا، والمقارنــة بينهــا، وترتيبهــا، وتقريبهــا | O4: تقديــر نواتــج العمليــات الأربــع علــى الأعــداد الكليــة، والكســور ،واســتخدام الحســاب الذهنــي | P4: . يستخدم الحساب الذهني لإيجاد حاصل ضرب عدد من منزلتين على الأكثر، وقسمته، في / على مضاعفات (10، 001، 1000)
A5: الأعداد والعمليات عليها | B5: الأعداد ومجموعات الأعداد | C5: وصــف الأعداد ضمــن 12 منزلة، وتمثيــل الأعداد، وقراءتهــا وكتابتهــا، والمقارنــة بينهــا، وترتيبهــا، وتقريبهــا | D5: يقارن بين الأعداد ضمن 12 منزلة باستخدام الرموز(>،<،=) ويرتبها تصاعدياً وتنازلياً | G5: الهندسة والقياس | I5: الإحصاء والاحتمالات | J5: الإحصاء والتمثيات البيانية | L5: حساب الاحتمالات | M5: وصف التجربة العشوائية وإيجاد نواتجها، وتميز الحادثة، والتعبير عن احتمالات وقوعها | O5: تقديــر نواتــج العمليــات الأربــع علــى الأعــداد الكليــة، والكســور ،واســتخدام الحســاب الذهنــي | P5: يستخدم خاصية التوزيع لضرب عدد من منزلتين في عدد من منزلة واحدة ذهنيًّا
A6: الأعداد والعمليات عليها | B6: الأعداد ومجموعات الأعداد | C6: تمييز الكسور الاعتيادية والأعداد الكسرية والكسورغير الفعلية، وتمثيلها، وقراءتها، وكتابتها، والمقارنة بينها وترتيبها، وتقريبها | D6: يميز الكسر الاعتيادي، ويمثله باستخدام النماذج والرسوم وخط الأعداد ويقرؤه ويكتبه | G6: الإحصاء والاحتمالات | I6: الإحصاء والاحتمالات | J6: تحليل البيانات، وتفسيرها | L6: البنى الجبرية والعبارات الرياضية | M6: وصــف العبــارات العدديــة والجبريــة، وتمييــز المعادلــة الخطيــة البســيطة، وكتابتهــا، وإيجــاد قيمهــا ،واســتخدامها فــي حــل مســائل رياضيــة | O6: تقديــر نواتــج العمليــات الأربــع علــى الأعــداد الكليــة، والكســور ،واســتخدام الحســاب الذهنــي | P6: . يســتخدم الحســاب الذهنــي لضــرب الكســور العشــرية حتــى الجــزء مــن ألــف، ويقســمها في/علــى (10، 001، 1000)
A7: الأعداد والعمليات عليها | B7: الأعداد ومجموعات الأعداد | C7: تمييز الكسور الاعتيادية والأعداد الكسرية والكسورغير الفعلية، وتمثيلها، وقراءتها، وكتابتها، والمقارنة بينها وترتيبها، وتقريبها | D7: يوجد الكسور المكافئة لكسر، ويكتب كسراً في أبسط صورة، ويقربها إلى الصفر أو النصف أو الواحد | I7: الإحصاء والاحتمالات | J7: حساب الاحتمالات | L7: إحداثيات والتحويات الهندسية | M7: استخدام المستوى الإحداثي لتسمية المواقع، وتعيينها، ووصف التحويات الهندسية، وإجراؤها | O7: تقديــر نواتــج العمليــات الأربــع علــى الأعــداد الكليــة، والكســور ،واســتخدام الحســاب الذهنــي | P7: يتحقــق مــن معقوليــة نواتــج العمليــات الأربــع علــى الأعــداد الكليــة ،والكســور الاعتياديــة والعشــرية والأعــداد الكســرية باســتخدام التقديــر التقريبــي أو الحســاب الذهنــي
A8: الأعداد والعمليات عليها | B8: الأعداد ومجموعات الأعداد | C8: تمييز الكسور الاعتيادية والأعداد الكسرية والكسورغير الفعلية، وتمثيلها، وقراءتها، وكتابتها، والمقارنة بينها وترتيبها، وتقريبها | D8: يميز العدد الكسري، ويمثله باستخدام النماذج والرسوم وخط الأعداد ويقرؤه ويكتبه | I8: الجبر والتحليل | J8: الأنماط والعلاقات والدوال | L8: العمليات على الأعداد، والحس العددي | M8: إجراء العمليات الأربع على الكســور الاعتياديــة والأعــداد الكســرية ،واســتخدامها فــي حــل مســائل رياضيــة | O8: وصــف الأعداد ضمــن 12 منزلة، وتمثيــل الأعداد، وقراءتهــا وكتابتهــا، والمقارنــة بينهــا، وترتيبهــا، وتقريبهــا | P8: يميز القيمة المنزلية لرقم في عدد ضمن 12 منزلة، ويمثل الأعداد باستخدام الرسوم وخط الأعداد ويقربها إلى أقرب منزلة معطاة
A9: الأعداد والعمليات عليها | B9: الأعداد ومجموعات الأعداد | C9: تمييز الكسور الاعتيادية والأعداد الكسرية والكسورغير الفعلية، وتمثيلها، وقراءتها، وكتابتها، والمقارنة بينها وترتيبها، وتقريبها | D9: يميز الكسر غير الفعلي، ويحوله إلى عدد كسري والعكس | I9: الجبر والتحليل | J9: البنى الجبرية والعبارات الرياضية | L9: الأنماط والعلاقات والدوال | M9: تمييــز أنمــاط عدديــة ،وهندســية متناميــة، والعاقــة فــي جدول، ووصفها، وتوسيعها، وتكوينها ،واســتخدامها فــي حــل مســائل رياضيــة | O9: وصــف الأعداد ضمــن 12 منزلة، وتمثيــل الأعداد، وقراءتهــا وكتابتهــا، والمقارنــة بينهــا، وترتيبهــا، وتقريبهــا | P9: يقرأ الأعداد ضمن 12 منزلة، ويكتبها في الصور القياسية واللفظية والتحليلية
A10: الأعداد والعمليات عليها | B10: الأعداد ومجموعات الأعداد | C10: تمييز الكسور الاعتيادية والأعداد الكسرية والكسورغير الفعلية، وتمثيلها، وقراءتها، وكتابتها، والمقارنة بينها وترتيبها، وتقريبها | D10: يقارن بين الكسور والأعداد الكسرية ويرتبها تصاعدياً وتنازلياً | I10: الهندسة والقياس | J10: (الأشكال الهندسية) | L10: القياس ووحداته | M10: تمييز العلاقات بين وحدات الطــول والكتلــة والســعة والزمــن ،واســتخدامها فــي التحويــات بينهــا | O10: وصــف الأعداد ضمــن 12 منزلة، وتمثيــل الأعداد، وقراءتهــا وكتابتهــا، والمقارنــة بينهــا، وترتيبهــا، وتقريبهــا | P10: يقارن بين الأعداد ضمن 12 منزلة باستخدام الرموز(>،<،=) ويرتبها تصاعدياً وتنازلياً
A11: الأعداد والعمليات عليها | B11: الأعداد ومجموعات الأعداد | C11: وصف الكسور العشرية. وتمثيلها، وتمييز القيمة المنزلية لرقم فيها، وقراءتها، وكتابتها، والمقارنة بينها وترتيبها، وتقريبها. والتحويل بينها وبين الكسور الاعتيادية والأعداد الكسرية | D11: يصف الكسر العشري، ويمتلك باستخدام النماذج والرسوم وخط الأعداد ويميز القيمة المنزلية لرقم في كسر عشري ويقرب هذه الكسور إلى أقرب عدد كلي، أو إلى أقرب منزلة معطاة | I11: الهندسة والقياس | J11: تمييزالأشكال الهندسية ثنائية الأبعاد وثلاثية الأبعاد، وتسميتها، وتصنيفها وفًقًا لخصائص عناصرها، ورسمه | L11: الأعداد ومجموعات الأعداد | M11: تمييز الكسور الاعتيادية والأعداد الكسرية والكسورغير الفعلية، وتمثيلها، وقراءتها، وكتابتها، والمقارنة بينها وترتيبها، وتقريبها | O11: وصف التجربة العشوائية وإيجاد نواتجها، وتميز الحادثة، والتعبير عن احتمالات وقوعها | P11: يصف نواتج التجربة العشوائية الممكنة، ويوجد عددها باستخدام الجداول، والقوائم المنظمة، والرسم الشجري، ومبدأ العد
A12: الأعداد والعمليات عليها | B12: الأعداد ومجموعات الأعداد | C12: وصف الكسور العشرية. وتمثيلها، وتمييز القيمة المنزلية لرقم فيها، وقراءتها، وكتابتها، والمقارنة بينها وترتيبها، وتقريبها. والتحويل بينها وبين الكسور الاعتيادية والأعداد الكسرية | D12: يقرأ الكسور العشرية ويكتبها في الصور القياسية واللفظية والتحليلية | I12: الهندسة والقياس | J12: إحداثيات والتحويات الهندسية | L12: تمييزالأشكال الهندسية ثنائية الأبعاد وثلاثية الأبعاد، وتسميتها، وتصنيفها وفًقًا لخصائص عناصرها، ورسمه | M12: تمييز خصائص أشكال هندسية ثنائية الأبعاد وثاثية الأبعاد، وتحديد عناصرها، وتصنيفها. | O12: وصف التجربة العشوائية وإيجاد نواتجها، وتميز الحادثة، والتعبير عن احتمالات وقوعها | P12: يميز الحادثة، ويعبر عن احتمال وقوعها باستخدام الكلمات، والكسور الاعتيادية والعشرية، والنسب المئوية
A13: الأعداد والعمليات عليها | B13: الأعداد ومجموعات الأعداد | C13: وصف الكسور العشرية. وتمثيلها، وتمييز القيمة المنزلية لرقم فيها، وقراءتها، وكتابتها، والمقارنة بينها وترتيبها، وتقريبها. والتحويل بينها وبين الكسور الاعتيادية والأعداد الكسرية | D13: يقارن بين الكسور العشرية، ويرتبها تصاعدياً، وتنازلياً | I13: الهندسة والقياس | J13: القياس ووحداته | L13: القياس ووحداته | M13: تمييــز صيــغ المحيــط والمســاحة لأشــكال ثنائيــة الأبعــاد، واســتخدامها فــي إيجــاد المحيــط والمســاحة، وفــي حــل مســائل رياضيــة | O13: وصف التجربة العشوائية وإيجاد نواتجها، وتميز الحادثة، والتعبير عن احتمالات وقوعها | P13: يحل مسائل رياضية تتضمن تطبيقات حياتية على نوائح التجربة العشوائية واحتمال حادثة، ويستخدمها للتنبؤ، ويفسر حلها.
A14: الأعداد والعمليات عليها | B14: الأعداد ومجموعات الأعداد | C14: وصف الكسور العشرية. وتمثيلها، وتمييز القيمة المنزلية لرقم فيها، وقراءتها، وكتابتها، والمقارنة بينها وترتيبها، وتقريبها. والتحويل بينها وبين الكسور الاعتيادية والأعداد الكسرية | D14: يحول بين الكسور العشرية والكسور الاعتيادية، والأعداد الكسرية | L14: العمليات على الأعداد، والحس العددي | M14: جمع الأعداد الكلية ضمن سبع منازل وطرحها، وضرب الأعداد من ثلاث منازل على الأكثر، وقسمة الأعداد من أربع منازل على الأكثر على أعداد من منزلتين على الأكثر. واستخدامها في حل مسائل رياضية | O14: وصــف العبــارات العدديــة والجبريــة، وتمييــز المعادلــة الخطيــة البســيطة، وكتابتهــا، وإيجــاد قيمهــا ،واســتخدامها فــي حــل مســائل رياضيــة | P14: يصف العبارة العددية، ويكتبها بحيث تتضمن قوى (أسّها عدد كلي) وأقواسًا، ويوجد قيمتها باستخدام ترتيب العمليات
A15: الأعداد والعمليات عليها | B15: العمليات على الأعداد، والحس العددي | C15: جمع الأعداد الكلية ضمن سبع منازل وطرحها، وضرب الأعداد من ثلاث منازل على الأكثر، وقسمة الأعداد من أربع منازل على الأكثر على أعداد من منزلتين على الأكثر. واستخدامها في حل مسائل رياضية | D15: يجمع الأعداد ضمن سبع منازل ويطرحها (دون إعادة التجميع ومعه) | L15: العمليات على الأعداد، والحس العددي | M15: جمــع الكســور العشــرية ،وطرحهــا، وضربهــا، وقســمتها ،واســتخدامها فــي حــل مســائل رياضيــة | O15: وصــف العبــارات العدديــة والجبريــة، وتمييــز المعادلــة الخطيــة البســيطة، وكتابتهــا، وإيجــاد قيمهــا ،واســتخدامها فــي حــل مســائل رياضيــة | P15: يصف العبارة الجبرية، ويكتبها بحيث تتضمن عمليتين على الأكثر مع استخدام الأقواس، ويوجد قيمتها باستخدام ترتيب العمليات
A16: الأعداد والعمليات عليها | B16: العمليات على الأعداد، والحس العددي | C16: جمع الأعداد الكلية ضمن سبع منازل وطرحها، وضرب الأعداد من ثلاث منازل على الأكثر، وقسمة الأعداد من أربع منازل على الأكثر على أعداد من منزلتين على الأكثر. واستخدامها في حل مسائل رياضية | D16: يضرب عددًا من ثلاث منازل على الأكثر في عدد من منزلتين على الأكثر أدون ومع إعادة التجميع باستخدام الاستراتيجيات المعتمدة على القيمة المنزلية | L16: الإحصاء والتمثيات البيانية | M16: جـمــــع بيانـــات كـمــــيــــة ونوعيـــة واقعيـــة، وتنظيمهـــا، وتمثيلهـــا بالنقاط، والخطوط البيانية، والأعمدة، والقطــــــاعــات الدائــــريـة، وقــراءة تلك التمثيـلات، وتفســـيرها | O16: وصــف العبــارات العدديــة والجبريــة، وتمييــز المعادلــة الخطيــة البســيطة، وكتابتهــا، وإيجــاد قيمهــا ،واســتخدامها فــي حــل مســائل رياضيــة | P16: يصــف المعادلــة، ويميــز المعادلــة الخطيــة البســيطة (ذات الخطــوة الواحــدة)، ويكتبهــا
A17: الأعداد والعمليات عليها | B17: العمليات على الأعداد، والحس العددي | C17: جمع الأعداد الكلية ضمن سبع منازل وطرحها، وضرب الأعداد من ثلاث منازل على الأكثر، وقسمة الأعداد من أربع منازل على الأكثر على أعداد من منزلتين على الأكثر. واستخدامها في حل مسائل رياضية | D17: يقسم عدد من أربع منازل على الأكثر على عدد من منزلتين على الأكثر (دون باق وسباق) باستخدام الاستراتيجيات المعتمدة على القيمة المنزلية | L17: القياس ووحداته | M17: وصــف الحجــم والمســاحة الســطحية، وتمييــز صيغهــا، ووحداتهــا ،واســتخدامها فــي حــل مســائل رياضيــة | O17: وصــف العبــارات العدديــة والجبريــة، وتمييــز المعادلــة الخطيــة البســيطة، وكتابتهــا، وإيجــاد قيمهــا ،واســتخدامها فــي حــل مســائل رياضيــة | P17: يحّلّ معادلة خطية بسيطة ذهنيًّا وكتابيًّا وباستخدام النماذج، ويتحقق من صحة الحل
A18: الأعداد والعمليات عليها | B18: العمليات على الأعداد، والحس العددي | C18: جمع الأعداد الكلية ضمن سبع منازل وطرحها، وضرب الأعداد من ثلاث منازل على الأكثر، وقسمة الأعداد من أربع منازل على الأكثر على أعداد من منزلتين على الأكثر. واستخدامها في حل مسائل رياضية | D18: يحل مسائل رياضية من ثلاث خطوات على الأكثر تتضمن تطبيقات حياتية على العمليات الأربع ويفسر حلها | L18: الأعداد ومجموعات الأعداد | M18: وصف الكسور العشرية. وتمثيلها، وتمييز القيمة المنزلية لرقم فيها، وقراءتها، وكتابتها، والمقارنة بينها وترتيبها، وتقريبها. والتحويل بينها وبين الكسور الاعتيادية والأعداد الكسرية | O18: وصــف العبــارات العدديــة والجبريــة، وتمييــز المعادلــة الخطيــة البســيطة، وكتابتهــا، وإيجــاد قيمهــا ،واســتخدامها فــي حــل مســائل رياضيــة | P18: يحــل مســائل رياضيــة تتضمــن تطبيقــات حياتيــة علــى العبــارات العدديــة ،والجبريــة، والمعــادلات الخطيــة البســيطة، ويفســر حلهــا
A19: الأعداد والعمليات عليها | B19: العمليات على الأعداد، والحس العددي | C19: وصف عوامل عدد ومضاعفاته، وتمثيلها، وإيجادها، واستخدامها في حل مسائل رياضية | D19: يوجد عوامل العدد، ويمثلها باستخدام النماذج والرسوم | L19: (الأشكال الهندسية) | M19: وصف المفاهيم الهندسية الأولية، وتمييزها، ووصف الزاوية ،وتمييز العلاقات بين المستقيمات ،وبين الزوايا | O19: استخدام المستوى الإحداثي لتسمية المواقع، وتعيينها، ووصف التحويات الهندسية، وإجراؤها | P19: يسمي مواقع نقاط في المستوى الإحداثي (الربع الأول) باستخدام الأزواج المرتبة، ويعينها
A20: الأعداد والعمليات عليها | B20: العمليات على الأعداد، والحس العددي | C20: وصف عوامل عدد ومضاعفاته، وتمثيلها، وإيجادها، واستخدامها في حل مسائل رياضية | D20: يوجد مضاعفات العدد، ويمثلها باستخدام النماذج والرسوم | L20: العمليات على الأعداد، والحس العددي | M20: وصف النسبة، والمعدل، والنسبة المئوية، والتناسب، وتمثيلها، والتعبير عنها، والتمييز بينها، وإيجادها. واستخدامها في حل مسائل رياضية | O20: استخدام المستوى الإحداثي لتسمية المواقع، وتعيينها، ووصف التحويات الهندسية، وإجراؤها | P20: يرســم أشــكالًا هندســية ومضلعــات فــي المســتوى الإحداثــي (الربــع الأول) بمعلوميــة إحداثيــات الــرؤوس
A21: الأعداد والعمليات عليها | B21: العمليات على الأعداد، والحس العددي | C21: وصف عوامل عدد ومضاعفاته، وتمثيلها، وإيجادها، واستخدامها في حل مسائل رياضية | D21: يصف العدد الأولى، ويملكه باستخدام النماذج، والرسوم، ويميزه عن العدد غير الأولى، ويحلل عددا إلى عواملة الأولية | L21: العمليات على الأعداد، والحس العددي | M21: وصف عوامل عدد ومضاعفاته، وتمثيلها، وإيجادها، واستخدامها في حل مسائل رياضية | O21: استخدام المستوى الإحداثي لتسمية المواقع، وتعيينها، ووصف التحويات الهندسية، وإجراؤها | P21: يصــف الانســحاب، ويســتخدمه لرســم صــورة شــكل فــي المســتوى الإحداثــي (الربــع الأول)
A22: الأعداد والعمليات عليها | B22: العمليات على الأعداد، والحس العددي | C22: وصف عوامل عدد ومضاعفاته، وتمثيلها، وإيجادها، واستخدامها في حل مسائل رياضية | D22: يوجد العامل المشترك الأكبر والمضاعف المشترك الأصغر العددين أو أكثر باستخدام التحليل إلى عوامل | L22: العمليات على الأعداد، والحس العددي | M22: وصف قوى عدد كلي وتمثيلها، وإيجادها، وإيجاد قيم عبارات عددية تتضمنها، واستخدامها في حل مسائل رياضية | O22: استخدام المستوى الإحداثي لتسمية المواقع، وتعيينها، ووصف التحويات الهندسية، وإجراؤها | P22: يصــف الانعــكاس حــول محــور، ويســتخدمه لرســم صــورة شــكل فــي المســتوى الإحداثــي (الربــع الأول)
A23: الأعداد والعمليات عليها | B23: العمليات على الأعداد، والحس العددي | C23: وصف عوامل عدد ومضاعفاته، وتمثيلها، وإيجادها، واستخدامها في حل مسائل رياضية | D23: يحل مسائل رياضية تتضمن تطبيقات خيالية على العامل المشترك الأكبر والمضاعف المشترك الأصغر، ويفسر حلها | L23: تحليل البيانات، وتفسيرها | M23: وصف مقاييس النزعة المركزية والمدى، وإيجادها، وتفسيرها. واختيار المقياس الأنسب منها | O23: استخدام المستوى الإحداثي لتسمية المواقع، وتعيينها، ووصف التحويات الهندسية، وإجراؤها | P23: يصــف الــدوران حــول نقطــة، ويســتخدمه لرســم صــورة شــكل فــي المســتوى الإحداثــي (الربــع الأول)
A24: الأعداد والعمليات عليها | B24: العمليات على الأعداد، والحس العددي | C24: وصف قوى عدد كلي وتمثيلها، وإيجادها، وإيجاد قيم عبارات عددية تتضمنها، واستخدامها في حل مسائل رياضية | D24: يصف قوة عدد على أنه عدد كلي (أسه عدد كلي)، ويوجدها | O24: إجراء العمليات الأربع على الكســور الاعتياديــة والأعــداد الكســرية ،واســتخدامها فــي حــل مســائل رياضيــة | P24: يجمع الكسور الاعتيادية المتشابهة وغير المتشابهة، ويطرحها
A25: الأعداد والعمليات عليها | B25: العمليات على الأعداد، والحس العددي | C25: وصف قوى عدد كلي وتمثيلها، وإيجادها، وإيجاد قيم عبارات عددية تتضمنها، واستخدامها في حل مسائل رياضية | D25: يوجد قيم عبارات عددية تتضمن قوى باستخدام ترتيب العمليات | O25: إجراء العمليات الأربع على الكســور الاعتياديــة والأعــداد الكســرية ،واســتخدامها فــي حــل مســائل رياضيــة | P25: يجمع الأعداد الكسرية، ويطرحها بتحويلها إلى كسور غير فعلية
A26: الأعداد والعمليات عليها | B26: العمليات على الأعداد، والحس العددي | C26: وصف قوى عدد كلي وتمثيلها، وإيجادها، وإيجاد قيم عبارات عددية تتضمنها، واستخدامها في حل مسائل رياضية | D26: يحل مسائل رياضية تتضمن تطبيقات حياتية على عبارات عددية تتضمن قوى عدد كلى، ويفسر حلها | O26: إجراء العمليات الأربع على الكســور الاعتياديــة والأعــداد الكســرية ،واســتخدامها فــي حــل مســائل رياضيــة | P26: يضرب الكسور الاعتيادية، ويقسمها.
A27: الأعداد والعمليات عليها | B27: العمليات على الأعداد، والحس العددي | C27: وصف النسبة، والمعدل، والنسبة المئوية، والتناسب، وتمثيلها، والتعبير عنها، والتمييز بينها، وإيجادها. واستخدامها في حل مسائل رياضية | D27: يصف النسبة، والمعدل ويميز شهما ويمثلهما باستخدام النماذج والرسوم، ويوجدهما، ويعبر عنهما ككسور اعتيادية في أبسط صورة ويستخدمهما في المقارنة بين الكميات | O27: إجراء العمليات الأربع على الكســور الاعتياديــة والأعــداد الكســرية ،واســتخدامها فــي حــل مســائل رياضيــة | P27: يضرب الأعداد الكسرية، ويقسمها بتحويلها إلى كسور غير فعلية
A28: الأعداد والعمليات عليها | B28: العمليات على الأعداد، والحس العددي | C28: وصف النسبة، والمعدل، والنسبة المئوية، والتناسب، وتمثيلها، والتعبير عنها، والتمييز بينها، وإيجادها. واستخدامها في حل مسائل رياضية | D28: يميز النسبة المئوية، ويمثلها باستخدام النماذج، والرسوم، ويوجدها ،ويعبر عنها ككسر عشري أو اعتيادي في أبسط صورة | O28: إجراء العمليات الأربع على الكســور الاعتياديــة والأعــداد الكســرية ،واســتخدامها فــي حــل مســائل رياضيــة | P28: يحل مسائل رياضية من ثلاث خطوات على الأكثر تتضمن تطبيقات حياتية على العمليات الأربع على الكسور والأعداد الكسرية، ويفسر حلها
A29: الأعداد والعمليات عليها | B29: العمليات على الأعداد، والحس العددي | C29: وصف النسبة، والمعدل، والنسبة المئوية، والتناسب، وتمثيلها، والتعبير عنها، والتمييز بينها، وإيجادها. واستخدامها في حل مسائل رياضية | D29: . يصف التناسب، ويمثله باستخدام النماذج والرسوم، ويحدد الكميات المتناسبة، ويحل التناسب. | O29: تمييــز أنمــاط عدديــة ،وهندســية متناميــة، والعاقــة فــي جدول، ووصفها، وتوسيعها، وتكوينها ،واســتخدامها فــي حــل مســائل رياضيــة | P29: يميــز أنماًطًــا عدديــةً متناميــة، ويصفهــا، ويوســعها، ويكمــل العناصــر المفقــودة فيهــا، ويكونهــا، ويعممهــا
A30: الأعداد والعمليات عليها | B30: العمليات على الأعداد، والحس العددي | C30: وصف النسبة، والمعدل، والنسبة المئوية، والتناسب، وتمثيلها، والتعبير عنها، والتمييز بينها، وإيجادها. واستخدامها في حل مسائل رياضية | D30: . يحــل مســائل رياضيــة تتضمــن تطبيقــات حياتيــة علــى النســبة والمعــدل والنســبة المئويــة والتناســب، ويفســر حلهــا. | O30: تمييــز أنمــاط عدديــة ،وهندســية متناميــة، والعاقــة فــي جدول، ووصفها، وتوسيعها، وتكوينها ،واســتخدامها فــي حــل مســائل رياضيــة | P30: يميز أنماًطًا هندسيةً متنامية )متزايدة أو متناقصة بمقدار غير ثابت( ،ويصفهــا، ويوســعها، ويكمــل العناصــر المفقــودة فيهــا، ويكونهــا ، ويعممهــا
A31: الأعداد والعمليات عليها | B31: العمليات على الأعداد، والحس العددي | C31: إجراء العمليات الأربع على الكســور الاعتياديــة والأعــداد الكســرية ،واســتخدامها فــي حــل مســائل رياضيــة | D31: يجمع الكسور الاعتيادية المتشابهة وغير المتشابهة، ويطرحها | O31: تمييــز أنمــاط عدديــة ،وهندســية متناميــة، والعاقــة فــي جدول، ووصفها، وتوسيعها، وتكوينها ،واســتخدامها فــي حــل مســائل رياضيــة | P31: يصــف العلاقــة بيــن مجموعتيــن مــن البيانــات فــي جــدول المدخــلات والمخرجات، ويعبر عنها بالكلمات، والرموز، والأزواج المرتبة، ويمثلها فــي المســتوى الإحداثــي
A32: الأعداد والعمليات عليها | B32: العمليات على الأعداد، والحس العددي | C32: إجراء العمليات الأربع على الكســور الاعتياديــة والأعــداد الكســرية ،واســتخدامها فــي حــل مســائل رياضيــة | D32: يجمع الأعداد الكسرية، ويطرحها بتحويلها إلى كسور غير فعلية | O32: تمييــز أنمــاط عدديــة ،وهندســية متناميــة، والعاقــة فــي جدول، ووصفها، وتوسيعها، وتكوينها ،واســتخدامها فــي حــل مســائل رياضيــة | P32: يكــون جــدول المدخــلات والمخرجــات، ويكملهــا، وفــق عــدة معطــاة تتضمــن عمليتيــن علــى الأكثــر
A33: الأعداد والعمليات عليها | B33: العمليات على الأعداد، والحس العددي | C33: إجراء العمليات الأربع على الكســور الاعتياديــة والأعــداد الكســرية ،واســتخدامها فــي حــل مســائل رياضيــة | D33: يضرب الكسور الاعتيادية، ويقسمها. | O33: تمييــز أنمــاط عدديــة ،وهندســية متناميــة، والعاقــة فــي جدول، ووصفها، وتوسيعها، وتكوينها ،واســتخدامها فــي حــل مســائل رياضيــة | P33: يحل مسائل رياضية تتضمن تطبيقات حياتية لأنماط عددية وهندسية متنامية، وعلاقات، ويفسر حلها
A34: الأعداد والعمليات عليها | B34: العمليات على الأعداد، والحس العددي | C34: إجراء العمليات الأربع على الكســور الاعتياديــة والأعــداد الكســرية ،واســتخدامها فــي حــل مســائل رياضيــة | D34: يضرب الأعداد الكسرية، ويقسمها بتحويلها إلى كسور غير فعلية | O34: تمييز العلاقات بين وحدات الطــول والكتلــة والســعة والزمــن ،واســتخدامها فــي التحويــات بينهــا | P34: . يحــدد وحــدة القيــاس الأنســب مــن وحــدات القيــاس المتريــة للطــول والكتلــة والســعة.
A35: الأعداد والعمليات عليها | B35: العمليات على الأعداد، والحس العددي | C35: إجراء العمليات الأربع على الكســور الاعتياديــة والأعــداد الكســرية ،واســتخدامها فــي حــل مســائل رياضيــة | D35: يحل مسائل رياضية من ثلاث خطوات على الأكثر تتضمن تطبيقات حياتية على العمليات الأربع على الكسور والأعداد الكسرية، ويفسر حلها | O35: تمييز العلاقات بين وحدات الطــول والكتلــة والســعة والزمــن ،واســتخدامها فــي التحويــات بينهــا | P35: يميــز العلاقــات بيــن وحــدات الطــول المتريــة: (ســم، ملــم)، (م، ســم) ، (كلــم، م)، ويســتخدمها فــي التحويــل بينهــا.
... A75: الهندسة والقياس | B75: القياس ووحداته | C75: تمييــز صيــغ المحيــط والمســاحة لأشــكال ثنائيــة الأبعــاد، واســتخدامها فــي إيجــاد المحيــط والمســاحة، وفــي حــل مســائل رياضيــة | D75: يحــل مســائل رياضيــة تتضمــن تطبيقــات حياتيــة علــى حســاب محيطــات ومســاحات الأشــكال الهندســية، ويفســر حلهــا. | O75: وصف النسبة، والمعدل، والنسبة المئوية، والتناسب، وتمثيلها، والتعبير عنها، والتمييز بينها، وإيجادها. واستخدامها في حل مسائل رياضية | P75: يميز النسبة المئوية، ويمثلها باستخدام النماذج، والرسوم، ويوجدها ،ويعبر عنها ككسر عشري أو اعتيادي في أبسط صورة
A76: الهندسة والقياس | B76: القياس ووحداته | C76: وصــف الحجــم والمســاحة الســطحية، وتمييــز صيغهــا، ووحداتهــا ،واســتخدامها فــي حــل مســائل رياضيــة | D76: يصف الحجم، ويميز وحداته المناسبة والعلاقة بينها (الملمتر المكعب ،السنتمتر المكعب، المتر المكعب)، ويستخدمها في التحويل بينها | E76: . | O76: وصف النسبة، والمعدل، والنسبة المئوية، والتناسب، وتمثيلها، والتعبير عنها، والتمييز بينها، وإيجادها. واستخدامها في حل مسائل رياضية | P76: . يصف التناسب، ويمثله باستخدام النماذج والرسوم، ويحدد الكميات المتناسبة، ويحل التناسب.
A77: الهندسة والقياس | B77: القياس ووحداته | C77: وصــف الحجــم والمســاحة الســطحية، وتمييــز صيغهــا، ووحداتهــا ،واســتخدامها فــي حــل مســائل رياضيــة | D77: يميز صيغة حجم منشور رباعي قائم، ويستخدمها في حساب حجمه | E77: . | O77: وصف النسبة، والمعدل، والنسبة المئوية، والتناسب، وتمثيلها، والتعبير عنها، والتمييز بينها، وإيجادها. واستخدامها في حل مسائل رياضية | P77: . يحــل مســائل رياضيــة تتضمــن تطبيقــات حياتيــة علــى النســبة والمعــدل والنســبة المئويــة والتناســب، ويفســر حلهــا.
A78: الهندسة والقياس | B78: القياس ووحداته | C78: وصــف الحجــم والمســاحة الســطحية، وتمييــز صيغهــا، ووحداتهــا ،واســتخدامها فــي حــل مســائل رياضيــة | D78: يميز صيغة المساحة السطحية لمنشور رباعي قائم، ويستخدمها في تقدير وحساب المساحة السطحية | E78: . | O78: وصف عوامل عدد ومضاعفاته، وتمثيلها، وإيجادها، واستخدامها في حل مسائل رياضية | P78: يوجد عوامل العدد، ويمثلها باستخدام النماذج والرسوم
A79: الهندسة والقياس | B79: القياس ووحداته | C79: وصــف الحجــم والمســاحة الســطحية، وتمييــز صيغهــا، ووحداتهــا ،واســتخدامها فــي حــل مســائل رياضيــة | D79: يحل مسائل رياضية تتضمن تطبيقات حياتية على حساب حجم الرباعي القائم، والمساحة السطحية، ويفسر حلها | E79: . | O79: وصف عوامل عدد ومضاعفاته، وتمثيلها، وإيجادها، واستخدامها في حل مسائل رياضية | P79: يوجد مضاعفات العدد، ويمثلها باستخدام النماذج والرسوم
A80: الإحصاء والاحتمالات | B80: الإحصاء والتمثيات البيانية | C80: جـمــــع بيانـــات كـمــــيــــة ونوعيـــة واقعيـــة، وتنظيمهـــا، وتمثيلهـــا بالنقاط، والخطوط البيانية، والأعمدة، والقطــــــاعــات الدائــــريـة، وقــراءة تلك التمثيـلات، وتفســـيرها | D80: يجمــع بيانــات كميــة ونوعيــة واقعيــة، وينظمهــا فــي جــداول تكراريــة ، ويمثلها باستخدام النقاط والخطوط البيانية، والأعمدة، والقطاعات الدائريــة. | O80: وصف عوامل عدد ومضاعفاته، وتمثيلها، وإيجادها، واستخدامها في حل مسائل رياضية | P80: يصف العدد الأولى، ويملكه باستخدام النماذج، والرسوم، ويميزه عن العدد غير الأولى، ويحلل عددا إلى عواملة الأولية
A81: الإحصاء والاحتمالات | B81: الإحصاء والتمثيات البيانية | C81: جـمــــع بيانـــات كـمــــيــــة ونوعيـــة واقعيـــة، وتنظيمهـــا، وتمثيلهـــا بالنقاط، والخطوط البيانية، والأعمدة، والقطــــــاعــات الدائــــريـة، وقــراءة تلك التمثيـلات، وتفســـيرها | D81: يقــرأ البيانــات الممثلــة بالنقــاط، والخطــوط البيانيــة، والأعمــدة ،والقطاعــات الدائريــة، ويفســرها. | O81: وصف عوامل عدد ومضاعفاته، وتمثيلها، وإيجادها، واستخدامها في حل مسائل رياضية | P81: يوجد العامل المشترك الأكبر والمضاعف المشترك الأصغر العددين أو أكثر باستخدام التحليل إلى عوامل
A82: الإحصاء والاحتمالات | B82: الإحصاء والتمثيات البيانية | C82: جـمــــع بيانـــات كـمــــيــــة ونوعيـــة واقعيـــة، وتنظيمهـــا، وتمثيلهـــا بالنقاط، والخطوط البيانية، والأعمدة، والقطــــــاعــات الدائــــريـة، وقــراءة تلك التمثيـلات، وتفســـيرها | D82: يقــارن بيــن التمثيــلات المختلفــة للبيانــات، ويحــدد التمثيــل الأنســب لبيانــات معطــاة. | O82: وصف عوامل عدد ومضاعفاته، وتمثيلها، وإيجادها، واستخدامها في حل مسائل رياضية | P82: يحل مسائل رياضية تتضمن تطبيقات خيالية على العامل المشترك الأكبر والمضاعف المشترك الأصغر، ويفسر حلها
A83: الإحصاء والاحتمالات | B83: تحليل البيانات، وتفسيرها | C83: وصف مقاييس النزعة المركزية والمدى، وإيجادها، وتفسيرها. واختيار المقياس الأنسب منها | D83: يصف المتوسط الحسابي والوسيط، والمنوال، والمدى، ويوجدها المجموعة من القيم المفردة، ويفسر هذه المقاييس في سياق القيم. | O83: وصف قوى عدد كلي وتمثيلها، وإيجادها، وإيجاد قيم عبارات عددية تتضمنها، واستخدامها في حل مسائل رياضية | P83: يصف قوة عدد على أنه عدد كلي (أسه عدد كلي)، ويوجدها
A84: الإحصاء والاحتمالات | B84: تحليل البيانات، وتفسيرها | C84: وصف مقاييس النزعة المركزية والمدى، وإيجادها، وتفسيرها. واختيار المقياس الأنسب منها | D84: يحدد المتوسط الحسابي، والوسيط والمنوال، والمدى للبيانات. الممثلة بالنقاط والأعمدة | O84: وصف قوى عدد كلي وتمثيلها، وإيجادها، وإيجاد قيم عبارات عددية تتضمنها، واستخدامها في حل مسائل رياضية | P84: يوجد قيم عبارات عددية تتضمن قوى باستخدام ترتيب العمليات
A85: الإحصاء والاحتمالات | B85: تحليل البيانات، وتفسيرها | C85: وصف مقاييس النزعة المركزية والمدى، وإيجادها، وتفسيرها. واختيار المقياس الأنسب منها | D85: يقارن بين مقاييس النزعة المركزية أو المدى لمجموعة من البيانات. ويحدد المقياس الأنسب لوصفها | O85: وصف قوى عدد كلي وتمثيلها، وإيجادها، وإيجاد قيم عبارات عددية تتضمنها، واستخدامها في حل مسائل رياضية | P85: يحل مسائل رياضية تتضمن تطبيقات حياتية على عبارات عددية تتضمن قوى عدد كلى، ويفسر حلها
A86: الإحصاء والاحتمالات | B86: حساب الاحتمالات | C86: وصف التجربة العشوائية وإيجاد نواتجها، وتميز الحادثة، والتعبير عن احتمالات وقوعها | D86: يصف نواتج التجربة العشوائية الممكنة، ويوجد عددها باستخدام الجداول، والقوائم المنظمة، والرسم الشجري، ومبدأ العد | O86: وصف مقاييس النزعة المركزية والمدى، وإيجادها، وتفسيرها. واختيار المقياس الأنسب منها | P86: يصف المتوسط الحسابي والوسيط، والمنوال، والمدى، ويوجدها المجموعة من القيم المفردة، ويفسر هذه المقاييس في سياق القيم.
A87: الإحصاء والاحتمالات | B87: حساب الاحتمالات | C87: وصف التجربة العشوائية وإيجاد نواتجها، وتميز الحادثة، والتعبير عن احتمالات وقوعها | D87: يميز الحادثة، ويعبر عن احتمال وقوعها باستخدام الكلمات، والكسور الاعتيادية والعشرية، والنسب المئوية | O87: وصف مقاييس النزعة المركزية والمدى، وإيجادها، وتفسيرها. واختيار المقياس الأنسب منها | P87: يحدد المتوسط الحسابي، والوسيط والمنوال، والمدى للبيانات. الممثلة بالنقاط والأعمدة
A88: الإحصاء والاحتمالات | B88: حساب الاحتمالات | C88: وصف التجربة العشوائية وإيجاد نواتجها، وتميز الحادثة، والتعبير عن احتمالات وقوعها | D88: يحل مسائل رياضية تتضمن تطبيقات حياتية على نوائح التجربة العشوائية واحتمال حادثة، ويستخدمها للتنبؤ، ويفسر حلها. | O88: وصف مقاييس النزعة المركزية والمدى، وإيجادها، وتفسيرها. واختيار المقياس الأنسب منها | P88: يقارن بين مقاييس النزعة المركزية أو المدى لمجموعة من البيانات. ويحدد المقياس الأنسب لوصفها

Sheet المجالات والمؤشرات
C2: مهارات الرياضيات الصف الثالث - نافس ( اختر المهاارة المستهدفة بالسؤال )
B6: المستوى | C6: وصف المستوى | R6: 1 | S6: ='تحديد المجالات'!AM7 -> -
B7: المرتفع | C7: قراءة الأعداد ضمن عشرات الألوف وكتابتها | R7: 2 | S7: ='تحديد المجالات'!AM8 -> -
B8: المرتفع | C8: مقارنة الأعداد ضمن عشرات الألوف وترتيبها | R8: 3 | S8: ='تحديد المجالات'!AM9 -> -
B9: المرتفع | C9: التمكن من خصائص الطرح والجمع والضرب والقسمة | R9: 4 | S9: ='تحديد المجالات'!AM10 -> -
B10: المرتفع | C10: التعرف على مهارات القياس ( الحجم ، الكتلة ، الطول ) | R10: 5 | S10: ='تحديد المجالات'!AM11 -> -
B11: المرتفع | C11: الإلمام بمبادئ المهارات العلمية المتناسبة مع المرحلة ( التصنيف ، المقارنة ، الاستنتاج ... ) | R11: 6 | S11: ='تحديد المجالات'!AM12 -> -
R12: 7 | S12: ='تحديد المجالات'!AM13 -> -
R13: 8 | S13: ='تحديد المجالات'!AM14 -> -
R14: 9 | S14: ='تحديد المجالات'!AM15 -> -
R15: 10 | S15: ='تحديد المجالات'!AM16 -> -
R16: 11 | S16: ='تحديد المجالات'!AM17 -> -
R17: 12 | S17: ='تحديد المجالات'!AM18 -> -
R18: 13 | S18: ='تحديد المجالات'!AM19 -> -
R19: 14 | S19: ='تحديد المجالات'!AM20 -> -
R20: 15 | S20: ='تحديد المجالات'!AM21 -> -
R21: 16 | S21: ='تحديد المجالات'!AM22 -> -
R22: 17 | S22: ='تحديد المجالات'!AM23 -> -
R23: 18 | S23: ='تحديد المجالات'!AM24 -> -
... R28: 23 | S28: ='تحديد المجالات'!AM29 -> -
I29: =#REF! -> #REF! | R29: 24 | S29: ='تحديد المجالات'!AM30 -> -
R30: 25 | S30: ='تحديد المجالات'!AM31 -> -
R31: 26 | S31: ='تحديد المجالات'!AM32 -> -
R32: 27 | S32: ='تحديد المجالات'!AM33 -> -
R33: 28 | S33: ='تحديد المجالات'!AM34 -> -
R34: 29 | S34: ='تحديد المجالات'!AM35 -> -
R35: 30 | S35: ='تحديد المجالات'!AM36 -> -
R36: 31 | S36: ='تحديد المجالات'!AM37 -> -
R37: 32 | S37: ='تحديد المجالات'!AM38 -> -
R38: 33 | S38: ='تحديد المجالات'!AM39 -> -
R39: 34 | S39: ='تحديد المجالات'!AM40 -> -
R40: 35 | S40: ='تحديد المجالات'!AM41 -> -
R41: 36 | S41: ='تحديد المجالات'!AM42 -> -
... R176: 171 | S176: ='تحديد المجالات'!AM177 -> -
S177: ='تحديد المجالات'!AM178 -> -

Sheet س 1
J10: لطباعة النموذج بعد كتابة الأسئلة - ضلل الأسئلة ثم طباعة - طباعة التحديد
A13: م | B13: المؤشرات التي تم تحديدها للاختبار | I13: الاختبار الاول - نافس اسم الطالب : | W13: الصف | X13: ='مج 1'!G5 -> 0 | AD13: بنك الأسئلة ( لاضافة سؤال جديد أو تعديل صيغة سؤال )
A14: 1 | B14: =IF('مج 1'!G6="","",'مج 1'!G6) | I14: س1 | AC14: 1 | AD14: ماهو العدد المفقود في الصيغة التحليلية ( 4 + 10 + ....... + 6000 = 6314 ) | AZ14: {=TRANSPOSE(B14:G63)} | BA14: 0 | BC14: 0 | BE14: 0 | BG14: 0 | BI14: 0 | BK14: 0 | BM14: 0 | BO14: 0 | BQ14: 0 | BS14: 0 | BU14: 0 | BW14: 0 | BY14: 0 | CA14: 0 | CC14: 0 | CE14: 0 | CG14: 0 | CI14: 0 | CK14: 0 | CM14: 0 | CO14: 0 | CQ14: 0 | CS14: 0 | CU14: 0 | CW14: 0
J15: أ | N15: ب | R15: ج | V15: د | AC15: 2 | AD15: أكبر عدد فيما يلي هو : 5099 ، 5009 ، 9005 ، 5959 | AZ15: 0 | BA15: 0 | BB15: 0 | BC15: 0 | BD15: 0 | BE15: 0 | BF15: 0 | BG15: 0 | BH15: 0 | BI15: 0 | BJ15: 0 | BK15: 0 | BL15: 0 | BM15: 0 | BN15: 0 | BO15: 0 | BP15: 0 | BQ15: 0 | BR15: 0 | BS15: 0 | BT15: 0 | BU15: 0 | BV15: 0 | BW15: 0 | BX15: 0 | BY15: 0 | BZ15: 0 | CA15: 0 | CB15: 0 | CC15: 0 | CD15: 0 | CE15: 0 | CF15: 0 | CG15: 0 | CH15: 0 | CI15: 0 | CJ15: 0 | CK15: 0 | CL15: 0 | CM15: 0 | CN15: 0 | CO15: 0 | CP15: 0 | CQ15: 0 | CR15: 0 | CS15: 0 | CT15: 0 | CU15: 0 | CV15: 0 | CW15: 0
A16: 2 | B16: =IF('مج 1'!G7="","",'مج 1'!G7) | I16: س2 | AC16: 3 | AD16: زرع بدر 65% من مساحة حديقته ، والكسر الاعتيادي الذي يمثل المنطقة التي لم يزرعها ؟ | AZ16: 0 | BA16: 0 | BB16: 0 | BC16: 0 | BD16: 0 | BE16: 0 | BF16: 0 | BG16: 0 | BH16: 0 | BI16: 0 | BJ16: 0 | BK16: 0 | BL16: 0 | BM16: 0 | BN16: 0 | BO16: 0 | BP16: 0 | BQ16: 0 | BR16: 0 | BS16: 0 | BT16: 0 | BU16: 0 | BV16: 0 | BW16: 0 | BX16: 0 | BY16: 0 | BZ16: 0 | CA16: 0 | CB16: 0 | CC16: 0 | CD16: 0 | CE16: 0 | CF16: 0 | CG16: 0 | CH16: 0 | CI16: 0 | CJ16: 0 | CK16: 0 | CL16: 0 | CM16: 0 | CN16: 0 | CO16: 0 | CP16: 0 | CQ16: 0 | CR16: 0 | CS16: 0 | CT16: 0 | CU16: 0 | CV16: 0 | CW16: 0
J17: أ | N17: ب | R17: ج | V17: د | AC17: 4 | AD17: اشترت الجوهرة تلفازا بعد التخفيض بمبلغ ( 1989 ريالا ) اذا كان السعر الأصلي للتلفاز قبل التخفيض هو ( 2499 ريالا ) فما افضل تقدير للمبلغ الذي وفرته الجوهرة عند شرائها التلفاز ؟ | AZ17: 0 | BA17: 0 | BB17: 0 | BC17: 0 | BD17: 0 | BE17: 0 | BF17: 0 | BG17: 0 | BH17: 0 | BI17: 0 | BJ17: 0 | BK17: 0 | BL17: 0 | BM17: 0 | BN17: 0 | BO17: 0 | BP17: 0 | BQ17: 0 | BR17: 0 | BS17: 0 | BT17: 0 | BU17: 0 | BV17: 0 | BW17: 0 | BX17: 0 | BY17: 0 | BZ17: 0 | CA17: 0 | CB17: 0 | CC17: 0 | CD17: 0 | CE17: 0 | CF17: 0 | CG17: 0 | CH17: 0 | CI17: 0 | CJ17: 0 | CK17: 0 | CL17: 0 | CM17: 0 | CN17: 0 | CO17: 0 | CP17: 0 | CQ17: 0 | CR17: 0 | CS17: 0 | CT17: 0 | CU17: 0 | CV17: 0 | CW17: 0
A18: 3 | B18: =IF('مج 1'!G8="","",'مج 1'!G8) | I18: س3 | AC18: 5 | AD18: أي الاعداد التالية القيمة المنزلية للرقم 7 فيه هي ( 70000 ) | AZ18: 0 | BA18: 0 | BB18: 0 | BC18: 0 | BD18: 0 | BE18: 0 | BF18: 0 | BG18: 0 | BH18: 0 | BI18: 0 | BJ18: 0 | BK18: 0 | BL18: 0 | BM18: 0 | BN18: 0 | BO18: 0 | BP18: 0 | BQ18: 0 | BR18: 0 | BS18: 0 | BT18: 0 | BU18: 0 | BV18: 0 | BW18: 0 | BX18: 0 | BY18: 0 | BZ18: 0 | CA18: 0 | CB18: 0 | CC18: 0 | CD18: 0 | CE18: 0 | CF18: 0 | CG18: 0 | CH18: 0 | CI18: 0 | CJ18: 0 | CK18: 0 | CL18: 0 | CM18: 0 | CN18: 0 | CO18: 0 | CP18: 0 | CQ18: 0 | CR18: 0 | CS18: 0 | CT18: 0 | CU18: 0 | CV18: 0 | CW18: 0
J19: أ | N19: ب | R19: ج | V19: د | AC19: 6 | AD19: يدق قلب سميرة 410 مرات في 5 دقائق ، فكم مرة يدق قلبها في الدقيقة الواحدة بهذا المعدل ؟ | AZ19: 0 | BA19: 0 | BB19: 0 | BC19: 0 | BD19: 0 | BE19: 0 | BF19: 0 | BG19: 0 | BH19: 0 | BI19: 0 | BJ19: 0 | BK19: 0 | BL19: 0 | BM19: 0 | BN19: 0 | BO19: 0 | BP19: 0 | BQ19: 0 | BR19: 0 | BS19: 0 | BT19: 0 | BU19: 0 | BV19: 0 | BW19: 0 | BX19: 0 | BY19: 0 | BZ19: 0 | CA19: 0 | CB19: 0 | CC19: 0 | CD19: 0 | CE19: 0 | CF19: 0 | CG19: 0 | CH19: 0 | CI19: 0 | CJ19: 0 | CK19: 0 | CL19: 0 | CM19: 0 | CN19: 0 | CO19: 0 | CP19: 0 | CQ19: 0 | CR19: 0 | CS19: 0 | CT19: 0 | CU19: 0 | CV19: 0 | CW19: 0
A20: 4 | B20: =IF('مج 1'!G9="","",'مج 1'!G9) | I20: س4 | AC20: 7 | AD20: المنسبة المئوية 20 % على صورة كسر اعتيادي تساوي :
J21: أ | N21: ب | R21: ج | V21: د | AC21: 8 | AD21: إذا كانت 84 كعكة تكفي لإطعام 28 طفلا ، فكم كعكة تكفي لإطعام 30 طفل ؟
A22: 5 | B22: =IF('مج 1'!G10="","",'مج 1'!G10) | I22: س5 | AC22: 9 | AD22: تسمى النقطة في المستوى الإحداثي : ( 0 ، 0 ) :
J23: أ | N23: ب | R23: ج | V23: د | AC23: 10 | AD23: تقع النقطة ( 0 ، 7 ) على المستوى الاحداثي فوق محور :
A24: 6 | B24: =IF('مج 1'!G11="","",'مج 1'!G11) | I24: س6 | AC24: 11 | AD24: تستهلك سيارة سعود 99 لترا من البنززين في اليوم ، فكم لترا ستستلكه في أسبوع تقريبا
J25: أ | N25: ب | R25: ج | V25: د | AC25: 12 | AD25: الوسيط لمجموعة الاعداد : 23 ، 21 ، 27 ، 36 ، 44 هو
A26: 7 | B26: =IF('مج 1'!G12="","",'مج 1'!G12) | I26: س7 | AC26: 13 | AD26: الوحدة المناسبة لقياس طول شجرة هي :
J27: أ | N27: ب | R27: ج | V27: د | AC27: 14 | AD27: 0.9 - 0.3 =
A28: 8 | B28: =IF('مج 1'!G13="","",'مج 1'!G13) | I28: س8 | AC28: 15 | AD28: مربع محيطه 16 سم ، مساحته بالسنتيمتر المربع تساوي :
J29: أ | N29: ب | R29: ج | V29: د | AC29: 16 | AD29: تريد سلمى أن تزور ثلاث مواقع انترنت فبكم ترتيب يمكنها زيارة هذه المواقع .
A30: 9 | B30: =IF('مج 1'!G14="","",'مج 1'!G14) | I30: س9 | AC30: 17 | AD30: مدرج يتكون من 8 صفوف يتسع كل منها ل 25 شخص ، اذا كان المدرج مليئا بالاشخاص فكم شخصا في المدرج ؟
J31: أ | N31: ب | R31: ج | V31: د | AC31: 18 | AD31: وعاد سعته 3 لتر اذا تم تعبئته بكوب سعته 300 ملليتر من الماء ، فكم يحتاج محمد من كوب لملء الوعاء ؟
A32: 10 | B32: =IF('مج 1'!G15="","",'مج 1'!G15) | I32: س10 | AC32: 19 | AD32: لدى محمد مكعب حجمه 117 سم مكعب ومساحة قاعدته 13 سم مكعب فكم يكون ارتفاعه
J33: أ | N33: ب | R33: ج | V33: د | AC33: 20 | AD33: أي الاعداد التلية يكون قيمته 20000 إاذا تم تقريبه لعشرات الألوف
A34: 11 | B34: =IF('مج 1'!G16="","",'مج 1'!G16) | I34: س11 | AC34: 21 | AD34: وفر أحمد 5 ريالات في الأسبوع الأول و10 ريالات في الأسبوع الثاني ، و15 ريالا في الأسبوع الثالث ، اذا استمر بنفس النمط لمدة 6 أسابيع فكم سيكون معه بنهاية المدة
J35: أ | N35: ب | R35: ج | V35: د | AC35: 22 | AD35: وحدة الجرام هي الأنسب لقياس :
A36: 12 | B36: =IF('مج 1'!G17="","",'مج 1'!G17) | I36: س12 | AC36: 23 | AD36: نطرح : 22 - 5.18 يكون الناتج
J37: أ | N37: ب | R37: ج | V37: د | AC37: 24 | AD37: يبيع تاجر القطعة الواحدة من القماش ب 45.5 ريالا ، اذن هو سيبيع 5 قطع بمبلغ :
A38: 13 | B38: =IF('مج 1'!G18="","",'مج 1'!G18) | I38: س13 | AC38: 25 | AD38: 5أس4 تساوي :
J39: أ | N39: ب | R39: ج | V39: د | AC39: 26 | AD39: قيمة العبارة : 27 ÷ ( 3 + 6 ) × 5 - 12
A40: 14 | B40: =IF('مج 1'!G19="","",'مج 1'!G19) | I40: س14 | AC40: 27 | AD40: يمشر سعود 0.75 كيلو مترا في اليوم فكم مترا سيمشيها في خمسة أيام
J41: أ | N41: ب | R41: ج | V41: د | AC41: 28 | AD41: وحدة الطول المترية المناسبة لقياس طول شاطئ المملكة على البحر الأحمر هي
A42: 15 | B42: =IF('مج 1'!G20="","",'مج 1'!G20) | I42: س15 | AC42: 29 | AD42: بدأ الحفل الساعة 7:50 واستمر ساعتين و23 دقيقة ، متى ينتهي الحفل ؟
J43: أ | N43: ب | R43: ج | V43: د | AC43: 30 | AD43: ذكر سعيد أن ضعف مامعه يساوي 16.8 ، كم المبلغ الذي معه ؟
A44: 16 | B44: =IF('مج 1'!G21="","",'مج 1'!G21) | I44: س16 | AC44: 31 | AD44: بدأ الحفل الساعة 7:50 واستمر ساعتين و23 دقيقة ، متى ينتهي الحفل ؟
J45: أ | N45: ب | R45: ج | V45: د | AC45: 32 | AD45: سؤال جديد نكتبه هنا
A46: 17 | B46: =IF('مج 1'!G22="","",'مج 1'!G22) | I46: س17 | AC46: 33
J47: أ | N47: ب | R47: ج | V47: د | AC47: 34
A48: 18 | B48: =IF('مج 1'!G23="","",'مج 1'!G23) | I48: س18 | AC48: 35
J49: أ | N49: ب | R49: ج | V49: د | AC49: 36
A50: 19 | B50: =IF('مج 1'!G24="","",'مج 1'!G24) | I50: س19 | AC50: 37
J51: أ | N51: ب | R51: ج | V51: د | AC51: 38
A52: 20 | B52: =IF('مج 1'!G25="","",'مج 1'!G25) | I52: س20 | AC52: 39
J53: أ | N53: ب | R53: ج | V53: د | AC53: 40
A54: 21 | B54: =IF('مج 1'!G26="","",'مج 1'!G26) | I54: س21 | AC54: 41
J55: أ | N55: ب | R55: ج | V55: د | AC55: 42
A56: 22 | B56: =IF('مج 1'!G27="","",'مج 1'!G27) | I56: س22 | AC56: 43
J57: أ | N57: ب | R57: ج | V57: د | AC57: 44
A58: 23 | B58: =IF('مج 1'!G28="","",'مج 1'!G28) | I58: س23 | AC58: 45
J59: أ | N59: ب | R59: ج | V59: د | AC59: 46
A60: 24 | B60: =IF('مج 1'!G29="","",'مج 1'!G29) | I60: س24 | AC60: 47
J61: أ | N61: ب | R61: ج | V61: د | AC61: 48
A62: 25 | B62: =IF('مج 1'!G30="","",'مج 1'!G30) | I62: س25 | AC62: 49
J63: أ | N63: ب | R63: ج | V63: د | AC63: 50
AC64: 51
AC65: 52
AC66: 53
AC67: 54
AC68: 55
AC69: 56

Sheet مج 0
F2: تعليمات الصفحة :الخطوة 1 : اختر المادة الخطوة 2 : اختر المهارة التي يقيسها السؤال الخطوة 3 : ادخل درجة السؤال | I2: اكتب درجة السؤال | K2: الدرجة الكلية | M2: =SUM(I6:I30) -> 20
A3: المادة | B3: المستوى | C3: وصف المستوى | W3: المادة | Y3: رياضيات_سادس | Z3: رياضيات_ثالث_ابتدائي | AA3: قراءة_ثالث_ابتدائي | AB3: قراءة_سادس_ابتدائي | AC3: قراءة_ثالث_متوسط | AD3: علوم_سادس | AE3: علوم_ثالث_متوسط | AF3: رياضيات_ثالث_متوسط
A4: قراءة ثالث ابتدائي | B4: المرتفع | C4: يحدد المترادفات والمتضادات من السياق أو من غيره | G4: قوائم منسدلة للاختيار فقط | K4: عدد أسئلة الاختبار حسب مستوياتها | W4: قراءة ثالث ابتدائي | X4: =B4&" : "&C4 -> المرتفع : يحدد المترادفات والمتضادات من السياق أو من غيره | Y4: =X92 -> المرتفع : يحل مسائل رياضية على الكسور الاعتيادية والكسور العشرية | Z4: =X70 -> المرتفع : يقدر ناتج جمع وطرح الأعداد ضمن أربع منازل | AA4: =X4 -> المرتفع : يحدد المترادفات والمتضادات من السياق أو من غيره | AB4: =X22 -> المرتفع : يحدد المترادفات والمتضادات من السياق أو من غيره | AC4: =X44 -> المرتفع : يستنتج معاني مصطلحات تستخدم في مجالات علمية مختلفة | AD4: =X121 -> المرتفع : يصمم ويجري التجارب العلمية، ويحلل البيانات؛ ليقدم تفسيرات منطقية | AE4: =X155 -> المرتفع : يقدم أدلة تثبت أن المخلوقات الحية مكونة من خلايا | AF4: =X183 -> المرتفع : يحل المعادلات الخطية، ويحل نظام المعادلات الخطية
A5: قراءة ثالث ابتدائي | B5: المرتفع | C5: يفرق بين المفرد والمثنى والجمع من خلال السياق أو بدونه | F5: المادة | G5: رياضيات_سادس | I5: درجة السؤال | K5: المرتفع | L5: المتوسط | M5: المنخفض | N5: المنخفض جدا | X5: =B5&" : "&C5 -> المرتفع : يفرق بين المفرد والمثنى والجمع من خلال السياق أو بدونه | Y5: =X93 -> المرتفع : يقسم الأعداد الكسرية ويبسطها | Z5: =X71 -> المرتفع : يطبق خصائص الجمع والضرب | AA5: =X5 -> المرتفع : يفرق بين المفرد والمثنى والجمع من خلال السياق أو بدونه | AB5: =X23 -> المرتفع : يستنتج معاني مفردات تغيرت دلالاتها بتغير الزمن والسياق | AC5: =X45 -> المرتفع : يصنف معاني المصطلحات الجديدة وفقا لدلالاتها | AD5: =X122 -> المرتفع : يستكشف الدور الرئيس للجينات في نقل الصفات عبر الأجيال | AE5: =X156 -> المرتفع : يبني تفسيرًا مدعمًا بالأدلة حول كيفية عمل أجهزة الجسم وتفواعلها مع بعضها | AF5: =X184 -> المرتفع : يحل المتباينات الخطية في متغير واحد جبريًّا، ومتباينات تتضمن قيمة مطلقة
A6: قراءة ثالث ابتدائي | B6: المرتفع | C6: يوضح معاني المفردات من خلال السياق أو بدونه | F6: مهارة1 | G6: المرتفع : يحل مسائل رياضية على الأنماط العددية والدوال | I6: 5 | K6: =COUNTIF($Q$6:$Q$30,"المرتفع ") -> 2 | L6: =COUNTIF($Q$6:$Q$30,"المتوسط ") -> 2 | M6: =COUNTIF($Q$6:$Q$30,"المنخفض ") -> 0 | N6: =COUNTIF($Q$6:$Q$30,"المنخفض جداً ") -> 0 | Q6: =IFERROR(LEFT(G6,FIND(":",G6,1)-1),"") -> المرتفع | S6: {=_xlfn.UNIQUE(G6:G30)} -> المرتفع : يحل مسائل رياضية على الأنماط العددية والدوال | X6: =B6&" : "&C6 -> المرتفع : يوضح معاني المفردات من خلال السياق أو بدونه | Y6: =X94 -> المرتفع : يحل مسائل رياضية على النسبة والمعدل والنسبة المئوية والتناسب | Z6: =X72 -> المرتفع : يكتب جملاً عددية على العمليات الأربع ويوجد قيمتها | AA6: =X6 -> المرتفع : يوضح معاني المفردات من خلال السياق أو بدونه | AB6: =X24 -> المرتفع : يفهم النصوص المقروءة مع القدرة على تحليلها وتقويمها والتعبير عما يستنتج منها | AC6: =X46 -> المرتفع : يستنتج معاني المفردات الجديدة من خلال التفسير والتعريف | AD6: =X123 -> المرتفع : يميز التركيب والوظيفة في المخلوقات الحية | AE6: =X157 -> المرتفع : يوضح كيف تؤثر التغيرات في تركيب الجينات الطفرات( الموجودة على الكروموسومات في صنع البروتين) | AF6: =X185 -> المرتفع : يحل مسائل على الدالة الخطية
A7: قراءة ثالث ابتدائي | B7: المرتفع | C7: يحلل النصوص المقروءة ويقومها ويعبر عما يستنتج منها | F7: مهارة2 | G7: المرتفع : يدرك الفروق بين مقاييس النزعة المركزية | I7: 4 | Q7: =IFERROR(LEFT(G7,FIND(":",G7,1)-1),"") -> المرتفع | S7: المرتفع : يدرك الفروق بين مقاييس النزعة المركزية | X7: =B7&" : "&C7 -> المرتفع : يحلل النصوص المقروءة ويقومها ويعبر عما يستنتج منها | Y7: =X95 -> المرتفع : يحل مسائل رياضية على الأنماط العددية والدوال | Z7: =X73 -> المرتفع : يحل مسائل رياضية تتضمن تطبيقات مالية على النقود | AA7: =X7 -> المرتفع : يحلل النصوص المقروءة ويقومها ويعبر عما يستنتج منها | AB7: =X25 -> المرتفع : يميز نوع النص المقروء، ويحلل خصائصه، ويستنتج الأفكار الرئيسة والفرعية والضمنية فيه | AC7: =X47 -> المرتفع : يستنتج معاني المفردات الجديدة من خلال الترادف، والتضاد | AD7: =X124 -> المرتفع : يستخدم الأدلة العلمية لإيجاد حلول لبعض المشاكل التي تواجه النباتات والحيوانات؛ بسبب التغيرات البيئية | AE7: =X158 -> المرتفع : يجمع معلومات حول التقنيات الحديثة التي غيرت طرق البشر في توريث الصفات المرغوبة للمخلوقات الحية | AF7: =X186 -> المرتفع : يحل مسائل على الدالة التربيعية
A8: قراءة ثالث ابتدائي | B8: المرتفع | C8: يستنتج فكرة النص المنظور الرئيسة، ويستخرج قيمه وأفكاره الفرعية | F8: مهارة3 | G8: المتوسط : يوجد النسبة المئوية | I8: 5 | K8: عدد أسئلة الاختبار | N8: =K6+L6+M6+N6 -> 4 | Q8: =IFERROR(LEFT(G8,FIND(":",G8,1)-1),"") -> المتوسط | S8: المتوسط : يوجد النسبة المئوية | X8: =B8&" : "&C8 -> المرتفع : يستنتج فكرة النص المنظور الرئيسة، ويستخرج قيمه وأفكاره الفرعية | Y8: =X96 -> المرتفع : يوجد قاعدة دالة ما من خلال جدول | Z8: =X74 -> المرتفع : يحلل البيانات الممثلة في الرسوم البيانية | AA8: =X8 -> المرتفع : يستنتج فكرة النص المنظور الرئيسة، ويستخرج قيمه وأفكاره الفرعية | AB8: =X26 -> المرتفع : يستنتج المفاهيم من أفكار النص والعلاقات بينها | AC8: =X48 -> المرتفع : يستنتج معاني المفردات الجديدة من خلال السياق وبدونه | AD8: =X125 -> المرتفع : يبتكر طرًقًا جديدة ةعادة التدوير للحفاظ على الأرض | AE8: =X159 -> المرتفع : يتعرف على أمثلة الانتخاب الصناعي الانتقائي( لصفات معينة في النباتات والحيوانات) | AF8: =X187 -> المرتفع : يوجد قيم الدوال المثلثية باستخدام الآلة الحاسبة
A9: قراءة ثالث ابتدائي | B9: المرتفع | C9: يحلل أحداث النصوص المتشابكة وتسلسلها ويحدد شخصياتها | F9: مهارة4 | G9: المتوسط : يطبق العمليات على الكسور والأعداد العشرية | I9: 6 | Q9: =IFERROR(LEFT(G9,FIND(":",G9,1)-1),"") -> المتوسط | S9: المتوسط : يطبق العمليات على الكسور والأعداد العشرية | X9: =B9&" : "&C9 -> المرتفع : يحلل أحداث النصوص المتشابكة وتسلسلها ويحدد شخصياتها | Y9: =X97 -> المرتفع : يوجد زوايا قياسات مجهولة في المثلن أو الشكل الرباعي | Z9: =X75 -> المتوسط : يميز القيمة المنزلية لعدد ضمن سبع منازل | AA9: =X9 -> المرتفع : يحلل أحداث النصوص المتشابكة وتسلسلها ويحدد شخصياتها | AB9: =X27 -> المرتفع : يستنتج القيم والاتجاهات الإيجابية والسلبية من النص المقروء وأثرها في الفرد والمجتمع | AC9: =X49 -> المرتفع : يميز الفروق الأساسية في بنية النص المقروء | AD9: =X126 -> المرتفع : يميز مصادر الطاقة البديلة للحفاظ على البيئة | AE9: =X160 -> المرتفع : يتنبأ بتغيرات الأرض المسببة للكوارث الطبيعية ويقترح حلولاً لتقليل تأثير تلك التغيرات | AF9: =X188 -> المرتفع : يحل مسائل على اةحصاء والاحتمالات
A10: قراءة ثالث ابتدائي | B10: المتوسط | C10: يحدد المترادفات والأضداد من خلال السياق | F10: مهارة5 | Q10: =IFERROR(LEFT(G10,FIND(":",G10,1)-1),"") | S10: 0 | X10: =B10&" : "&C10 -> المتوسط : يحدد المترادفات والأضداد من خلال السياق | Y10: =X98 -> المرتفع : يحل مسائل رياضية تتضمن حساب المحيط والمساحة والحجم | Z10: =X76 -> المتوسط : يكتب الأعداد الكلية في الصور القياسية واللفظية والتحليلية | AA10: =X10 -> المتوسط : يحدد المترادفات والأضداد من خلال السياق | AB10: =X28 -> المتوسط : يحدد المترادفات والأضداد من خلال السياق | AC10: =X50 -> المرتفع : يحلل النصوص المقروءة من حيث الترتيب الزمني والمكاني والأهمية والمقارنة والمقابلة والقضية العامة والأدلة الداعمة | AD10: =X127 -> المرتفع : يستكشف الخصائص والتغيرات الفيزيائية والكيميائية للمادة | AE10: =X161 -> المرتفع : يتنبأ باتجاه حركة جسمٍ ما عند رميه أو إسقاطه | AF10: =X189 -> المرتفع : يوجد القيم العظمى والصغرى للدالة التربيعية
A11: قراءة ثالث ابتدائي | B11: المتوسط | C11: يوضح معاني بعض المفردات من خلال السياق | F11: مهارة6 | K11: تظهر النسب بعد رصد الدرجات | Q11: =IFERROR(LEFT(G11,FIND(":",G11,1)-1),"") | X11: =B11&" : "&C11 -> المتوسط : يوضح معاني بعض المفردات من خلال السياق | Y11: =X99 -> المرتفع : يمثل البيانات ويحللها لحل المسائل الرياضية | Z11: =X77 -> المتوسط : يصف كسور الوحدة ويميزها ويمثلها على خط الأعداد | AA11: =X11 -> المتوسط : يوضح معاني بعض المفردات من خلال السياق | AB11: =X29 -> المتوسط : يستنتج بعض مرادفات الكلمات الجديدة بدون سياق | AC11: =X51 -> المرتفع : يستنتج الأفكار الرئيسة والفرعية والضمنية من النص المقروء | AD11: =X128 -> المرتفع : يتنبأ بالقوى المؤثرة على الأجسام ويفسر العلاقات باستخدام قوانين نيوتن | AE11: =X162 -> المرتفع : يقارن بين الخصائص الفيزيائية لمادةٍ ما بناءً على حالتها وشكلها ولونها وملمسها | AF11: =X190 -> المتوسط : يبسط العبارات الرياضية ويوجد قيمها
A12: قراءة ثالث ابتدائي | B12: المتوسط | C12: يفرق بين المفرد والمثنى والجمع من خلال السياق | F12: مهارة7 | Q12: =IFERROR(LEFT(G12,FIND(":",G12,1)-1),"") | X12: =B12&" : "&C12 -> المتوسط : يفرق بين المفرد والمثنى والجمع من خلال السياق | Y12: =X100 -> المرتفع : يدرك الفروق بين مقاييس النزعة المركزية | Z12: =X78 -> المتوسط : يُجري العمليات الأربع باستخدام ستراتيجيات حل المسائل ضمن أربع منازل | AA12: =X12 -> المتوسط : يفرق بين المفرد والمثنى والجمع من خلال السياق | AB12: =X30 -> المتوسط : يستنتج معاني بعض المفردات التي تغيرت دلالتها بتغير الزمن من خلالالسياق | AC12: =X52 -> المرتفع : يقوّم النصوص المقروءة من خلال ما تتضمنه من قيم إيجابية وسلبية، ويحدد تأثيرها في الفرد والمجتمع | AD12: =X129 -> المرتفع : يصمم نموذج لوصف حركة الأرض والقمر والشمس ويفسر الظواهر المرتبطة بها | AE12: =X163 -> المرتفع : يستكشف مجموعات عناصر الجدول الدوري، ويميز التفاعلات الكيميائية والعوامل المؤثرة عليها | AF12: =X191 -> المتوسط : يحل معادلات تتضمن قيمة مطلقة
A13: قراءة ثالث ابتدائي | B13: المتوسط | C13: يجيب عن بعض الأسئلة التحليلية للنص المقروء | F13: مهارة8 | K13: نسبة الإجابات الصحيحة في مهارات المستوى المرتفع | O13: ='ادخال درجات التشخيصي'!AH222 -> 0.75 | Q13: =IFERROR(LEFT(G13,FIND(":",G13,1)-1),"") | X13: =B13&" : "&C13 -> المتوسط : يجيب عن بعض الأسئلة التحليلية للنص المقروء | Y13: =X101 -> المتوسط : يطبق العمليات على الكسور والأعداد العشرية | Z13: =X79 -> المتوسط : يميز الأنماط ويوسعها | AA13: =X13 -> المتوسط : يجيب عن بعض الأسئلة التحليلية للنص المقروء | AB13: =X31 -> المتوسط : يفهم النصوص المقروءة، ويجيب عن بعض الأسئلة التحليلية وبعض الأسئلةالاستنتاجية | AC13: =X53 -> المتوسط : يستنتج بعض معاني المصطلحات التي تستخدم في مجالات علمية مختلفة | AD13: =X130 -> المتوسط : يصف تراكيب ووظائف كل من الخلايا والأنسجة والأعضاء والأجهزة في المخلوقات الحية | AE13: =X164 -> المتوسط : يستخدم بعض الأدوات لتمثيل مفهوم علمي | AF13: =X192 -> المتوسط : يوجد معدل التغير لدالة ما
A14: قراءة ثالث ابتدائي | B14: المتوسط | C14: يتعرف على أحداث النص، وعلى شخصياته | F14: مهارة9 | K14: نسبة الإجابات الصحيحة في مهارات المستوى المتوسط | O14: ='ادخال درجات التشخيصي'!AH223 -> 0.875 | Q14: =IFERROR(LEFT(G14,FIND(":",G14,1)-1),"") | X14: =B14&" : "&C14 -> المتوسط : يتعرف على أحداث النص، وعلى شخصياته | Y14: =X102 -> المتوسط : يوجد النسبة المئوية | Z14: =X80 -> المتوسط : يصف الأشكال الهندسية ثلاثية الأبعاد وفق خصائص(عدد الأوجه وأشكالها، وعدد الرؤوس والأحرف | AA14: =X14 -> المتوسط : يتعرف على أحداث النص، وعلى شخصياته | AB14: =X32 -> المتوسط : يميز نوع النص المقروء وخصائصه وغرضه، ويستنتج الأفكار الرئيسة وبعضالأفكار الفرعية منه | AC14: =X54 -> المتوسط : يصنف بعض معاني المصطلحات الجديدة وفقا لدلالاتها | AD14: =X131 -> المتوسط : يوضح أوجه التشابه والاختلاف بين أجهزة الجسم | AE14: =X165 -> المتوسط : يوضح كيف يتكون الجسم من أجهزة مترابطة مكونة من خلايا وأنسجة وأعضاء تعمل معًا للحفاظ على التوازن | AF14: =X193 -> المتوسط : يوضح مفهوم الدالة
A15: قراءة ثالث ابتدائي | B15: المتوسط | C15: يحدد الفكرة الرئيسة للنص المنظور | F15: مهارة10 | K15: نسبة الإجابات الصحيحة في مهارات المستوى المنخفض | O15: ='ادخال درجات التشخيصي'!AH224 -> لايوجد | Q15: =IFERROR(LEFT(G15,FIND(":",G15,1)-1),"") | X15: =B15&" : "&C15 -> المتوسط : يحدد الفكرة الرئيسة للنص المنظور | Y15: =X103 -> المتوسط : يوجد قاعدة دالة ما | Z15: =X81 -> المتوسط : يحسب المحيط والمساحة للأشكال الهندسية | AA15: =X15 -> المتوسط : يحدد الفكرة الرئيسة للنص المنظور | AB15: =X33 -> المتوسط : يوضح المفاهيم الواردة في أفكار النص المقروء والعلاقات بينها | AC15: =X55 -> المتوسط : يستنتج بعض معاني المفردات الجديدة من خلال التفسير والتعريف | AD15: =X132 -> المتوسط : يقارن بين دورات الحياة في النباتات والحيوانات | AE15: =X166 -> المتوسط : يوضح تركيب الحمض النووي وتأثير أي تغيرات من الممكن أن تحدث في تسلسل الجينات (على سبيل المثال الطفرات) | AF15: =X194 -> المتوسط : يمثل المعادلة الخطية باستخدام المقطع السيني والصادي
A16: قراءة ثالث ابتدائي | B16: المنخفض | C16: يتعرف على بعض المترادفات والمتضادات الواضحة من خلال السياق | F16: مهارة11 | K16: نسبة الإجابات الصحيحة في مهارات المستوى المنخفض جدا | O16: ='ادخال درجات التشخيصي'!AH225 -> لايوجد | Q16: =IFERROR(LEFT(G16,FIND(":",G16,1)-1),"") | X16: =B16&" : "&C16 -> المنخفض : يتعرف على بعض المترادفات والمتضادات الواضحة من خلال السياق | Y16: =X104 -> المتوسط : يوجد العامل المشترك الأكبر والمضاعف المشترك الأصغر لعددين أو أكثر | Z16: =X82 -> المتوسط : يحدد الوحدة المناسبة للقياس | AA16: =X16 -> المنخفض : يتعرف على بعض المترادفات والمتضادات الواضحة من خلال السياق | AB16: =X34 -> المتوسط : يستنتج بعض القيم والاتجاهات الإيجابية والسلبية من النص وأثرها في الفرد والمجتمع | AC16: =X56 -> المتوسط : يستنتج بعض معاني المفردات الجديدة من خلال الترادف، والتضاد | AD16: =X133 -> المتوسط : يوضح أن بعض المخلوقات الحية لديها تكيفات تمكنها من البقاء في النظام البيئي بشكل أفضل | AE16: =X167 -> المتوسط : يشرح التغيرات التي تطرأ على سطح الأرض وتسبب الكوارث الطبيعية (مثل الزلازل والبراكين) | AF16: =X195 -> المتوسط : يحدد ما ذا كان المستقيمان متوازيين أو متعامدين بمعلومية معادلة أو ميل
A17: قراءة ثالث ابتدائي | B17: المنخفض | C17: يوضح معاني بعض المفردات الواضحة من خلال السياق | F17: مهارة12 | Q17: =IFERROR(LEFT(G17,FIND(":",G17,1)-1),"") | X17: =B17&" : "&C17 -> المنخفض : يوضح معاني بعض المفردات الواضحة من خلال السياق | Y17: =X105 -> المتوسط : يحل مسائل رياضية تتعلق بالزوايا والمضلعات | Z17: =X83 -> المنخفض : يقارن ويرتب الأعداد تصاعديًّا وتنازليًّا | AA17: =X17 -> المنخفض : يوضح معاني بعض المفردات الواضحة من خلال السياق | AB17: =X35 -> المنخفض : يحدد بعض المترادفات والأضداد من خلال السياق. | AC17: =X57 -> المتوسط : يستنتج معاني المفردات الجديدة من خلال السياق | AD17: =X134 -> المتوسط : يتنبأ بالتركيب الجيني المحتمل لصفات مختارة من الأبوين، ويميز بين الصفات الموروثة والمكتسبة | AE17: =X168 -> المتوسط : يفرق بين العناصر والمركبات والمخاليط ويميز بين خصائص المواد | AF17: =X196 -> المتوسط : يحل المتباينات
A18: قراءة ثالث ابتدائي | B18: المنخفض | C18: يجيب عن أسئلة الاسترجاع للمعلومة الواردة صريحة في النص | F18: مهارة13 | Q18: =IFERROR(LEFT(G18,FIND(":",G18,1)-1),"") | X18: =B18&" : "&C18 -> المنخفض : يجيب عن أسئلة الاسترجاع للمعلومة الواردة صريحة في النص | Y18: =X106 -> المتوسط : يحسب محيط الأشكال المستوية | Z18: =X84 -> المنخفض : يجمع الأعداد ضمن أربع منازل ويطرحها ذهنيًّا | AA18: =X18 -> المنخفض : يجيب عن أسئلة الاسترجاع للمعلومة الواردة صريحة في النص | AB18: =X36 -> المنخفض : يوضح معاني بعض المفردات من خلال السياق. | AC18: =X58 -> المتوسط : يميز الفروق الأساسية في بنية النص المقروء | AD18: =X135 -> المتوسط : يصنف المخلوقات الحية بحسب مستويات الطاقة في بيئتها | AE18: =X169 -> المتوسط : يحدد التفاعلات الكيميائية البسيطة ويوضح كيف أن العدد الكلي للذرات لا يتغير في التفاعل الكيميائي | AF18: =X197 -> المتوسط : يحل مسائل رياضية على نظرية فيثاغورس
A19: قراءة ثالث ابتدائي | B19: المنخفض | C19: يتعرف على بعض أهداف النص المنظور | F19: مهارة14 | Q19: =IFERROR(LEFT(G19,FIND(":",G19,1)-1),"") | X19: =B19&" : "&C19 -> المنخفض : يتعرف على بعض أهداف النص المنظور | Y19: =X107 -> المتوسط : يصنف المثلثات وفًقًا لأطوال أضلاعها، وقياسات زواياها ويوجد قياسات الزوايا المجهولة للأشكال الرباعية | Z19: =X85 -> المنخفض : يصف ويصنف الأشكال الهندسية نائية الأبعاد | AA19: =X19 -> المنخفض : يتعرف على بعض أهداف النص المنظور | AB19: =X37 -> المنخفض : يجيب عن بعض أسئلة النصوص المقروءة المباشرة. | AC19: =X59 -> المتوسط : يستنتج الأفكار الرئيسة في النص | AD19: =X136 -> المتوسط : يوضح العلاقات بين مخلوقات حية محددة داخل بيئة معينة | AE19: =X170 -> المتوسط : يطبق قوانين نيوتن لتفسير التغيرات التي تحدث للأجسام المتحركة | AF19: =X198 -> المتوسط : يوجد النسب المثلثية
A20: قراءة ثالث ابتدائي | B20: المنخفض جداً | C20: يتعرف على بعض المترادفات من خلال السياق | F20: مهارة15 | Q20: =IFERROR(LEFT(G20,FIND(":",G20,1)-1),"") | X20: =B20&" : "&C20 -> المنخفض جداً : يتعرف على بعض المترادفات من خلال السياق | Y20: =X108 -> المتوسط : يحسب مقاييس النزعة المركزية والمدى | Z20: =X86 -> المنخفض : يصف التما ل في شكل ويحدد خط التما ل | AA20: =X20 -> المنخفض جداً : يتعرف على بعض المترادفات من خلال السياق | AB20: =X38 -> المنخفض : يميز نوع النص المقروء. | AC20: =X60 -> المتوسط : يرتب الأحداث الواردة في النص | AD20: =X137 -> المتوسط : يوضح كيف يسبب دوران الأرض، وميلان محورها وتفاعلها مع الشمس في حدوث الفصول الأربعة والتغير في ساعات النهار والليل | AE20: =X171 -> المتوسط : يقدم أدلة تثبت أن التغير في حركة الجسم تعتمد على كتلة الجسوم وعلى مجموع القوى المؤثرة عليه | AF20: =X199 -> المتوسط : يوجد احتمال حدث لتجربة معينة
A21: قراءة ثالث ابتدائي | B21: المنخفض جداً | C21: يجيب عن أسئلة عن معلومات واردة صريحة في النص | F21: مهارة16 | Q21: =IFERROR(LEFT(G21,FIND(":",G21,1)-1),"") | X21: =B21&" : "&C21 -> المنخفض جداً : يجيب عن أسئلة عن معلومات واردة صريحة في النص | Y21: =X109 -> المتوسط : يحل مسائل رياضية على الاحتمالات | Z21: =X87 -> المنخفض : يمثل البيانات باستخدام النقاط والرسوم البيانية | AA21: =X21 -> المنخفض جداً : يجيب عن أسئلة عن معلومات واردة صريحة في النص | AB21: =X39 -> المنخفض : يستنتج بعض الأفكار الرئيسة من النص المقروء. | AC21: =X61 -> المتوسط : يحدد بعض القيم ا ةيجابية والسلبية الواردة في النص | AD21: =X138 -> المتوسط : يبحث ويوضح ما إذا كان خلط المواد ينتج مادة جديدة | AE21: =X172 -> المتوسط : يوضح بعض العوامل التي تؤثر على شدة القوى الكهربائية والمغناطيسية | AF21: =X200 -> المنخفض : يكتب الجذر التربيعي لعدد في أبسط صورة ويوجد قيمته
A22: قراءة سادس ابتدائي | B22: المرتفع | C22: يحدد المترادفات والمتضادات من السياق أو من غيره | F22: مهارة17 | Q22: =IFERROR(LEFT(G22,FIND(":",G22,1)-1),"") | W22: قراءة سادس ابتدائي | X22: =B22&" : "&C22 -> المرتفع : يحدد المترادفات والمتضادات من السياق أو من غيره | Y22: =X110 -> المنخفض : يوجد حاصل ضرب وقسمة الكسور العشرية وحاصل جمع وطرح الكسور المتشابهة المقام | Z22: =X88 -> المنخفض جداً : يقارن بين عددين طبيعيين | AB22: =X40 -> المنخفض : يوضح بعض المفاهيم الشائعة الواردة في أفكار النص المقروء. | AC22: =X62 -> المنخفض : يستنتج بعض معاني المفردات من خلال الترادف، والتضاد | AD22: =X139 -> المتوسط : يستقصي حركة الجسوم ليتنبأ بالحركة المستقبلية ويفسر تأثير القوى المتزنة وغير المتزنة | AE22: =X173 -> المنخفض : يتعرف على التراكيب الأساسية لأجسام المخلوقات الحية | AF22: =X201 -> المنخفض : يحل معادلة من خطوة واحدة
A23: قراءة سادس ابتدائي | B23: المرتفع | C23: يستنتج معاني مفردات تغيرت دلالاتها بتغير الزمن والسياق | F23: مهارة18 | Q23: =IFERROR(LEFT(G23,FIND(":",G23,1)-1),"") | X23: =B23&" : "&C23 -> المرتفع : يستنتج معاني مفردات تغيرت دلالاتها بتغير الزمن والسياق | Y23: =X111 -> المنخفض : يوجد النسبة المئوية ويحولها لى كسر أو العكس | Z23: =X89 -> المنخفض جداً : يحدد الوقت والزمن ويختار الوحدات المناسبة | AB23: =X41 -> المنخفض جداً : يتعرف على بعض المترادفات من خلال السياق. | AC23: =X63 -> المنخفض : يستنتج بعض معاني المفردات الجديدة الواضحة من خلال السياق | AD23: =X140 -> المتوسط : يتنبأ بالقوى المؤ رة على جسمٍ ما يتحرك على أسطح مختلفة | AE23: =X174 -> المنخفض : يصوف بعض التغيرات التي تطرأ على سوطح الأرض وتسوبب الكوارث الطبيعية مثل الزلازل والبراكين | AF23: =X202 -> المنخفض : يحدد ما ذا كانت العلاقة تمثل دالة
A24: قراءة سادس ابتدائي | B24: المرتفع | C24: يفهم النصوص المقروءة مع القدرة على تحليلها وتقويمها والتعبير عما يستنتج منها | F24: مهارة19 | Q24: =IFERROR(LEFT(G24,FIND(":",G24,1)-1),"") | X24: =B24&" : "&C24 -> المرتفع : يفهم النصوص المقروءة مع القدرة على تحليلها وتقويمها والتعبير عما يستنتج منها | Y24: =X112 -> المنخفض : يبسط العبارات الجبرية ويوجد قيمتها | Z24: =X90 -> المنخفض جداً : يميز بين فئات النقود المعدنية والورقية، ويستخدمها في عد المبالم ضمن 9999 ريالاً | AB24: =X42 -> المنخفض جداً : يوضح معاني بعض المفردات من خلال السياق. | AC24: =X64 -> المنخفض : يرتب بعض أحداث النص الواضحة | AD24: =X141 -> المتوسط : يستخدم أدلة؛ ليفسر تحولات الطاقة | AE24: =X175 -> المنخفض : يتعرف على مفهوم العناصر، والمركبات، والمخاليط | AF24: =X203 -> المنخفض : يوجد معادلة المستقيم
A25: قراءة سادس ابتدائي | B25: المرتفع | C25: يميز نوع النص المقروء، ويحلل خصائصه، ويستنتج الأفكار الرئيسة والفرعية والضمنية فيه | F25: مهارة20 | Q25: =IFERROR(LEFT(G25,FIND(":",G25,1)-1),"") | X25: =B25&" : "&C25 -> المرتفع : يميز نوع النص المقروء، ويحلل خصائصه، ويستنتج الأفكار الرئيسة والفرعية والضمنية فيه | Y25: =X113 -> المنخفض : يتعرف على قانون محيط الدائرة | Z25: =X91 -> المنخفض جداً : يجمع البيانات وينظمها في الجداول التكرارية | AB25: =X43 -> المنخفض جداً : يجيب عن بعض أسئلة النصوص المقروءة الواضحة. | AC25: =X65 -> المنخفض : يجيب عن بعض الأسئلة المباشرة الواضحة | AD25: =X142 -> المنخفض : يتعرف على بعض تراكيب الخلايا والأنسجة والأعضاء والأجهزة في المخلوقات الحية | AE25: =X176 -> المنخفض : يتعرف على التفاعل الكيميائي البسيط | AF25: =X204 -> المنخفض : يحلل كثيرات الحدود
A26: قراءة سادس ابتدائي | B26: المرتفع | C26: يستنتج المفاهيم من أفكار النص والعلاقات بينها | F26: مهارة21 | Q26: =IFERROR(LEFT(G26,FIND(":",G26,1)-1),"") | X26: =B26&" : "&C26 -> المرتفع : يستنتج المفاهيم من أفكار النص والعلاقات بينها | Y26: =X114 -> المنخفض : يوجد احتمال حدث بسيط لتجربة معينة | AC26: =X66 -> المنخفض : يتعرف على الفكرة الرئيسة في النص | AD26: =X143 -> المنخفض : يتعرف على أوجه التشابه والاختلاف بين الخلايا النباتية والحيوانية | AE26: =X177 -> المنخفض : يتعرف على الطاقة الكامنة والحركية، ويميز بين القوى المتزنة وغير المتزنة المؤثرة على الأجسام | AF26: =X205 -> المنخفض : يوجد قياسات المضلعات المجهولة باستخدام نظرية فيثاغورس
A27: قراءة سادس ابتدائي | B27: المرتفع | C27: يستنتج القيم والاتجاهات الإيجابية والسلبية من النص المقروء وأثرها في الفرد والمجتمع | F27: مهارة22 | Q27: =IFERROR(LEFT(G27,FIND(":",G27,1)-1),"") | X27: =B27&" : "&C27 -> المرتفع : يستنتج القيم والاتجاهات الإيجابية والسلبية من النص المقروء وأثرها في الفرد والمجتمع | Y27: =X115 -> المنخفض جداً : يحلل الأعداد إلى العوامل الأولية | AC27: =X67 -> المنخفض جداً : يستنتج بعض معاني المفردات الجديدة من خلال الترادف | AD27: =X144 -> المنخفض : يتعرف على نموذج حركة كل من الأرض والشمس والقمر | AE27: =X178 -> المنخفض جداً : يتعرف على التراكيب التي تدعم النمو والبقاء والسلوك والتكاثر | AF27: =X206 -> المنخفض : يحسب مقاييس النزعة المركزية ويتعرف على مقاييس التشتت
A28: قراءة سادس ابتدائي | B28: المتوسط | C28: يحدد المترادفات والأضداد من خلال السياق | F28: مهارة23 | Q28: =IFERROR(LEFT(G28,FIND(":",G28,1)-1),"") | X28: =B28&" : "&C28 -> المتوسط : يحدد المترادفات والأضداد من خلال السياق | Y28: =X116 -> المنخفض جداً : يجمع ويطرح الأعداد العشرية | AC28: =X68 -> المنخفض جداً : يتعرف على معاني بعض المفردات الجديدة من خلال السياق | AD28: =X145 -> المنخفض : يتعرف على بعض الصفات المورو ة من الأبوين | AE28: =X179 -> المنخفض جداً : يتعرف على بعض التغيرات التي تطرأ على سطح الأرض مثل الزلازل والبراكين | AF28: =X207 -> المنخفض : يتعرف على التباديل والتوافيق
A29: قراءة سادس ابتدائي | B29: المتوسط | C29: يستنتج بعض مرادفات الكلمات الجديدة بدون سياق | F29: مهارة24 | Q29: =IFERROR(LEFT(G29,FIND(":",G29,1)-1),"") | X29: =B29&" : "&C29 -> المتوسط : يستنتج بعض مرادفات الكلمات الجديدة بدون سياق | Y29: =X117 -> المنخفض جداً : يتعرف على مفاهيم الكسور الاعتيادية والنسبة والمعدل والنسبة المئوية | AC29: =X69 -> المنخفض جداً : يجيب عن بعض الأسئلة المباشرة الواضحة | AD29: =X146 -> المنخفض : يستكشف خصائص المواد الفيزيائية والكيميائية | AE29: =X180 -> المنخفض جداً : يتعرف على بعض خصائص المادة | AF29: =X208 -> المنخفض جداً : يحل معادلة بمتغير واحد
A30: قراءة سادس ابتدائي | B30: المتوسط | C30: يستنتج معاني بعض المفردات التي تغيرت دلالتها بتغير الزمن من خلالالسياق | F30: مهارة25 | Q30: =IFERROR(LEFT(G30,FIND(":",G30,1)-1),"") | X30: =B30&" : "&C30 -> المتوسط : يستنتج معاني بعض المفردات التي تغيرت دلالتها بتغير الزمن من خلالالسياق | Y30: =X118 -> المنخفض جداً : يستوعب مفهوم المتباينات | AD30: =X147 -> المنخفض : يصف حركة الجسم ويوضح كيف تؤ ر القوة والكتلة على حركة الجسم | AE30: =X181 -> المنخفض جداً : يتعرف على بعض المصطلحات مثل: السرعة، الجاذبية | AF30: =X209 -> المنخفض جداً : يتعرف على نظام معادلتين خطيتين متسق وغير متسق ومستقل وغير مستقل
A31: قراءة سادس ابتدائي | B31: المتوسط | C31: يفهم النصوص المقروءة، ويجيب عن بعض الأسئلة التحليلية وبعض الأسئلةالاستنتاجية | X31: =B31&" : "&C31 -> المتوسط : يفهم النصوص المقروءة، ويجيب عن بعض الأسئلة التحليلية وبعض الأسئلةالاستنتاجية | Y31: =X119 -> المنخفض جداً : يستوعب المفاهيم الهندسية الأولية (الزاوية والمستقيم) ومفهومي الحجم والمساحة | AD31: =X148 -> المنخفض : يتعرف على تحولات الطاقة | AE31: =X182 -> المنخفض جداً : يتعرف على قوانين نيوتن | AF31: =X210 -> المنخفض جداً : يوجد حدود المتتابعة الحسابية
A32: قراءة سادس ابتدائي | B32: المتوسط | C32: يميز نوع النص المقروء وخصائصه وغرضه، ويستنتج الأفكار الرئيسة وبعضالأفكار الفرعية منه | X32: =B32&" : "&C32 -> المتوسط : يميز نوع النص المقروء وخصائصه وغرضه، ويستنتج الأفكار الرئيسة وبعضالأفكار الفرعية منه | Y32: =X120 -> المنخفض جداً : يقرأ البيانات من تمثيلاتها وتحليلها؛ لاستنتاج معلومات. | AD32: =X149 -> المنخفض جداً : يتعرف على الاحتياجات الأساسية للمخلوقات الحية | AF32: =X211 -> المنخفض جداً : يتعرف على نظرية فيثاغورس
A33: قراءة سادس ابتدائي | B33: المتوسط | C33: يوضح المفاهيم الواردة في أفكار النص المقروء والعلاقات بينها | X33: =B33&" : "&C33 -> المتوسط : يوضح المفاهيم الواردة في أفكار النص المقروء والعلاقات بينها | AD33: =X150 -> المنخفض جداً : يتعرف على العوامل الحيوية واللاحيوية في البيئة | AF33: =X212 -> المنخفض جداً : يوجد مقاييس النزعة المركزية
A34: قراءة سادس ابتدائي | B34: المتوسط | C34: يستنتج بعض القيم والاتجاهات الإيجابية والسلبية من النص وأثرها في الفرد والمجتمع | X34: =B34&" : "&C34 -> المتوسط : يستنتج بعض القيم والاتجاهات الإيجابية والسلبية من النص وأثرها في الفرد والمجتمع | AD34: =X151 -> المنخفض جداً : يتعرف على حركة الأرض حول محورها وحول الشمس
A35: قراءة سادس ابتدائي | B35: المنخفض | C35: يحدد بعض المترادفات والأضداد من خلال السياق. | X35: =B35&" : "&C35 -> المنخفض : يحدد بعض المترادفات والأضداد من خلال السياق. | AD35: =X152 -> المنخفض جداً : يتعرف على بعض خصائص المادة
A36: قراءة سادس ابتدائي | B36: المنخفض | C36: يوضح معاني بعض المفردات من خلال السياق. | X36: =B36&" : "&C36 -> المنخفض : يوضح معاني بعض المفردات من خلال السياق. | AD36: =X153 -> المنخفض جداً : يتعرف على المفاهيم الأساسية (الموقع، والمسافة، والسرعة)
A37: قراءة سادس ابتدائي | B37: المنخفض | C37: يجيب عن بعض أسئلة النصوص المقروءة المباشرة. | X37: =B37&" : "&C37 -> المنخفض : يجيب عن بعض أسئلة النصوص المقروءة المباشرة. | AD37: =X154 -> المنخفض جداً : يتعرف على بعض أشكال الطاقة
A38: قراءة سادس ابتدائي | B38: المنخفض | C38: يميز نوع النص المقروء. | X38: =B38&" : "&C38 -> المنخفض : يميز نوع النص المقروء.
A39: قراءة سادس ابتدائي | B39: المنخفض | C39: يستنتج بعض الأفكار الرئيسة من النص المقروء. | X39: =B39&" : "&C39 -> المنخفض : يستنتج بعض الأفكار الرئيسة من النص المقروء.
A40: قراءة سادس ابتدائي | B40: المنخفض | C40: يوضح بعض المفاهيم الشائعة الواردة في أفكار النص المقروء. | X40: =B40&" : "&C40 -> المنخفض : يوضح بعض المفاهيم الشائعة الواردة في أفكار النص المقروء.
A41: قراءة سادس ابتدائي | B41: المنخفض جداً | C41: يتعرف على بعض المترادفات من خلال السياق. | X41: =B41&" : "&C41 -> المنخفض جداً : يتعرف على بعض المترادفات من خلال السياق.
A42: قراءة سادس ابتدائي | B42: المنخفض جداً | C42: يوضح معاني بعض المفردات من خلال السياق. | X42: =B42&" : "&C42 -> المنخفض جداً : يوضح معاني بعض المفردات من خلال السياق.
A43: قراءة سادس ابتدائي | B43: المنخفض جداً | C43: يجيب عن بعض أسئلة النصوص المقروءة الواضحة. | X43: =B43&" : "&C43 -> المنخفض جداً : يجيب عن بعض أسئلة النصوص المقروءة الواضحة.
A44: قراءة ثالث متوسط | B44: المرتفع | C44: يستنتج معاني مصطلحات تستخدم في مجالات علمية مختلفة | W44: قراءة ثالث متوسط | X44: =B44&" : "&C44 -> المرتفع : يستنتج معاني مصطلحات تستخدم في مجالات علمية مختلفة
A45: قراءة ثالث متوسط | B45: المرتفع | C45: يصنف معاني المصطلحات الجديدة وفقا لدلالاتها | X45: =B45&" : "&C45 -> المرتفع : يصنف معاني المصطلحات الجديدة وفقا لدلالاتها
A46: قراءة ثالث متوسط | B46: المرتفع | C46: يستنتج معاني المفردات الجديدة من خلال التفسير والتعريف | X46: =B46&" : "&C46 -> المرتفع : يستنتج معاني المفردات الجديدة من خلال التفسير والتعريف
A47: قراءة ثالث متوسط | B47: المرتفع | C47: يستنتج معاني المفردات الجديدة من خلال الترادف، والتضاد | X47: =B47&" : "&C47 -> المرتفع : يستنتج معاني المفردات الجديدة من خلال الترادف، والتضاد
A48: قراءة ثالث متوسط | B48: المرتفع | C48: يستنتج معاني المفردات الجديدة من خلال السياق وبدونه | X48: =B48&" : "&C48 -> المرتفع : يستنتج معاني المفردات الجديدة من خلال السياق وبدونه
A49: قراءة ثالث متوسط | B49: المرتفع | C49: يميز الفروق الأساسية في بنية النص المقروء | X49: =B49&" : "&C49 -> المرتفع : يميز الفروق الأساسية في بنية النص المقروء
A50: قراءة ثالث متوسط | B50: المرتفع | C50: يحلل النصوص المقروءة من حيث الترتيب الزمني والمكاني والأهمية والمقارنة والمقابلة والقضية العامة والأدلة الداعمة | X50: =B50&" : "&C50 -> المرتفع : يحلل النصوص المقروءة من حيث الترتيب الزمني والمكاني والأهمية والمقارنة والمقابلة والقضية العامة والأدلة الداعمة
A51: قراءة ثالث متوسط | B51: المرتفع | C51: يستنتج الأفكار الرئيسة والفرعية والضمنية من النص المقروء | X51: =B51&" : "&C51 -> المرتفع : يستنتج الأفكار الرئيسة والفرعية والضمنية من النص المقروء
A52: قراءة ثالث متوسط | B52: المرتفع | C52: يقوّم النصوص المقروءة من خلال ما تتضمنه من قيم إيجابية وسلبية، ويحدد تأثيرها في الفرد والمجتمع | X52: =B52&" : "&C52 -> المرتفع : يقوّم النصوص المقروءة من خلال ما تتضمنه من قيم إيجابية وسلبية، ويحدد تأثيرها في الفرد والمجتمع
A53: قراءة ثالث متوسط | B53: المتوسط | C53: يستنتج بعض معاني المصطلحات التي تستخدم في مجالات علمية مختلفة | X53: =B53&" : "&C53 -> المتوسط : يستنتج بعض معاني المصطلحات التي تستخدم في مجالات علمية مختلفة
A54: قراءة ثالث متوسط | B54: المتوسط | C54: يصنف بعض معاني المصطلحات الجديدة وفقا لدلالاتها | X54: =B54&" : "&C54 -> المتوسط : يصنف بعض معاني المصطلحات الجديدة وفقا لدلالاتها
A55: قراءة ثالث متوسط | B55: المتوسط | C55: يستنتج بعض معاني المفردات الجديدة من خلال التفسير والتعريف | X55: =B55&" : "&C55 -> المتوسط : يستنتج بعض معاني المفردات الجديدة من خلال التفسير والتعريف
A56: قراءة ثالث متوسط | B56: المتوسط | C56: يستنتج بعض معاني المفردات الجديدة من خلال الترادف، والتضاد | X56: =B56&" : "&C56 -> المتوسط : يستنتج بعض معاني المفردات الجديدة من خلال الترادف، والتضاد
... A69: قراءة ثالث متوسط | B69: المنخفض جداً | C69: يجيب عن بعض الأسئلة المباشرة الواضحة | X69: =B69&" : "&C69 -> المنخفض جداً : يجيب عن بعض الأسئلة المباشرة الواضحة
A70: رياضيات ثالث ابتدائي | B70: المرتفع | C70: يقدر ناتج جمع وطرح الأعداد ضمن أربع منازل | W70: رياضيات ثالث ابتدائي | X70: =B70&" : "&C70 -> المرتفع : يقدر ناتج جمع وطرح الأعداد ضمن أربع منازل
A71: رياضيات ثالث ابتدائي | B71: المرتفع | C71: يطبق خصائص الجمع والضرب | X71: =B71&" : "&C71 -> المرتفع : يطبق خصائص الجمع والضرب
A72: رياضيات ثالث ابتدائي | B72: المرتفع | C72: يكتب جملاً عددية على العمليات الأربع ويوجد قيمتها | X72: =B72&" : "&C72 -> المرتفع : يكتب جملاً عددية على العمليات الأربع ويوجد قيمتها
A73: رياضيات ثالث ابتدائي | B73: المرتفع | C73: يحل مسائل رياضية تتضمن تطبيقات مالية على النقود | X73: =B73&" : "&C73 -> المرتفع : يحل مسائل رياضية تتضمن تطبيقات مالية على النقود
A74: رياضيات ثالث ابتدائي | B74: المرتفع | C74: يحلل البيانات الممثلة في الرسوم البيانية | X74: =B74&" : "&C74 -> المرتفع : يحلل البيانات الممثلة في الرسوم البيانية
A75: رياضيات ثالث ابتدائي | B75: المتوسط | C75: يميز القيمة المنزلية لعدد ضمن سبع منازل | X75: =B75&" : "&C75 -> المتوسط : يميز القيمة المنزلية لعدد ضمن سبع منازل
A76: رياضيات ثالث ابتدائي | B76: المتوسط | C76: يكتب الأعداد الكلية في الصور القياسية واللفظية والتحليلية | X76: =B76&" : "&C76 -> المتوسط : يكتب الأعداد الكلية في الصور القياسية واللفظية والتحليلية
A77: رياضيات ثالث ابتدائي | B77: المتوسط | C77: يصف كسور الوحدة ويميزها ويمثلها على خط الأعداد | X77: =B77&" : "&C77 -> المتوسط : يصف كسور الوحدة ويميزها ويمثلها على خط الأعداد
A78: رياضيات ثالث ابتدائي | B78: المتوسط | C78: يُجري العمليات الأربع باستخدام ستراتيجيات حل المسائل ضمن أربع منازل | X78: =B78&" : "&C78 -> المتوسط : يُجري العمليات الأربع باستخدام ستراتيجيات حل المسائل ضمن أربع منازل
A79: رياضيات ثالث ابتدائي | B79: المتوسط | C79: يميز الأنماط ويوسعها | X79: =B79&" : "&C79 -> المتوسط : يميز الأنماط ويوسعها
A80: رياضيات ثالث ابتدائي | B80: المتوسط | C80: يصف الأشكال الهندسية ثلاثية الأبعاد وفق خصائص(عدد الأوجه وأشكالها، وعدد الرؤوس والأحرف | X80: =B80&" : "&C80 -> المتوسط : يصف الأشكال الهندسية ثلاثية الأبعاد وفق خصائص(عدد الأوجه وأشكالها، وعدد الرؤوس والأحرف
A81: رياضيات ثالث ابتدائي | B81: المتوسط | C81: يحسب المحيط والمساحة للأشكال الهندسية | X81: =B81&" : "&C81 -> المتوسط : يحسب المحيط والمساحة للأشكال الهندسية
A82: رياضيات ثالث ابتدائي | B82: المتوسط | C82: يحدد الوحدة المناسبة للقياس | X82: =B82&" : "&C82 -> المتوسط : يحدد الوحدة المناسبة للقياس
... A91: رياضيات ثالث ابتدائي | B91: المنخفض جداً | C91: يجمع البيانات وينظمها في الجداول التكرارية | X91: =B91&" : "&C91 -> المنخفض جداً : يجمع البيانات وينظمها في الجداول التكرارية
A92: رياضيات سادس ابتدائي | B92: المرتفع | C92: يحل مسائل رياضية على الكسور الاعتيادية والكسور العشرية | W92: رياضيات سادس ابتدائي | X92: =B92&" : "&C92 -> المرتفع : يحل مسائل رياضية على الكسور الاعتيادية والكسور العشرية
A93: رياضيات سادس ابتدائي | B93: المرتفع | C93: يقسم الأعداد الكسرية ويبسطها | X93: =B93&" : "&C93 -> المرتفع : يقسم الأعداد الكسرية ويبسطها
A94: رياضيات سادس ابتدائي | B94: المرتفع | C94: يحل مسائل رياضية على النسبة والمعدل والنسبة المئوية والتناسب | X94: =B94&" : "&C94 -> المرتفع : يحل مسائل رياضية على النسبة والمعدل والنسبة المئوية والتناسب
A95: رياضيات سادس ابتدائي | B95: المرتفع | C95: يحل مسائل رياضية على الأنماط العددية والدوال | X95: =B95&" : "&C95 -> المرتفع : يحل مسائل رياضية على الأنماط العددية والدوال
A96: رياضيات سادس ابتدائي | B96: المرتفع | C96: يوجد قاعدة دالة ما من خلال جدول | X96: =B96&" : "&C96 -> المرتفع : يوجد قاعدة دالة ما من خلال جدول
A97: رياضيات سادس ابتدائي | B97: المرتفع | C97: يوجد زوايا قياسات مجهولة في المثلن أو الشكل الرباعي | X97: =B97&" : "&C97 -> المرتفع : يوجد زوايا قياسات مجهولة في المثلن أو الشكل الرباعي
A98: رياضيات سادس ابتدائي | B98: المرتفع | C98: يحل مسائل رياضية تتضمن حساب المحيط والمساحة والحجم | X98: =B98&" : "&C98 -> المرتفع : يحل مسائل رياضية تتضمن حساب المحيط والمساحة والحجم
A99: رياضيات سادس ابتدائي | B99: المرتفع | C99: يمثل البيانات ويحللها لحل المسائل الرياضية | X99: =B99&" : "&C99 -> المرتفع : يمثل البيانات ويحللها لحل المسائل الرياضية
A100: رياضيات سادس ابتدائي | B100: المرتفع | C100: يدرك الفروق بين مقاييس النزعة المركزية | X100: =B100&" : "&C100 -> المرتفع : يدرك الفروق بين مقاييس النزعة المركزية
A101: رياضيات سادس ابتدائي | B101: المتوسط | C101: يطبق العمليات على الكسور والأعداد العشرية | X101: =B101&" : "&C101 -> المتوسط : يطبق العمليات على الكسور والأعداد العشرية
A102: رياضيات سادس ابتدائي | B102: المتوسط | C102: يوجد النسبة المئوية | X102: =B102&" : "&C102 -> المتوسط : يوجد النسبة المئوية
A103: رياضيات سادس ابتدائي | B103: المتوسط | C103: يوجد قاعدة دالة ما | X103: =B103&" : "&C103 -> المتوسط : يوجد قاعدة دالة ما
A104: رياضيات سادس ابتدائي | B104: المتوسط | C104: يوجد العامل المشترك الأكبر والمضاعف المشترك الأصغر لعددين أو أكثر | X104: =B104&" : "&C104 -> المتوسط : يوجد العامل المشترك الأكبر والمضاعف المشترك الأصغر لعددين أو أكثر
... A120: رياضيات سادس ابتدائي | B120: المنخفض جداً | C120: يقرأ البيانات من تمثيلاتها وتحليلها؛ لاستنتاج معلومات. | X120: =B120&" : "&C120 -> المنخفض جداً : يقرأ البيانات من تمثيلاتها وتحليلها؛ لاستنتاج معلومات.
A121: علوم سادس ابتدائي | B121: المرتفع | C121: يصمم ويجري التجارب العلمية، ويحلل البيانات؛ ليقدم تفسيرات منطقية | W121: علوم سادس ابتدائي | X121: =B121&" : "&C121 -> المرتفع : يصمم ويجري التجارب العلمية، ويحلل البيانات؛ ليقدم تفسيرات منطقية
A122: علوم سادس ابتدائي | B122: المرتفع | C122: يستكشف الدور الرئيس للجينات في نقل الصفات عبر الأجيال | X122: =B122&" : "&C122 -> المرتفع : يستكشف الدور الرئيس للجينات في نقل الصفات عبر الأجيال
A123: علوم سادس ابتدائي | B123: المرتفع | C123: يميز التركيب والوظيفة في المخلوقات الحية | X123: =B123&" : "&C123 -> المرتفع : يميز التركيب والوظيفة في المخلوقات الحية
A124: علوم سادس ابتدائي | B124: المرتفع | C124: يستخدم الأدلة العلمية لإيجاد حلول لبعض المشاكل التي تواجه النباتات والحيوانات؛ بسبب التغيرات البيئية | X124: =B124&" : "&C124 -> المرتفع : يستخدم الأدلة العلمية لإيجاد حلول لبعض المشاكل التي تواجه النباتات والحيوانات؛ بسبب التغيرات البيئية
A125: علوم سادس ابتدائي | B125: المرتفع | C125: يبتكر طرًقًا جديدة ةعادة التدوير للحفاظ على الأرض | X125: =B125&" : "&C125 -> المرتفع : يبتكر طرًقًا جديدة ةعادة التدوير للحفاظ على الأرض
A126: علوم سادس ابتدائي | B126: المرتفع | C126: يميز مصادر الطاقة البديلة للحفاظ على البيئة | X126: =B126&" : "&C126 -> المرتفع : يميز مصادر الطاقة البديلة للحفاظ على البيئة
A127: علوم سادس ابتدائي | B127: المرتفع | C127: يستكشف الخصائص والتغيرات الفيزيائية والكيميائية للمادة | X127: =B127&" : "&C127 -> المرتفع : يستكشف الخصائص والتغيرات الفيزيائية والكيميائية للمادة
A128: علوم سادس ابتدائي | B128: المرتفع | C128: يتنبأ بالقوى المؤثرة على الأجسام ويفسر العلاقات باستخدام قوانين نيوتن | X128: =B128&" : "&C128 -> المرتفع : يتنبأ بالقوى المؤثرة على الأجسام ويفسر العلاقات باستخدام قوانين نيوتن
A129: علوم سادس ابتدائي | B129: المرتفع | C129: يصمم نموذج لوصف حركة الأرض والقمر والشمس ويفسر الظواهر المرتبطة بها | X129: =B129&" : "&C129 -> المرتفع : يصمم نموذج لوصف حركة الأرض والقمر والشمس ويفسر الظواهر المرتبطة بها
A130: علوم سادس ابتدائي | B130: المتوسط | C130: يصف تراكيب ووظائف كل من الخلايا والأنسجة والأعضاء والأجهزة في المخلوقات الحية | X130: =B130&" : "&C130 -> المتوسط : يصف تراكيب ووظائف كل من الخلايا والأنسجة والأعضاء والأجهزة في المخلوقات الحية
A131: علوم سادس ابتدائي | B131: المتوسط | C131: يوضح أوجه التشابه والاختلاف بين أجهزة الجسم | X131: =B131&" : "&C131 -> المتوسط : يوضح أوجه التشابه والاختلاف بين أجهزة الجسم
A132: علوم سادس ابتدائي | B132: المتوسط | C132: يقارن بين دورات الحياة في النباتات والحيوانات | X132: =B132&" : "&C132 -> المتوسط : يقارن بين دورات الحياة في النباتات والحيوانات
A133: علوم سادس ابتدائي | B133: المتوسط | C133: يوضح أن بعض المخلوقات الحية لديها تكيفات تمكنها من البقاء في النظام البيئي بشكل أفضل | X133: =B133&" : "&C133 -> المتوسط : يوضح أن بعض المخلوقات الحية لديها تكيفات تمكنها من البقاء في النظام البيئي بشكل أفضل
... A154: علوم سادس ابتدائي | B154: المنخفض جداً | C154: يتعرف على بعض أشكال الطاقة | X154: =B154&" : "&C154 -> المنخفض جداً : يتعرف على بعض أشكال الطاقة
A155: علوم ثالث متوسط | B155: المرتفع | C155: يقدم أدلة تثبت أن المخلوقات الحية مكونة من خلايا | W155: علوم ثالث متوسط | X155: =B155&" : "&C155 -> المرتفع : يقدم أدلة تثبت أن المخلوقات الحية مكونة من خلايا
A156: علوم ثالث متوسط | B156: المرتفع | C156: يبني تفسيرًا مدعمًا بالأدلة حول كيفية عمل أجهزة الجسم وتفواعلها مع بعضها | X156: =B156&" : "&C156 -> المرتفع : يبني تفسيرًا مدعمًا بالأدلة حول كيفية عمل أجهزة الجسم وتفواعلها مع بعضها
...

Sheet ادخال درجات التشخيصي
D1: =IF('الاختبار التشخيصي'!B14="","",'الاختبار التشخيصي'!B14) -> المرتفع : يحل مسائل رياضية على الأنماط العددية والدوال | E1: =IF('الاختبار التشخيصي'!B16="","",'الاختبار التشخيصي'!B16) -> المرتفع : يدرك الفروق بين مقاييس النزعة المركزية | F1: =IF('الاختبار التشخيصي'!B18="","",'الاختبار التشخيصي'!B18) -> المتوسط : يوجد النسبة المئوية | G1: =IF('الاختبار التشخيصي'!B20="","",'الاختبار التشخيصي'!B20) -> المتوسط : يطبق العمليات على الكسور والأعداد العشرية | H1: =IF('الاختبار التشخيصي'!B22="","",'الاختبار التشخيصي'!B22) | I1: =IF('الاختبار التشخيصي'!B24="","",'الاختبار التشخيصي'!B24) | J1: =IF('الاختبار التشخيصي'!B26="","",'الاختبار التشخيصي'!B26) | K1: =IF('الاختبار التشخيصي'!B28="","",'الاختبار التشخيصي'!B28) | L1: =IF('الاختبار التشخيصي'!B30="","",'الاختبار التشخيصي'!B30) | M1: =IF('الاختبار التشخيصي'!B32="","",'الاختبار التشخيصي'!B32) | N1: =IF('الاختبار التشخيصي'!B34="","",'الاختبار التشخيصي'!B34) | O1: =IF('الاختبار التشخيصي'!B36="","",'الاختبار التشخيصي'!B36) | P1: =IF('الاختبار التشخيصي'!B38="","",'الاختبار التشخيصي'!B38) | Q1: =IF('الاختبار التشخيصي'!B40="","",'الاختبار التشخيصي'!B40) | R1: =IF('الاختبار التشخيصي'!B42="","",'الاختبار التشخيصي'!B42) | S1: =IF('الاختبار التشخيصي'!B44="","",'الاختبار التشخيصي'!B44) | T1: =IF('الاختبار التشخيصي'!B46="","",'الاختبار التشخيصي'!B46) | U1: =IF('الاختبار التشخيصي'!B48="","",'الاختبار التشخيصي'!B48) | V1: =IF('الاختبار التشخيصي'!B50="","",'الاختبار التشخيصي'!B50) | W1: =IF('الاختبار التشخيصي'!B52="","",'الاختبار التشخيصي'!B52) | X1: =IF('الاختبار التشخيصي'!B54="","",'الاختبار التشخيصي'!B54) | Y1: =IF('الاختبار التشخيصي'!B56="","",'الاختبار التشخيصي'!B56) | Z1: =IF('الاختبار التشخيصي'!B58="","",'الاختبار التشخيصي'!B58) | AA1: =IF('الاختبار التشخيصي'!B60="","",'الاختبار التشخيصي'!B60) | AB1: =IF('الاختبار التشخيصي'!B62="","",'الاختبار التشخيصي'!B62) | AM1: 1 | AO1: 2 | AQ1: 3 | AS1: 4 | AU1: 5 | AW1: 6 | AY1: 7 | BA1: 8 | BC1: 9 | BE1: 10 | BG1: 11 | BI1: 12 | BK1: 13 | BM1: 14 | BO1: 15 | BQ1: 16 | BS1: 17 | BU1: 18 | BW1: 19 | BY1: 20 | CA1: 21 | CC1: 22 | CE1: 23 | CG1: 24 | CI1: 25
B2: اختبار قبلي ( تشخيصي)
AC3: =COUNTIF(D7:AB7,"") -> 21 | AE3: ='مج 0'!M2 -> 20 | AL3: =COUNTIF(D7:I7,"") -> 2 | AM3: =SUMIF($D$1:$AB$4,AL4,$D$5:$AB$5) -> 5 | AN3: =COUNTIF(J7:O7,"") -> 6 | AO3: =SUMIF($D$1:$AB$4,AN4,$D$5:$AB$5) -> 4 | AP3: =COUNTIF(P7:U7,"") -> 6 | AQ3: =SUMIF($D$1:$AB$4,AP4,$D$5:$AB$5) -> 5 | AR3: =COUNTIF(V7:AB7,"") -> 7 | AS3: =SUMIF($D$1:$AB$4,AR4,$D$5:$AB$5) -> 6 | AU3: =SUMIF($D$1:$AB$4,AT4,$D$5:$AB$5) -> 0 | AW3: =SUMIF($D$1:$AB$4,AV4,$D$5:$AB$5) -> 0 | AY3: =SUMIF($D$1:$AB$4,AX4,$D$5:$AB$5) -> 0 | BA3: =SUMIF($D$1:$AB$4,AZ4,$D$5:$AB$5) -> 0 | BC3: =SUMIF($D$1:$AB$4,BB4,$D$5:$AB$5) -> 0 | BE3: =SUMIF($D$1:$AB$4,BD4,$D$5:$AB$5) -> 0 | BG3: =SUMIF($D$1:$AB$4,BF4,$D$5:$AB$5) -> 0 | BI3: =SUMIF($D$1:$AB$4,BH4,$D$5:$AB$5) -> 0 | BK3: =SUMIF($D$1:$AB$4,BJ4,$D$5:$AB$5) -> 0 | BM3: =SUMIF($D$1:$AB$4,BL4,$D$5:$AB$5) -> 0 | BO3: =SUMIF($D$1:$AB$4,BN4,$D$5:$AB$5) -> 0 | BQ3: =SUMIF($D$1:$AB$4,BP4,$D$5:$AB$5) -> 0 | BS3: =SUMIF($D$1:$AB$4,BR4,$D$5:$AB$5) -> 0 | BU3: =SUMIF($D$1:$AB$4,BT4,$D$5:$AB$5) -> 0 | BW3: =SUMIF($D$1:$AB$4,BV4,$D$5:$AB$5) -> 0 | BY3: =SUMIF($D$1:$AB$4,BX4,$D$5:$AB$5) -> 0 | CA3: =SUMIF($D$1:$AB$4,BZ4,$D$5:$AB$5) -> 0 | CC3: =SUMIF($D$1:$AB$4,CB4,$D$5:$AB$5) -> 0 | CE3: =SUMIF($D$1:$AB$4,CD4,$D$5:$AB$5) -> 0 | CG3: =SUMIF($D$1:$AB$4,CF4,$D$5:$AB$5) -> 0 | CI3: =SUMIF($D$1:$AB$4,CH4,$D$5:$AB$5) -> 0 | DB3: 1 | DC3: 2 | DD3: 3 | DE3: 4 | DF3: 5 | DG3: 6 | DH3: 7 | DI3: 8 | DJ3: 9 | DK3: 10 | DL3: 11 | DM3: 12 | DN3: 13 | DO3: 14 | DP3: 15 | DQ3: 16 | DR3: 17 | DS3: 18 | DT3: 19 | DU3: 20 | DV3: 21 | DW3: 22 | DX3: 23 | DY3: 24 | DZ3: 25
AD4: 1= إجابة صحيحة | AG4: 0= إجابة خاطئة | AL4: =احصائيات0!B3 -> المرتفع : يحل مسائل رياضية على الأنماط العددية والدوال | AN4: =احصائيات0!B4 -> المرتفع : يدرك الفروق بين مقاييس النزعة المركزية | AP4: =احصائيات0!B5 -> المتوسط : يوجد النسبة المئوية | AR4: =احصائيات0!B6 -> المتوسط : يطبق العمليات على الكسور والأعداد العشرية | AT4: =احصائيات0!B7 -> - | AV4: =احصائيات0!B8 -> - | AX4: =احصائيات0!B9 -> - | AZ4: =احصائيات0!B10 -> - | BB4: =احصائيات0!B11 -> - | BD4: =احصائيات0!B12 -> - | BF4: =احصائيات0!B13 -> - | BH4: =احصائيات0!B14 -> - | BJ4: =احصائيات0!B15 -> - | BL4: =احصائيات0!B16 -> - | BN4: =احصائيات0!B17 -> - | BP4: =احصائيات0!B18 -> - | BR4: =احصائيات0!B19 -> - | BT4: =احصائيات0!B20 -> - | BV4: =احصائيات0!B21 -> - | BX4: =احصائيات0!B22 -> - | BZ4: =احصائيات0!B23 -> - | CB4: =احصائيات0!B24 -> - | CD4: =احصائيات0!B25 -> - | CF4: =احصائيات0!B26 -> - | CH4: =احصائيات0!B27 -> - | DB4: =AL4 -> المرتفع : يحل مسائل رياضية على الأنماط العددية والدوال | DC4: =AN4 -> المرتفع : يدرك الفروق بين مقاييس النزعة المركزية | DD4: =AP4 -> المتوسط : يوجد النسبة المئوية | DE4: =AR4 -> المتوسط : يطبق العمليات على الكسور والأعداد العشرية | DF4: =AT4 -> - | DG4: =AV4 -> - | DH4: =AX4 -> - | DI4: =AZ4 -> - | DJ4: =BB4 -> - | DK4: =BD4 -> - | DL4: =BF4 -> - | DM4: =BH4 -> - | DN4: =BJ4 -> - | DO4: =BL4 -> - | DP4: =BN4 -> - | DQ4: =BP4 -> - | DR4: =BR4 -> - | DS4: =BT4 -> - | DT4: =BV4 -> - | DU4: =BX4 -> - | DV4: =BZ4 -> - | DW4: =CB4 -> - | DX4: =CD4 -> - | DY4: =CF4 -> - | DZ4: =CH4 -> -
A5: توزيع الدرجات | D5: ='مج 0'!I6 -> 5 | E5: ='مج 0'!$I$7 -> 4 | F5: ='مج 0'!$I$8 -> 5 | G5: ='مج 0'!$I$9 -> 6 | H5: ='مج 0'!$I$10 -> 0 | I5: ='مج 0'!$I$11 -> 0 | J5: ='مج 0'!$I$12 -> 0 | K5: ='مج 0'!$I$13 -> 0 | L5: ='مج 0'!$I$14 -> 0 | M5: ='مج 0'!$I$15 -> 0 | N5: ='مج 0'!$I$16 -> 0 | O5: ='مج 0'!$I$17 -> 0 | P5: ='مج 0'!$I$18 -> 0 | Q5: ='مج 0'!$I$19 -> 0 | R5: ='مج 0'!$I$20 -> 0 | S5: ='مج 0'!$I$21 -> 0 | T5: ='مج 0'!$I$22 -> 0 | U5: ='مج 0'!$I$23 -> 0 | V5: ='مج 0'!$I$24 -> 0 | W5: ='مج 0'!$I$25 -> 0 | X5: ='مج 0'!$I$26 -> 0 | Y5: ='مج 0'!$I$27 -> 0 | Z5: ='مج 0'!$I$28 -> 0 | AA5: ='مج 0'!$I$29 -> 0 | AB5: ='مج 0'!$I$30 -> 0
A6: م | B6: الاسم | D6: س1 | E6: س2 | F6: س3 | G6: س4 | H6: س5 | I6: س6 | J6: س7 | K6: س8 | L6: س9 | M6: س10 | N6: س11 | O6: س12 | P6: س13 | Q6: س14 | R6: س15 | S6: س16 | T6: س17 | U6: س18 | V6: س19 | W6: س20 | X6: س21 | Y6: س22 | Z6: س23 | AA6: س24 | AB6: س25 | AC6: المجموع | AD6: النسبة | AL6: م | AM6: ن | AN6: م | AO6: ن | AP6: م | AQ6: ن | AR6: م | AS6: ن | AT6: م | AU6: ن | AV6: م | AW6: ن | AX6: م | AY6: ن | AZ6: م | BA6: ن | BB6: م | BC6: ن | BD6: م | BE6: ن | BF6: م | BG6: ن | BH6: م | BI6: ن | BJ6: م | BK6: ن | BL6: م | BM6: ن | BN6: م | BO6: ن | BP6: م | BQ6: ن | BR6: م | BS6: ن | BT6: م | BU6: ن | BV6: م | BW6: ن | BX6: م | BY6: ن | BZ6: م | CA6: ن | CB6: م | CC6: ن | CD6: م | CE6: ن | CF6: م | CG6: ن | CH6: م | CI6: ن | DB6: =AVERAGE(AM7:AM126) -> 0.95 | DC6: =AVERAGE(AO7:AO126) -> 0.4375 | DD6: =AVERAGE(AQ7:AQ126) -> 0.7 | DE6: =AVERAGE(AS7:AS126) -> 1 | DF6: =AVERAGE(AU7:AU126) -> #DIV/0! | DG6: =AVERAGE(AW7:AW126) -> #DIV/0! | DH6: =AVERAGE(AY7:AY126) -> #DIV/0! | DI6: =AVERAGE(BA7:BA126) -> #DIV/0! | DJ6: =AVERAGE(BC7:BC126) -> #DIV/0! | DK6: =AVERAGE(BE7:BE126) -> #DIV/0! | DL6: =AVERAGE(BG7:BG126) -> #DIV/0! | DM6: =AVERAGE(BI7:BI126) -> #DIV/0! | DN6: =AVERAGE(BK7:BK126) -> #DIV/0! | DO6: =AVERAGE(BM7:BM126) -> #DIV/0! | DP6: =AVERAGE(BO7:BO126) -> #DIV/0! | DQ6: =AVERAGE(BQ7:BQ126) -> #DIV/0! | DR6: =AVERAGE(BS7:BS126) -> #DIV/0! | DS6: =AVERAGE(BU7:BU126) -> #DIV/0! | DT6: =AVERAGE(BW7:BW126) -> #DIV/0! | DU6: =AVERAGE(BY7:BY126) -> #DIV/0! | DV6: =AVERAGE(CA7:CA126) -> #DIV/0! | DW6: =AVERAGE(CC7:CC126) -> #DIV/0! | DX6: =AVERAGE(CE7:CE126) -> #DIV/0! | DY6: =AVERAGE(CG7:CG126) -> #DIV/0! | DZ6: =AVERAGE(CI7:CI126) -> #DIV/0!
A7: 1 | B7: طالب 1 | D7: 5 | E7: 4 | F7: 5 | G7: 6 | AC7: =IF(B7="","",SUM(D7:AB7)) -> 20 | AD7: =IF(AC7="","",SUM(D7:AB7)/$AE$3) -> 1 | AL7: {=IF(B7="","",SUMPRODUCT(($D$1:$AB$4=$AL$4)*D7:AB7))} -> 5 | AM7: =IFERROR(IF($AM$3=0,"",AL7/$AM$3),"") -> 1 | AN7: {=IF(B7="","",SUMPRODUCT(($D$1:$AB$4=$AN$4)*D7:AB7))} -> 4 | AO7: =IFERROR(IF($AO$3=0,"",AN7/$AO$3),"") -> 1 | AP7: {=IF(B7="","",SUMPRODUCT(($D$1:$AB$4=$AP$4)*D7:AB7))} -> 5 | AQ7: =IFERROR(IF($AQ$3=0,"",AP7/$AQ$3),"") -> 1 | AR7: {=IF(B7="","",SUMPRODUCT(($D$1:$AB$4=$AR$4)*D7:AB7))} -> 6 | AS7: =IFERROR(IF($AS$3=0,"",AR7/$AS$3),"") -> 1 | AT7: {=IF(B7="","",SUMPRODUCT(($D$1:$AB$4=$AT$4)*$D7:$AB7))} -> 0 | AU7: =IFERROR(IF($AU$3=0,"",AT7/$AU$3),"") | AV7: {=IF(D7="","",SUMPRODUCT(($D$1:$AB$4=$AV$4)*$D7:$AB7))} -> 0 | AW7: =IFERROR(IF($AW$3=0,"",AV7/$AW$3),"") | AX7: {=IF(F7="","",SUMPRODUCT(($D$1:$AB$4=$AX$4)*$D7:$AB7))} -> 0 | AY7: =IFERROR(IF($AY$3=0,"",AX7/$AY$3),"") | AZ7: {=IF(B7="","",SUMPRODUCT(($D$1:$AB$4=$AZ$4)*$D7:$AB7))} -> 0 | BA7: =IFERROR(IF($BA$3=0,"",AZ7/$BA$3),"") | BB7: {=IF(B7="","",SUMPRODUCT(($D$1:$AB$4=$BB$4)*$D7:$AB7))} -> 0 | BC7: =IFERROR(IF($BC$3=0,"",BB7/$BC$3),"") | BD7: {=IF(B7="","",SUMPRODUCT(($D$1:$AB$4=$BD$4)*$D7:$AB7))} -> 0 | BE7: =IFERROR(IF($BE$3=0,"",BD7/$BE$3),"") | BF7: {=IF(B7="","",SUMPRODUCT(($D$1:$AB$4=$BF$4)*$D7:$AB7))} -> 0 | BG7: =IFERROR(IF($BG$3=0,"",BF7/$BG$3),"") | BH7: {=IF(B7="","",SUMPRODUCT(($D$1:$AB$4=$BH$4)*$D7:$AB7))} -> 0 | BI7: =IFERROR(IF($BI$3=0,"",BH7/$BI$3),"") | BJ7: {=IF(B7="","",SUMPRODUCT(($D$1:$AB$4=$BJ$4)*$D7:$AB7))} -> 0 | BK7: =IFERROR(IF($BK$3=0,"",BJ7/$BK$3),"") | BL7: {=IF(B7="","",SUMPRODUCT(($D$1:$AB$4=$BL$4)*$D7:$AB7))} -> 0 | BM7: =IFERROR(IF($BM$3=0,"",BL7/$BM$3),"") | BN7: {=IF(B7="","",SUMPRODUCT(($D$1:$AB$4=$BN$4)*$D7:$AB7))} -> 0 | BO7: =IFERROR(IF($BO$3=0,"",BN7/$BO$3),"") | BP7: {=IF(B7="","",SUMPRODUCT(($D$1:$AB$4=$BP$4)*$D7:$AB7))} -> 0 | BQ7: =IFERROR(IF($BQ$3=0,"",BP7/$BQ$3),"") | BR7: {=IF(B7="","",SUMPRODUCT(($D$1:$AB$4=$BR$4)*$D7:$AB7))} -> 0 | BS7: =IFERROR(IF($BS$3=0,"",BR7/$BS$3),"") | BT7: {=IF(B7="","",SUMPRODUCT(($D$1:$AB$4=$BT$4)*$D7:$AB7))} -> 0 | BU7: =IFERROR(IF($BU$3=0,"",BT7/$BU$3),"") | BV7: {=IF(B7="","",SUMPRODUCT(($D$1:$AB$4=$BV$4)*$D7:$AB7))} -> 0 | BW7: =IFERROR(IF($BW$3=0,"",BV7/$BW$3),"") | BX7: {=IF(B7="","",SUMPRODUCT(($D$1:$AB$4=$BX$4)*$D7:$AB7))} -> 0 | BY7: =IFERROR(IF($BY$3=0,"",BX7/$BY$3),"") | BZ7: {=IF(B7="","",SUMPRODUCT(($D$1:$AB$4=$BZ$4)*$D7:$AB7))} -> 0 | CA7: =IFERROR(IF($CA$3=0,"",BZ7/$CA$3),"") | CB7: {=IF(B7="","",SUMPRODUCT(($D$1:$AB$4=$CB$4)*$D7:$AB7))} -> 0 | CC7: =IFERROR(IF($CC$3=0,"",CB7/$CC$3),"") | CD7: {=IF(B7="","",SUMPRODUCT(($D$1:$AB$4=$CD$4)*$D7:$AB7))} -> 0 | CE7: =IFERROR(IF($CE$3=0,"",CD7/$CE$3),"") | CF7: {=IF(B7="","",SUMPRODUCT(($D$1:$AB$4=$CF$4)*$D7:$AB7))} -> 0 | CG7: =IFERROR(IF($CG$3=0,"",CF7/$CG$3),"") | CH7: {=IF(B7="","",SUMPRODUCT(($D$1:$AB$4=$CH$4)*$D7:$AB7))} -> 0 | CI7: =IFERROR(IF($CI$3=0,"",CH7/$CI$3),"")
A8: 2 | B8: طالب 2 | D8: 5 | E8: 3 | F8: 4 | G8: 6 | AC8: =IF(B8="","",SUM(D8:AB8)) -> 18 | AD8: =IF(AC8="","",SUM(D8:AB8)/$AE$3) -> 0.9 | AF8: ملاحظة هامة : يتم كتابة او لصق جميع طلاب الصف والغائب منهم تكون إجاباته صفر وهكذا لبقية الاختبارات | AL8: {=IF(B8="","",SUMPRODUCT(($D$1:$AB$4=$AL$4)*D8:AB8))} -> 5 | AM8: =IFERROR(IF($AM$3=0,"",AL8/$AM$3),"") -> 1 | AN8: {=IF(B8="","",SUMPRODUCT(($D$1:$AB$4=$AN$4)*D8:AB8))} -> 3 | AO8: =IFERROR(IF($AO$3=0,"",AN8/$AO$3),"") -> 0.75 | AP8: {=IF(B8="","",SUMPRODUCT(($D$1:$AB$4=$AP$4)*D8:AB8))} -> 4 | AQ8: =IFERROR(IF($AQ$3=0,"",AP8/$AQ$3),"") -> 0.8 | AR8: {=IF(B8="","",SUMPRODUCT(($D$1:$AB$4=$AR$4)*D8:AB8))} -> 6 | AS8: =IFERROR(IF($AS$3=0,"",AR8/$AS$3),"") -> 1 | AT8: {=IF(B8="","",SUMPRODUCT(($D$1:$AB$4=$AT$4)*$D8:$AB8))} -> 0 | AU8: =IFERROR(IF($AU$3=0,"",AT8/$AU$3),"") | AV8: {=IF(D8="","",SUMPRODUCT(($D$1:$AB$4=$AV$4)*$D8:$AB8))} -> 0 | AW8: =IFERROR(IF($AW$3=0,"",AV8/$AW$3),"") | AX8: {=IF(F8="","",SUMPRODUCT(($D$1:$AB$4=$AX$4)*$D8:$AB8))} -> 0 | AY8: =IFERROR(IF($AY$3=0,"",AX8/$AY$3),"") | AZ8: {=IF(B8="","",SUMPRODUCT(($D$1:$AB$4=$AZ$4)*$D8:$AB8))} -> 0 | BA8: =IFERROR(IF($BA$3=0,"",AZ8/$BA$3),"") | BB8: {=IF(B8="","",SUMPRODUCT(($D$1:$AB$4=$BB$4)*$D8:$AB8))} -> 0 | BC8: =IFERROR(IF($BC$3=0,"",BB8/$BC$3),"") | BD8: {=IF(B8="","",SUMPRODUCT(($D$1:$AB$4=$BD$4)*$D8:$AB8))} -> 0 | BE8: =IFERROR(IF($BE$3=0,"",BD8/$BE$3),"") | BF8: {=IF(B8="","",SUMPRODUCT(($D$1:$AB$4=$BF$4)*$D8:$AB8))} -> 0 | BG8: =IFERROR(IF($BG$3=0,"",BF8/$BG$3),"") | BH8: {=IF(B8="","",SUMPRODUCT(($D$1:$AB$4=$BH$4)*$D8:$AB8))} -> 0 | BI8: =IFERROR(IF($BI$3=0,"",BH8/$BI$3),"") | BJ8: {=IF(B8="","",SUMPRODUCT(($D$1:$AB$4=$BJ$4)*$D8:$AB8))} -> 0 | BK8: =IFERROR(IF($BK$3=0,"",BJ8/$BK$3),"") | BL8: {=IF(B8="","",SUMPRODUCT(($D$1:$AB$4=$BL$4)*$D8:$AB8))} -> 0 | BM8: =IFERROR(IF($BM$3=0,"",BL8/$BM$3),"") | BN8: {=IF(B8="","",SUMPRODUCT(($D$1:$AB$4=$BN$4)*$D8:$AB8))} -> 0 | BO8: =IFERROR(IF($BO$3=0,"",BN8/$BO$3),"") | BP8: {=IF(B8="","",SUMPRODUCT(($D$1:$AB$4=$BP$4)*$D8:$AB8))} -> 0 | BQ8: =IFERROR(IF($BQ$3=0,"",BP8/$BQ$3),"") | BR8: {=IF(B8="","",SUMPRODUCT(($D$1:$AB$4=$BR$4)*$D8:$AB8))} -> 0 | BS8: =IFERROR(IF($BS$3=0,"",BR8/$BS$3),"") | BT8: {=IF(B8="","",SUMPRODUCT(($D$1:$AB$4=$BT$4)*$D8:$AB8))} -> 0 | BU8: =IFERROR(IF($BU$3=0,"",BT8/$BU$3),"") | BV8: {=IF(B8="","",SUMPRODUCT(($D$1:$AB$4=$BV$4)*$D8:$AB8))} -> 0 | BW8: =IFERROR(IF($BW$3=0,"",BV8/$BW$3),"") | BX8: {=IF(B8="","",SUMPRODUCT(($D$1:$AB$4=$BX$4)*$D8:$AB8))} -> 0 | BY8: =IFERROR(IF($BY$3=0,"",BX8/$BY$3),"") | BZ8: {=IF(B8="","",SUMPRODUCT(($D$1:$AB$4=$BZ$4)*$D8:$AB8))} -> 0 | CA8: =IFERROR(IF($CA$3=0,"",BZ8/$CA$3),"") | CB8: {=IF(B8="","",SUMPRODUCT(($D$1:$AB$4=$CB$4)*$D8:$AB8))} -> 0 | CC8: =IFERROR(IF($CC$3=0,"",CB8/$CC$3),"") | CD8: {=IF(B8="","",SUMPRODUCT(($D$1:$AB$4=$CD$4)*$D8:$AB8))} -> 0 | CE8: =IFERROR(IF($CE$3=0,"",CD8/$CE$3),"") | CF8: {=IF(B8="","",SUMPRODUCT(($D$1:$AB$4=$CF$4)*$D8:$AB8))} -> 0 | CG8: =IFERROR(IF($CG$3=0,"",CF8/$CG$3),"") | CH8: {=IF(B8="","",SUMPRODUCT(($D$1:$AB$4=$CH$4)*$D8:$AB8))} -> 0 | CI8: =IFERROR(IF($CI$3=0,"",CH8/$CI$3),"")
A9: 3 | B9: طالب 3 | D9: 5 | E9: 0 | F9: 0 | G9: 6 | AC9: =IF(B9="","",SUM(D9:AB9)) -> 11 | AD9: =IF(AC9="","",SUM(D9:AB9)/$AE$3) -> 0.55 | AL9: {=IF(B9="","",SUMPRODUCT(($D$1:$AB$4=$AL$4)*D9:AB9))} -> 5 | AM9: =IFERROR(IF($AM$3=0,"",AL9/$AM$3),"") -> 1 | AN9: {=IF(B9="","",SUMPRODUCT(($D$1:$AB$4=$AN$4)*D9:AB9))} -> 0 | AO9: =IFERROR(IF($AO$3=0,"",AN9/$AO$3),"") -> 0 | AP9: {=IF(B9="","",SUMPRODUCT(($D$1:$AB$4=$AP$4)*D9:AB9))} -> 0 | AQ9: =IFERROR(IF($AQ$3=0,"",AP9/$AQ$3),"") -> 0 | AR9: {=IF(B9="","",SUMPRODUCT(($D$1:$AB$4=$AR$4)*D9:AB9))} -> 6 | AS9: =IFERROR(IF($AS$3=0,"",AR9/$AS$3),"") -> 1 | AT9: {=IF(B9="","",SUMPRODUCT(($D$1:$AB$4=$AT$4)*$D9:$AB9))} -> 0 | AU9: =IFERROR(IF($AU$3=0,"",AT9/$AU$3),"") | AV9: {=IF(D9="","",SUMPRODUCT(($D$1:$AB$4=$AV$4)*$D9:$AB9))} -> 0 | AW9: =IFERROR(IF($AW$3=0,"",AV9/$AW$3),"") | AX9: {=IF(F9="","",SUMPRODUCT(($D$1:$AB$4=$AX$4)*$D9:$AB9))} -> 0 | AY9: =IFERROR(IF($AY$3=0,"",AX9/$AY$3),"") | AZ9: {=IF(B9="","",SUMPRODUCT(($D$1:$AB$4=$AZ$4)*$D9:$AB9))} -> 0 | BA9: =IFERROR(IF($BA$3=0,"",AZ9/$BA$3),"") | BB9: {=IF(B9="","",SUMPRODUCT(($D$1:$AB$4=$BB$4)*$D9:$AB9))} -> 0 | BC9: =IFERROR(IF($BC$3=0,"",BB9/$BC$3),"") | BD9: {=IF(B9="","",SUMPRODUCT(($D$1:$AB$4=$BD$4)*$D9:$AB9))} -> 0 | BE9: =IFERROR(IF($BE$3=0,"",BD9/$BE$3),"") | BF9: {=IF(B9="","",SUMPRODUCT(($D$1:$AB$4=$BF$4)*$D9:$AB9))} -> 0 | BG9: =IFERROR(IF($BG$3=0,"",BF9/$BG$3),"") | BH9: {=IF(B9="","",SUMPRODUCT(($D$1:$AB$4=$BH$4)*$D9:$AB9))} -> 0 | BI9: =IFERROR(IF($BI$3=0,"",BH9/$BI$3),"") | BJ9: {=IF(B9="","",SUMPRODUCT(($D$1:$AB$4=$BJ$4)*$D9:$AB9))} -> 0 | BK9: =IFERROR(IF($BK$3=0,"",BJ9/$BK$3),"") | BL9: {=IF(B9="","",SUMPRODUCT(($D$1:$AB$4=$BL$4)*$D9:$AB9))} -> 0 | BM9: =IFERROR(IF($BM$3=0,"",BL9/$BM$3),"") | BN9: {=IF(B9="","",SUMPRODUCT(($D$1:$AB$4=$BN$4)*$D9:$AB9))} -> 0 | BO9: =IFERROR(IF($BO$3=0,"",BN9/$BO$3),"") | BP9: {=IF(B9="","",SUMPRODUCT(($D$1:$AB$4=$BP$4)*$D9:$AB9))} -> 0 | BQ9: =IFERROR(IF($BQ$3=0,"",BP9/$BQ$3),"") | BR9: {=IF(B9="","",SUMPRODUCT(($D$1:$AB$4=$BR$4)*$D9:$AB9))} -> 0 | BS9: =IFERROR(IF($BS$3=0,"",BR9/$BS$3),"") | BT9: {=IF(B9="","",SUMPRODUCT(($D$1:$AB$4=$BT$4)*$D9:$AB9))} -> 0 | BU9: =IFERROR(IF($BU$3=0,"",BT9/$BU$3),"") | BV9: {=IF(B9="","",SUMPRODUCT(($D$1:$AB$4=$BV$4)*$D9:$AB9))} -> 0 | BW9: =IFERROR(IF($BW$3=0,"",BV9/$BW$3),"") | BX9: {=IF(B9="","",SUMPRODUCT(($D$1:$AB$4=$BX$4)*$D9:$AB9))} -> 0 | BY9: =IFERROR(IF($BY$3=0,"",BX9/$BY$3),"") | BZ9: {=IF(B9="","",SUMPRODUCT(($D$1:$AB$4=$BZ$4)*$D9:$AB9))} -> 0 | CA9: =IFERROR(IF($CA$3=0,"",BZ9/$CA$3),"") | CB9: {=IF(B9="","",SUMPRODUCT(($D$1:$AB$4=$CB$4)*$D9:$AB9))} -> 0 | CC9: =IFERROR(IF($CC$3=0,"",CB9/$CC$3),"") | CD9: {=IF(B9="","",SUMPRODUCT(($D$1:$AB$4=$CD$4)*$D9:$AB9))} -> 0 | CE9: =IFERROR(IF($CE$3=0,"",CD9/$CE$3),"") | CF9: {=IF(B9="","",SUMPRODUCT(($D$1:$AB$4=$CF$4)*$D9:$AB9))} -> 0 | CG9: =IFERROR(IF($CG$3=0,"",CF9/$CG$3),"") | CH9: {=IF(B9="","",SUMPRODUCT(($D$1:$AB$4=$CH$4)*$D9:$AB9))} -> 0 | CI9: =IFERROR(IF($CI$3=0,"",CH9/$CI$3),"")
A10: 4 | B10: طالب 4 | D10: 4 | E10: 0 | F10: 5 | G10: 6 | AC10: =IF(B10="","",SUM(D10:AB10)) -> 15 | AD10: =IF(AC10="","",SUM(D10:AB10)/$AE$3) -> 0.75 | AL10: {=IF(B10="","",SUMPRODUCT(($D$1:$AB$4=$AL$4)*D10:AB10))} -> 4 | AM10: =IFERROR(IF($AM$3=0,"",AL10/$AM$3),"") -> 0.8 | AN10: {=IF(B10="","",SUMPRODUCT(($D$1:$AB$4=$AN$4)*D10:AB10))} -> 0 | AO10: =IFERROR(IF($AO$3=0,"",AN10/$AO$3),"") -> 0 | AP10: {=IF(B10="","",SUMPRODUCT(($D$1:$AB$4=$AP$4)*D10:AB10))} -> 5 | AQ10: =IFERROR(IF($AQ$3=0,"",AP10/$AQ$3),"") -> 1 | AR10: {=IF(B10="","",SUMPRODUCT(($D$1:$AB$4=$AR$4)*D10:AB10))} -> 6 | AS10: =IFERROR(IF($AS$3=0,"",AR10/$AS$3),"") -> 1 | AT10: {=IF(B10="","",SUMPRODUCT(($D$1:$AB$4=$AT$4)*$D10:$AB10))} -> 0 | AU10: =IFERROR(IF($AU$3=0,"",AT10/$AU$3),"") | AV10: {=IF(D10="","",SUMPRODUCT(($D$1:$AB$4=$AV$4)*$D10:$AB10))} -> 0 | AW10: =IFERROR(IF($AW$3=0,"",AV10/$AW$3),"") | AX10: {=IF(F10="","",SUMPRODUCT(($D$1:$AB$4=$AX$4)*$D10:$AB10))} -> 0 | AY10: =IFERROR(IF($AY$3=0,"",AX10/$AY$3),"") | AZ10: {=IF(B10="","",SUMPRODUCT(($D$1:$AB$4=$AZ$4)*$D10:$AB10))} -> 0 | BA10: =IFERROR(IF($BA$3=0,"",AZ10/$BA$3),"") | BB10: {=IF(B10="","",SUMPRODUCT(($D$1:$AB$4=$BB$4)*$D10:$AB10))} -> 0 | BC10: =IFERROR(IF($BC$3=0,"",BB10/$BC$3),"") | BD10: {=IF(B10="","",SUMPRODUCT(($D$1:$AB$4=$BD$4)*$D10:$AB10))} -> 0 | BE10: =IFERROR(IF($BE$3=0,"",BD10/$BE$3),"") | BF10: {=IF(B10="","",SUMPRODUCT(($D$1:$AB$4=$BF$4)*$D10:$AB10))} -> 0 | BG10: =IFERROR(IF($BG$3=0,"",BF10/$BG$3),"") | BH10: {=IF(B10="","",SUMPRODUCT(($D$1:$AB$4=$BH$4)*$D10:$AB10))} -> 0 | BI10: =IFERROR(IF($BI$3=0,"",BH10/$BI$3),"") | BJ10: {=IF(B10="","",SUMPRODUCT(($D$1:$AB$4=$BJ$4)*$D10:$AB10))} -> 0 | BK10: =IFERROR(IF($BK$3=0,"",BJ10/$BK$3),"") | BL10: {=IF(B10="","",SUMPRODUCT(($D$1:$AB$4=$BL$4)*$D10:$AB10))} -> 0 | BM10: =IFERROR(IF($BM$3=0,"",BL10/$BM$3),"") | BN10: {=IF(B10="","",SUMPRODUCT(($D$1:$AB$4=$BN$4)*$D10:$AB10))} -> 0 | BO10: =IFERROR(IF($BO$3=0,"",BN10/$BO$3),"") | BP10: {=IF(B10="","",SUMPRODUCT(($D$1:$AB$4=$BP$4)*$D10:$AB10))} -> 0 | BQ10: =IFERROR(IF($BQ$3=0,"",BP10/$BQ$3),"") | BR10: {=IF(B10="","",SUMPRODUCT(($D$1:$AB$4=$BR$4)*$D10:$AB10))} -> 0 | BS10: =IFERROR(IF($BS$3=0,"",BR10/$BS$3),"") | BT10: {=IF(B10="","",SUMPRODUCT(($D$1:$AB$4=$BT$4)*$D10:$AB10))} -> 0 | BU10: =IFERROR(IF($BU$3=0,"",BT10/$BU$3),"") | BV10: {=IF(B10="","",SUMPRODUCT(($D$1:$AB$4=$BV$4)*$D10:$AB10))} -> 0 | BW10: =IFERROR(IF($BW$3=0,"",BV10/$BW$3),"") | BX10: {=IF(B10="","",SUMPRODUCT(($D$1:$AB$4=$BX$4)*$D10:$AB10))} -> 0 | BY10: =IFERROR(IF($BY$3=0,"",BX10/$BY$3),"") | BZ10: {=IF(B10="","",SUMPRODUCT(($D$1:$AB$4=$BZ$4)*$D10:$AB10))} -> 0 | CA10: =IFERROR(IF($CA$3=0,"",BZ10/$CA$3),"") | CB10: {=IF(B10="","",SUMPRODUCT(($D$1:$AB$4=$CB$4)*$D10:$AB10))} -> 0 | CC10: =IFERROR(IF($CC$3=0,"",CB10/$CC$3),"") | CD10: {=IF(B10="","",SUMPRODUCT(($D$1:$AB$4=$CD$4)*$D10:$AB10))} -> 0 | CE10: =IFERROR(IF($CE$3=0,"",CD10/$CE$3),"") | CF10: {=IF(B10="","",SUMPRODUCT(($D$1:$AB$4=$CF$4)*$D10:$AB10))} -> 0 | CG10: =IFERROR(IF($CG$3=0,"",CF10/$CG$3),"") | CH10: {=IF(B10="","",SUMPRODUCT(($D$1:$AB$4=$CH$4)*$D10:$AB10))} -> 0 | CI10: =IFERROR(IF($CI$3=0,"",CH10/$CI$3),"")
A11: 5 | AC11: =IF(B11="","",SUM(D11:AB11)) | AD11: =IF(AC11="","",SUM(D11:AB11)/$AE$3) | AL11: {=IF(B11="","",SUMPRODUCT(($D$1:$AB$4=$AL$4)*D11:AB11))} | AM11: =IFERROR(IF($AM$3=0,"",AL11/$AM$3),"") | AN11: {=IF(B11="","",SUMPRODUCT(($D$1:$AB$4=$AN$4)*D11:AB11))} | AO11: =IFERROR(IF($AO$3=0,"",AN11/$AO$3),"") | AP11: {=IF(B11="","",SUMPRODUCT(($D$1:$AB$4=$AP$4)*D11:AB11))} | AQ11: =IFERROR(IF($AQ$3=0,"",AP11/$AQ$3),"") | AR11: {=IF(B11="","",SUMPRODUCT(($D$1:$AB$4=$AR$4)*D11:AB11))} | AS11: =IFERROR(IF($AS$3=0,"",AR11/$AS$3),"") | AT11: {=IF(B11="","",SUMPRODUCT(($D$1:$AB$4=$AT$4)*$D11:$AB11))} | AU11: =IFERROR(IF($AU$3=0,"",AT11/$AU$3),"") | AV11: {=IF(D11="","",SUMPRODUCT(($D$1:$AB$4=$AV$4)*$D11:$AB11))} | AW11: =IFERROR(IF($AW$3=0,"",AV11/$AW$3),"") | AX11: {=IF(F11="","",SUMPRODUCT(($D$1:$AB$4=$AX$4)*$D11:$AB11))} | AY11: =IFERROR(IF($AY$3=0,"",AX11/$AY$3),"") | AZ11: {=IF(B11="","",SUMPRODUCT(($D$1:$AB$4=$AZ$4)*$D11:$AB11))} | BA11: =IFERROR(IF($BA$3=0,"",AZ11/$BA$3),"") | BB11: {=IF(B11="","",SUMPRODUCT(($D$1:$AB$4=$BB$4)*$D11:$AB11))} | BC11: =IFERROR(IF($BC$3=0,"",BB11/$BC$3),"") | BD11: {=IF(B11="","",SUMPRODUCT(($D$1:$AB$4=$BD$4)*$D11:$AB11))} | BE11: =IFERROR(IF($BE$3=0,"",BD11/$BE$3),"") | BF11: {=IF(B11="","",SUMPRODUCT(($D$1:$AB$4=$BF$4)*$D11:$AB11))} | BG11: =IFERROR(IF($BG$3=0,"",BF11/$BG$3),"") | BH11: {=IF(B11="","",SUMPRODUCT(($D$1:$AB$4=$BH$4)*$D11:$AB11))} | BI11: =IFERROR(IF($BI$3=0,"",BH11/$BI$3),"") | BJ11: {=IF(B11="","",SUMPRODUCT(($D$1:$AB$4=$BJ$4)*$D11:$AB11))} | BK11: =IFERROR(IF($BK$3=0,"",BJ11/$BK$3),"") | BL11: {=IF(B11="","",SUMPRODUCT(($D$1:$AB$4=$BL$4)*$D11:$AB11))} | BM11: =IFERROR(IF($BM$3=0,"",BL11/$BM$3),"") | BN11: {=IF(B11="","",SUMPRODUCT(($D$1:$AB$4=$BN$4)*$D11:$AB11))} | BO11: =IFERROR(IF($BO$3=0,"",BN11/$BO$3),"") | BP11: {=IF(B11="","",SUMPRODUCT(($D$1:$AB$4=$BP$4)*$D11:$AB11))} | BQ11: =IFERROR(IF($BQ$3=0,"",BP11/$BQ$3),"") | BR11: {=IF(B11="","",SUMPRODUCT(($D$1:$AB$4=$BR$4)*$D11:$AB11))} | BS11: =IFERROR(IF($BS$3=0,"",BR11/$BS$3),"") | BT11: {=IF(B11="","",SUMPRODUCT(($D$1:$AB$4=$BT$4)*$D11:$AB11))} | BU11: =IFERROR(IF($BU$3=0,"",BT11/$BU$3),"") | BV11: {=IF(B11="","",SUMPRODUCT(($D$1:$AB$4=$BV$4)*$D11:$AB11))} | BW11: =IFERROR(IF($BW$3=0,"",BV11/$BW$3),"") | BX11: {=IF(B11="","",SUMPRODUCT(($D$1:$AB$4=$BX$4)*$D11:$AB11))} | BY11: =IFERROR(IF($BY$3=0,"",BX11/$BY$3),"") | BZ11: {=IF(B11="","",SUMPRODUCT(($D$1:$AB$4=$BZ$4)*$D11:$AB11))} | CA11: =IFERROR(IF($CA$3=0,"",BZ11/$CA$3),"") | CB11: {=IF(B11="","",SUMPRODUCT(($D$1:$AB$4=$CB$4)*$D11:$AB11))} | CC11: =IFERROR(IF($CC$3=0,"",CB11/$CC$3),"") | CD11: {=IF(B11="","",SUMPRODUCT(($D$1:$AB$4=$CD$4)*$D11:$AB11))} | CE11: =IFERROR(IF($CE$3=0,"",CD11/$CE$3),"") | CF11: {=IF(B11="","",SUMPRODUCT(($D$1:$AB$4=$CF$4)*$D11:$AB11))} | CG11: =IFERROR(IF($CG$3=0,"",CF11/$CG$3),"") | CH11: {=IF(B11="","",SUMPRODUCT(($D$1:$AB$4=$CH$4)*$D11:$AB11))} | CI11: =IFERROR(IF($CI$3=0,"",CH11/$CI$3),"")
A12: 6 | AC12: =IF(B12="","",SUM(D12:AB12)) | AD12: =IF(AC12="","",SUM(D12:AB12)/$AE$3) | AL12: {=IF(B12="","",SUMPRODUCT(($D$1:$AB$4=$AL$4)*D12:AB12))} | AM12: =IFERROR(IF($AM$3=0,"",AL12/$AM$3),"") | AN12: {=IF(B12="","",SUMPRODUCT(($D$1:$AB$4=$AN$4)*D12:AB12))} | AO12: =IFERROR(IF($AO$3=0,"",AN12/$AO$3),"") | AP12: {=IF(B12="","",SUMPRODUCT(($D$1:$AB$4=$AP$4)*D12:AB12))} | AQ12: =IFERROR(IF($AQ$3=0,"",AP12/$AQ$3),"") | AR12: {=IF(B12="","",SUMPRODUCT(($D$1:$AB$4=$AR$4)*D12:AB12))} | AS12: =IFERROR(IF($AS$3=0,"",AR12/$AS$3),"") | AT12: {=IF(B12="","",SUMPRODUCT(($D$1:$AB$4=$AT$4)*$D12:$AB12))} | AU12: =IFERROR(IF($AU$3=0,"",AT12/$AU$3),"") | AV12: {=IF(D12="","",SUMPRODUCT(($D$1:$AB$4=$AV$4)*$D12:$AB12))} | AW12: =IFERROR(IF($AW$3=0,"",AV12/$AW$3),"") | AX12: {=IF(F12="","",SUMPRODUCT(($D$1:$AB$4=$AX$4)*$D12:$AB12))} | AY12: =IFERROR(IF($AY$3=0,"",AX12/$AY$3),"") | AZ12: {=IF(B12="","",SUMPRODUCT(($D$1:$AB$4=$AZ$4)*$D12:$AB12))} | BA12: =IFERROR(IF($BA$3=0,"",AZ12/$BA$3),"") | BB12: {=IF(B12="","",SUMPRODUCT(($D$1:$AB$4=$BB$4)*$D12:$AB12))} | BC12: =IFERROR(IF($BC$3=0,"",BB12/$BC$3),"") | BD12: {=IF(B12="","",SUMPRODUCT(($D$1:$AB$4=$BD$4)*$D12:$AB12))} | BE12: =IFERROR(IF($BE$3=0,"",BD12/$BE$3),"") | BF12: {=IF(B12="","",SUMPRODUCT(($D$1:$AB$4=$BF$4)*$D12:$AB12))} | BG12: =IFERROR(IF($BG$3=0,"",BF12/$BG$3),"") | BH12: {=IF(B12="","",SUMPRODUCT(($D$1:$AB$4=$BH$4)*$D12:$AB12))} | BI12: =IFERROR(IF($BI$3=0,"",BH12/$BI$3),"") | BJ12: {=IF(B12="","",SUMPRODUCT(($D$1:$AB$4=$BJ$4)*$D12:$AB12))} | BK12: =IFERROR(IF($BK$3=0,"",BJ12/$BK$3),"") | BL12: {=IF(B12="","",SUMPRODUCT(($D$1:$AB$4=$BL$4)*$D12:$AB12))} | BM12: =IFERROR(IF($BM$3=0,"",BL12/$BM$3),"") | BN12: {=IF(B12="","",SUMPRODUCT(($D$1:$AB$4=$BN$4)*$D12:$AB12))} | BO12: =IFERROR(IF($BO$3=0,"",BN12/$BO$3),"") | BP12: {=IF(B12="","",SUMPRODUCT(($D$1:$AB$4=$BP$4)*$D12:$AB12))} | BQ12: =IFERROR(IF($BQ$3=0,"",BP12/$BQ$3),"") | BR12: {=IF(B12="","",SUMPRODUCT(($D$1:$AB$4=$BR$4)*$D12:$AB12))} | BS12: =IFERROR(IF($BS$3=0,"",BR12/$BS$3),"") | BT12: {=IF(B12="","",SUMPRODUCT(($D$1:$AB$4=$BT$4)*$D12:$AB12))} | BU12: =IFERROR(IF($BU$3=0,"",BT12/$BU$3),"") | BV12: {=IF(B12="","",SUMPRODUCT(($D$1:$AB$4=$BV$4)*$D12:$AB12))} | BW12: =IFERROR(IF($BW$3=0,"",BV12/$BW$3),"") | BX12: {=IF(B12="","",SUMPRODUCT(($D$1:$AB$4=$BX$4)*$D12:$AB12))} | BY12: =IFERROR(IF($BY$3=0,"",BX12/$BY$3),"") | BZ12: {=IF(B12="","",SUMPRODUCT(($D$1:$AB$4=$BZ$4)*$D12:$AB12))} | CA12: =IFERROR(IF($CA$3=0,"",BZ12/$CA$3),"") | CB12: {=IF(B12="","",SUMPRODUCT(($D$1:$AB$4=$CB$4)*$D12:$AB12))} | CC12: =IFERROR(IF($CC$3=0,"",CB12/$CC$3),"") | CD12: {=IF(B12="","",SUMPRODUCT(($D$1:$AB$4=$CD$4)*$D12:$AB12))} | CE12: =IFERROR(IF($CE$3=0,"",CD12/$CE$3),"") | CF12: {=IF(B12="","",SUMPRODUCT(($D$1:$AB$4=$CF$4)*$D12:$AB12))} | CG12: =IFERROR(IF($CG$3=0,"",CF12/$CG$3),"") | CH12: {=IF(B12="","",SUMPRODUCT(($D$1:$AB$4=$CH$4)*$D12:$AB12))} | CI12: =IFERROR(IF($CI$3=0,"",CH12/$CI$3),"")
A13: 7 | AC13: =IF(B13="","",SUM(D13:AB13)) | AD13: =IF(AC13="","",SUM(D13:AB13)/$AE$3) | AL13: {=IF(B13="","",SUMPRODUCT(($D$1:$AB$4=$AL$4)*D13:AB13))} | AM13: =IFERROR(IF($AM$3=0,"",AL13/$AM$3),"") | AN13: {=IF(B13="","",SUMPRODUCT(($D$1:$AB$4=$AN$4)*D13:AB13))} | AO13: =IFERROR(IF($AO$3=0,"",AN13/$AO$3),"") | AP13: {=IF(B13="","",SUMPRODUCT(($D$1:$AB$4=$AP$4)*D13:AB13))} | AQ13: =IFERROR(IF($AQ$3=0,"",AP13/$AQ$3),"") | AR13: {=IF(B13="","",SUMPRODUCT(($D$1:$AB$4=$AR$4)*D13:AB13))} | AS13: =IFERROR(IF($AS$3=0,"",AR13/$AS$3),"") | AT13: {=IF(B13="","",SUMPRODUCT(($D$1:$AB$4=$AT$4)*$D13:$AB13))} | AU13: =IFERROR(IF($AU$3=0,"",AT13/$AU$3),"") | AV13: {=IF(D13="","",SUMPRODUCT(($D$1:$AB$4=$AV$4)*$D13:$AB13))} | AW13: =IFERROR(IF($AW$3=0,"",AV13/$AW$3),"") | AX13: {=IF(F13="","",SUMPRODUCT(($D$1:$AB$4=$AX$4)*$D13:$AB13))} | AY13: =IFERROR(IF($AY$3=0,"",AX13/$AY$3),"") | AZ13: {=IF(B13="","",SUMPRODUCT(($D$1:$AB$4=$AZ$4)*$D13:$AB13))} | BA13: =IFERROR(IF($BA$3=0,"",AZ13/$BA$3),"") | BB13: {=IF(B13="","",SUMPRODUCT(($D$1:$AB$4=$BB$4)*$D13:$AB13))} | BC13: =IFERROR(IF($BC$3=0,"",BB13/$BC$3),"") | BD13: {=IF(B13="","",SUMPRODUCT(($D$1:$AB$4=$BD$4)*$D13:$AB13))} | BE13: =IFERROR(IF($BE$3=0,"",BD13/$BE$3),"") | BF13: {=IF(B13="","",SUMPRODUCT(($D$1:$AB$4=$BF$4)*$D13:$AB13))} | BG13: =IFERROR(IF($BG$3=0,"",BF13/$BG$3),"") | BH13: {=IF(B13="","",SUMPRODUCT(($D$1:$AB$4=$BH$4)*$D13:$AB13))} | BI13: =IFERROR(IF($BI$3=0,"",BH13/$BI$3),"") | BJ13: {=IF(B13="","",SUMPRODUCT(($D$1:$AB$4=$BJ$4)*$D13:$AB13))} | BK13: =IFERROR(IF($BK$3=0,"",BJ13/$BK$3),"") | BL13: {=IF(B13="","",SUMPRODUCT(($D$1:$AB$4=$BL$4)*$D13:$AB13))} | BM13: =IFERROR(IF($BM$3=0,"",BL13/$BM$3),"") | BN13: {=IF(B13="","",SUMPRODUCT(($D$1:$AB$4=$BN$4)*$D13:$AB13))} | BO13: =IFERROR(IF($BO$3=0,"",BN13/$BO$3),"") | BP13: {=IF(B13="","",SUMPRODUCT(($D$1:$AB$4=$BP$4)*$D13:$AB13))} | BQ13: =IFERROR(IF($BQ$3=0,"",BP13/$BQ$3),"") | BR13: {=IF(B13="","",SUMPRODUCT(($D$1:$AB$4=$BR$4)*$D13:$AB13))} | BS13: =IFERROR(IF($BS$3=0,"",BR13/$BS$3),"") | BT13: {=IF(B13="","",SUMPRODUCT(($D$1:$AB$4=$BT$4)*$D13:$AB13))} | BU13: =IFERROR(IF($BU$3=0,"",BT13/$BU$3),"") | BV13: {=IF(B13="","",SUMPRODUCT(($D$1:$AB$4=$BV$4)*$D13:$AB13))} | BW13: =IFERROR(IF($BW$3=0,"",BV13/$BW$3),"") | BX13: {=IF(B13="","",SUMPRODUCT(($D$1:$AB$4=$BX$4)*$D13:$AB13))} | BY13: =IFERROR(IF($BY$3=0,"",BX13/$BY$3),"") | BZ13: {=IF(B13="","",SUMPRODUCT(($D$1:$AB$4=$BZ$4)*$D13:$AB13))} | CA13: =IFERROR(IF($CA$3=0,"",BZ13/$CA$3),"") | CB13: {=IF(B13="","",SUMPRODUCT(($D$1:$AB$4=$CB$4)*$D13:$AB13))} | CC13: =IFERROR(IF($CC$3=0,"",CB13/$CC$3),"") | CD13: {=IF(B13="","",SUMPRODUCT(($D$1:$AB$4=$CD$4)*$D13:$AB13))} | CE13: =IFERROR(IF($CE$3=0,"",CD13/$CE$3),"") | CF13: {=IF(B13="","",SUMPRODUCT(($D$1:$AB$4=$CF$4)*$D13:$AB13))} | CG13: =IFERROR(IF($CG$3=0,"",CF13/$CG$3),"") | CH13: {=IF(B13="","",SUMPRODUCT(($D$1:$AB$4=$CH$4)*$D13:$AB13))} | CI13: =IFERROR(IF($CI$3=0,"",CH13/$CI$3),"")
A14: 8 | AC14: =IF(B14="","",SUM(D14:AB14)) | AD14: =IF(AC14="","",SUM(D14:AB14)/$AE$3) | AL14: {=IF(B14="","",SUMPRODUCT(($D$1:$AB$4=$AL$4)*D14:AB14))} | AM14: =IFERROR(IF($AM$3=0,"",AL14/$AM$3),"") | AN14: {=IF(B14="","",SUMPRODUCT(($D$1:$AB$4=$AN$4)*D14:AB14))} | AO14: =IFERROR(IF($AO$3=0,"",AN14/$AO$3),"") | AP14: {=IF(B14="","",SUMPRODUCT(($D$1:$AB$4=$AP$4)*D14:AB14))} | AQ14: =IFERROR(IF($AQ$3=0,"",AP14/$AQ$3),"") | AR14: {=IF(B14="","",SUMPRODUCT(($D$1:$AB$4=$AR$4)*D14:AB14))} | AS14: =IFERROR(IF($AS$3=0,"",AR14/$AS$3),"") | AT14: {=IF(B14="","",SUMPRODUCT(($D$1:$AB$4=$AT$4)*$D14:$AB14))} | AU14: =IFERROR(IF($AU$3=0,"",AT14/$AU$3),"") | AV14: {=IF(D14="","",SUMPRODUCT(($D$1:$AB$4=$AV$4)*$D14:$AB14))} | AW14: =IFERROR(IF($AW$3=0,"",AV14/$AW$3),"") | AX14: {=IF(F14="","",SUMPRODUCT(($D$1:$AB$4=$AX$4)*$D14:$AB14))} | AY14: =IFERROR(IF($AY$3=0,"",AX14/$AY$3),"") | AZ14: {=IF(B14="","",SUMPRODUCT(($D$1:$AB$4=$AZ$4)*$D14:$AB14))} | BA14: =IFERROR(IF($BA$3=0,"",AZ14/$BA$3),"") | BB14: {=IF(B14="","",SUMPRODUCT(($D$1:$AB$4=$BB$4)*$D14:$AB14))} | BC14: =IFERROR(IF($BC$3=0,"",BB14/$BC$3),"") | BD14: {=IF(B14="","",SUMPRODUCT(($D$1:$AB$4=$BD$4)*$D14:$AB14))} | BE14: =IFERROR(IF($BE$3=0,"",BD14/$BE$3),"") | BF14: {=IF(B14="","",SUMPRODUCT(($D$1:$AB$4=$BF$4)*$D14:$AB14))} | BG14: =IFERROR(IF($BG$3=0,"",BF14/$BG$3),"") | BH14: {=IF(B14="","",SUMPRODUCT(($D$1:$AB$4=$BH$4)*$D14:$AB14))} | BI14: =IFERROR(IF($BI$3=0,"",BH14/$BI$3),"") | BJ14: {=IF(B14="","",SUMPRODUCT(($D$1:$AB$4=$BJ$4)*$D14:$AB14))} | BK14: =IFERROR(IF($BK$3=0,"",BJ14/$BK$3),"") | BL14: {=IF(B14="","",SUMPRODUCT(($D$1:$AB$4=$BL$4)*$D14:$AB14))} | BM14: =IFERROR(IF($BM$3=0,"",BL14/$BM$3),"") | BN14: {=IF(B14="","",SUMPRODUCT(($D$1:$AB$4=$BN$4)*$D14:$AB14))} | BO14: =IFERROR(IF($BO$3=0,"",BN14/$BO$3),"") | BP14: {=IF(B14="","",SUMPRODUCT(($D$1:$AB$4=$BP$4)*$D14:$AB14))} | BQ14: =IFERROR(IF($BQ$3=0,"",BP14/$BQ$3),"") | BR14: {=IF(B14="","",SUMPRODUCT(($D$1:$AB$4=$BR$4)*$D14:$AB14))} | BS14: =IFERROR(IF($BS$3=0,"",BR14/$BS$3),"") | BT14: {=IF(B14="","",SUMPRODUCT(($D$1:$AB$4=$BT$4)*$D14:$AB14))} | BU14: =IFERROR(IF($BU$3=0,"",BT14/$BU$3),"") | BV14: {=IF(B14="","",SUMPRODUCT(($D$1:$AB$4=$BV$4)*$D14:$AB14))} | BW14: =IFERROR(IF($BW$3=0,"",BV14/$BW$3),"") | BX14: {=IF(B14="","",SUMPRODUCT(($D$1:$AB$4=$BX$4)*$D14:$AB14))} | BY14: =IFERROR(IF($BY$3=0,"",BX14/$BY$3),"") | BZ14: {=IF(B14="","",SUMPRODUCT(($D$1:$AB$4=$BZ$4)*$D14:$AB14))} | CA14: =IFERROR(IF($CA$3=0,"",BZ14/$CA$3),"") | CB14: {=IF(B14="","",SUMPRODUCT(($D$1:$AB$4=$CB$4)*$D14:$AB14))} | CC14: =IFERROR(IF($CC$3=0,"",CB14/$CC$3),"") | CD14: {=IF(B14="","",SUMPRODUCT(($D$1:$AB$4=$CD$4)*$D14:$AB14))} | CE14: =IFERROR(IF($CE$3=0,"",CD14/$CE$3),"") | CF14: {=IF(B14="","",SUMPRODUCT(($D$1:$AB$4=$CF$4)*$D14:$AB14))} | CG14: =IFERROR(IF($CG$3=0,"",CF14/$CG$3),"") | CH14: {=IF(B14="","",SUMPRODUCT(($D$1:$AB$4=$CH$4)*$D14:$AB14))} | CI14: =IFERROR(IF($CI$3=0,"",CH14/$CI$3),"")
A15: 9 | AC15: =IF(B15="","",SUM(D15:AB15)) | AD15: =IF(AC15="","",SUM(D15:AB15)/$AE$3) | AL15: {=IF(B15="","",SUMPRODUCT(($D$1:$AB$4=$AL$4)*D15:AB15))} | AM15: =IFERROR(IF($AM$3=0,"",AL15/$AM$3),"") | AN15: {=IF(B15="","",SUMPRODUCT(($D$1:$AB$4=$AN$4)*D15:AB15))} | AO15: =IFERROR(IF($AO$3=0,"",AN15/$AO$3),"") | AP15: {=IF(B15="","",SUMPRODUCT(($D$1:$AB$4=$AP$4)*D15:AB15))} | AQ15: =IFERROR(IF($AQ$3=0,"",AP15/$AQ$3),"") | AR15: {=IF(B15="","",SUMPRODUCT(($D$1:$AB$4=$AR$4)*D15:AB15))} | AS15: =IFERROR(IF($AS$3=0,"",AR15/$AS$3),"") | AT15: {=IF(B15="","",SUMPRODUCT(($D$1:$AB$4=$AT$4)*$D15:$AB15))} | AU15: =IFERROR(IF($AU$3=0,"",AT15/$AU$3),"") | AV15: {=IF(D15="","",SUMPRODUCT(($D$1:$AB$4=$AV$4)*$D15:$AB15))} | AW15: =IFERROR(IF($AW$3=0,"",AV15/$AW$3),"") | AX15: {=IF(F15="","",SUMPRODUCT(($D$1:$AB$4=$AX$4)*$D15:$AB15))} | AY15: =IFERROR(IF($AY$3=0,"",AX15/$AY$3),"") | AZ15: {=IF(B15="","",SUMPRODUCT(($D$1:$AB$4=$AZ$4)*$D15:$AB15))} | BA15: =IFERROR(IF($BA$3=0,"",AZ15/$BA$3),"") | BB15: {=IF(B15="","",SUMPRODUCT(($D$1:$AB$4=$BB$4)*$D15:$AB15))} | BC15: =IFERROR(IF($BC$3=0,"",BB15/$BC$3),"") | BD15: {=IF(B15="","",SUMPRODUCT(($D$1:$AB$4=$BD$4)*$D15:$AB15))} | BE15: =IFERROR(IF($BE$3=0,"",BD15/$BE$3),"") | BF15: {=IF(B15="","",SUMPRODUCT(($D$1:$AB$4=$BF$4)*$D15:$AB15))} | BG15: =IFERROR(IF($BG$3=0,"",BF15/$BG$3),"") | BH15: {=IF(B15="","",SUMPRODUCT(($D$1:$AB$4=$BH$4)*$D15:$AB15))} | BI15: =IFERROR(IF($BI$3=0,"",BH15/$BI$3),"") | BJ15: {=IF(B15="","",SUMPRODUCT(($D$1:$AB$4=$BJ$4)*$D15:$AB15))} | BK15: =IFERROR(IF($BK$3=0,"",BJ15/$BK$3),"") | BL15: {=IF(B15="","",SUMPRODUCT(($D$1:$AB$4=$BL$4)*$D15:$AB15))} | BM15: =IFERROR(IF($BM$3=0,"",BL15/$BM$3),"") | BN15: {=IF(B15="","",SUMPRODUCT(($D$1:$AB$4=$BN$4)*$D15:$AB15))} | BO15: =IFERROR(IF($BO$3=0,"",BN15/$BO$3),"") | BP15: {=IF(B15="","",SUMPRODUCT(($D$1:$AB$4=$BP$4)*$D15:$AB15))} | BQ15: =IFERROR(IF($BQ$3=0,"",BP15/$BQ$3),"") | BR15: {=IF(B15="","",SUMPRODUCT(($D$1:$AB$4=$BR$4)*$D15:$AB15))} | BS15: =IFERROR(IF($BS$3=0,"",BR15/$BS$3),"") | BT15: {=IF(B15="","",SUMPRODUCT(($D$1:$AB$4=$BT$4)*$D15:$AB15))} | BU15: =IFERROR(IF($BU$3=0,"",BT15/$BU$3),"") | BV15: {=IF(B15="","",SUMPRODUCT(($D$1:$AB$4=$BV$4)*$D15:$AB15))} | BW15: =IFERROR(IF($BW$3=0,"",BV15/$BW$3),"") | BX15: {=IF(B15="","",SUMPRODUCT(($D$1:$AB$4=$BX$4)*$D15:$AB15))} | BY15: =IFERROR(IF($BY$3=0,"",BX15/$BY$3),"") | BZ15: {=IF(B15="","",SUMPRODUCT(($D$1:$AB$4=$BZ$4)*$D15:$AB15))} | CA15: =IFERROR(IF($CA$3=0,"",BZ15/$CA$3),"") | CB15: {=IF(B15="","",SUMPRODUCT(($D$1:$AB$4=$CB$4)*$D15:$AB15))} | CC15: =IFERROR(IF($CC$3=0,"",CB15/$CC$3),"") | CD15: {=IF(B15="","",SUMPRODUCT(($D$1:$AB$4=$CD$4)*$D15:$AB15))} | CE15: =IFERROR(IF($CE$3=0,"",CD15/$CE$3),"") | CF15: {=IF(B15="","",SUMPRODUCT(($D$1:$AB$4=$CF$4)*$D15:$AB15))} | CG15: =IFERROR(IF($CG$3=0,"",CF15/$CG$3),"") | CH15: {=IF(B15="","",SUMPRODUCT(($D$1:$AB$4=$CH$4)*$D15:$AB15))} | CI15: =IFERROR(IF($CI$3=0,"",CH15/$CI$3),"")
A16: 10 | AC16: =IF(B16="","",SUM(D16:AB16)) | AD16: =IF(AC16="","",SUM(D16:AB16)/$AE$3) | AL16: {=IF(B16="","",SUMPRODUCT(($D$1:$AB$4=$AL$4)*D16:AB16))} | AM16: =IFERROR(IF($AM$3=0,"",AL16/$AM$3),"") | AN16: {=IF(B16="","",SUMPRODUCT(($D$1:$AB$4=$AN$4)*D16:AB16))} | AO16: =IFERROR(IF($AO$3=0,"",AN16/$AO$3),"") | AP16: {=IF(B16="","",SUMPRODUCT(($D$1:$AB$4=$AP$4)*D16:AB16))} | AQ16: =IFERROR(IF($AQ$3=0,"",AP16/$AQ$3),"") | AR16: {=IF(B16="","",SUMPRODUCT(($D$1:$AB$4=$AR$4)*D16:AB16))} | AS16: =IFERROR(IF($AS$3=0,"",AR16/$AS$3),"") | AT16: {=IF(B16="","",SUMPRODUCT(($D$1:$AB$4=$AT$4)*$D16:$AB16))} | AU16: =IFERROR(IF($AU$3=0,"",AT16/$AU$3),"") | AV16: {=IF(D16="","",SUMPRODUCT(($D$1:$AB$4=$AV$4)*$D16:$AB16))} | AW16: =IFERROR(IF($AW$3=0,"",AV16/$AW$3),"") | AX16: {=IF(F16="","",SUMPRODUCT(($D$1:$AB$4=$AX$4)*$D16:$AB16))} | AY16: =IFERROR(IF($AY$3=0,"",AX16/$AY$3),"") | AZ16: {=IF(B16="","",SUMPRODUCT(($D$1:$AB$4=$AZ$4)*$D16:$AB16))} | BA16: =IFERROR(IF($BA$3=0,"",AZ16/$BA$3),"") | BB16: {=IF(B16="","",SUMPRODUCT(($D$1:$AB$4=$BB$4)*$D16:$AB16))} | BC16: =IFERROR(IF($BC$3=0,"",BB16/$BC$3),"") | BD16: {=IF(B16="","",SUMPRODUCT(($D$1:$AB$4=$BD$4)*$D16:$AB16))} | BE16: =IFERROR(IF($BE$3=0,"",BD16/$BE$3),"") | BF16: {=IF(B16="","",SUMPRODUCT(($D$1:$AB$4=$BF$4)*$D16:$AB16))} | BG16: =IFERROR(IF($BG$3=0,"",BF16/$BG$3),"") | BH16: {=IF(B16="","",SUMPRODUCT(($D$1:$AB$4=$BH$4)*$D16:$AB16))} | BI16: =IFERROR(IF($BI$3=0,"",BH16/$BI$3),"") | BJ16: {=IF(B16="","",SUMPRODUCT(($D$1:$AB$4=$BJ$4)*$D16:$AB16))} | BK16: =IFERROR(IF($BK$3=0,"",BJ16/$BK$3),"") | BL16: {=IF(B16="","",SUMPRODUCT(($D$1:$AB$4=$BL$4)*$D16:$AB16))} | BM16: =IFERROR(IF($BM$3=0,"",BL16/$BM$3),"") | BN16: {=IF(B16="","",SUMPRODUCT(($D$1:$AB$4=$BN$4)*$D16:$AB16))} | BO16: =IFERROR(IF($BO$3=0,"",BN16/$BO$3),"") | BP16: {=IF(B16="","",SUMPRODUCT(($D$1:$AB$4=$BP$4)*$D16:$AB16))} | BQ16: =IFERROR(IF($BQ$3=0,"",BP16/$BQ$3),"") | BR16: {=IF(B16="","",SUMPRODUCT(($D$1:$AB$4=$BR$4)*$D16:$AB16))} | BS16: =IFERROR(IF($BS$3=0,"",BR16/$BS$3),"") | BT16: {=IF(B16="","",SUMPRODUCT(($D$1:$AB$4=$BT$4)*$D16:$AB16))} | BU16: =IFERROR(IF($BU$3=0,"",BT16/$BU$3),"") | BV16: {=IF(B16="","",SUMPRODUCT(($D$1:$AB$4=$BV$4)*$D16:$AB16))} | BW16: =IFERROR(IF($BW$3=0,"",BV16/$BW$3),"") | BX16: {=IF(B16="","",SUMPRODUCT(($D$1:$AB$4=$BX$4)*$D16:$AB16))} | BY16: =IFERROR(IF($BY$3=0,"",BX16/$BY$3),"") | BZ16: {=IF(B16="","",SUMPRODUCT(($D$1:$AB$4=$BZ$4)*$D16:$AB16))} | CA16: =IFERROR(IF($CA$3=0,"",BZ16/$CA$3),"") | CB16: {=IF(B16="","",SUMPRODUCT(($D$1:$AB$4=$CB$4)*$D16:$AB16))} | CC16: =IFERROR(IF($CC$3=0,"",CB16/$CC$3),"") | CD16: {=IF(B16="","",SUMPRODUCT(($D$1:$AB$4=$CD$4)*$D16:$AB16))} | CE16: =IFERROR(IF($CE$3=0,"",CD16/$CE$3),"") | CF16: {=IF(B16="","",SUMPRODUCT(($D$1:$AB$4=$CF$4)*$D16:$AB16))} | CG16: =IFERROR(IF($CG$3=0,"",CF16/$CG$3),"") | CH16: {=IF(B16="","",SUMPRODUCT(($D$1:$AB$4=$CH$4)*$D16:$AB16))} | CI16: =IFERROR(IF($CI$3=0,"",CH16/$CI$3),"")
A17: 11 | AC17: =IF(B17="","",SUM(D17:AB17)) | AD17: =IF(AC17="","",SUM(D17:AB17)/$AE$3) | AL17: {=IF(B17="","",SUMPRODUCT(($D$1:$AB$4=$AL$4)*D17:AB17))} | AM17: =IFERROR(IF($AM$3=0,"",AL17/$AM$3),"") | AN17: {=IF(B17="","",SUMPRODUCT(($D$1:$AB$4=$AN$4)*D17:AB17))} | AO17: =IFERROR(IF($AO$3=0,"",AN17/$AO$3),"") | AP17: {=IF(B17="","",SUMPRODUCT(($D$1:$AB$4=$AP$4)*D17:AB17))} | AQ17: =IFERROR(IF($AQ$3=0,"",AP17/$AQ$3),"") | AR17: {=IF(B17="","",SUMPRODUCT(($D$1:$AB$4=$AR$4)*D17:AB17))} | AS17: =IFERROR(IF($AS$3=0,"",AR17/$AS$3),"") | AT17: {=IF(B17="","",SUMPRODUCT(($D$1:$AB$4=$AT$4)*$D17:$AB17))} | AU17: =IFERROR(IF($AU$3=0,"",AT17/$AU$3),"") | AV17: {=IF(D17="","",SUMPRODUCT(($D$1:$AB$4=$AV$4)*$D17:$AB17))} | AW17: =IFERROR(IF($AW$3=0,"",AV17/$AW$3),"") | AX17: {=IF(F17="","",SUMPRODUCT(($D$1:$AB$4=$AX$4)*$D17:$AB17))} | AY17: =IFERROR(IF($AY$3=0,"",AX17/$AY$3),"") | AZ17: {=IF(B17="","",SUMPRODUCT(($D$1:$AB$4=$AZ$4)*$D17:$AB17))} | BA17: =IFERROR(IF($BA$3=0,"",AZ17/$BA$3),"") | BB17: {=IF(B17="","",SUMPRODUCT(($D$1:$AB$4=$BB$4)*$D17:$AB17))} | BC17: =IFERROR(IF($BC$3=0,"",BB17/$BC$3),"") | BD17: {=IF(B17="","",SUMPRODUCT(($D$1:$AB$4=$BD$4)*$D17:$AB17))} | BE17: =IFERROR(IF($BE$3=0,"",BD17/$BE$3),"") | BF17: {=IF(B17="","",SUMPRODUCT(($D$1:$AB$4=$BF$4)*$D17:$AB17))} | BG17: =IFERROR(IF($BG$3=0,"",BF17/$BG$3),"") | BH17: {=IF(B17="","",SUMPRODUCT(($D$1:$AB$4=$BH$4)*$D17:$AB17))} | BI17: =IFERROR(IF($BI$3=0,"",BH17/$BI$3),"") | BJ17: {=IF(B17="","",SUMPRODUCT(($D$1:$AB$4=$BJ$4)*$D17:$AB17))} | BK17: =IFERROR(IF($BK$3=0,"",BJ17/$BK$3),"") | BL17: {=IF(B17="","",SUMPRODUCT(($D$1:$AB$4=$BL$4)*$D17:$AB17))} | BM17: =IFERROR(IF($BM$3=0,"",BL17/$BM$3),"") | BN17: {=IF(B17="","",SUMPRODUCT(($D$1:$AB$4=$BN$4)*$D17:$AB17))} | BO17: =IFERROR(IF($BO$3=0,"",BN17/$BO$3),"") | BP17: {=IF(B17="","",SUMPRODUCT(($D$1:$AB$4=$BP$4)*$D17:$AB17))} | BQ17: =IFERROR(IF($BQ$3=0,"",BP17/$BQ$3),"") | BR17: {=IF(B17="","",SUMPRODUCT(($D$1:$AB$4=$BR$4)*$D17:$AB17))} | BS17: =IFERROR(IF($BS$3=0,"",BR17/$BS$3),"") | BT17: {=IF(B17="","",SUMPRODUCT(($D$1:$AB$4=$BT$4)*$D17:$AB17))} | BU17: =IFERROR(IF($BU$3=0,"",BT17/$BU$3),"") | BV17: {=IF(B17="","",SUMPRODUCT(($D$1:$AB$4=$BV$4)*$D17:$AB17))} | BW17: =IFERROR(IF($BW$3=0,"",BV17/$BW$3),"") | BX17: {=IF(B17="","",SUMPRODUCT(($D$1:$AB$4=$BX$4)*$D17:$AB17))} | BY17: =IFERROR(IF($BY$3=0,"",BX17/$BY$3),"") | BZ17: {=IF(B17="","",SUMPRODUCT(($D$1:$AB$4=$BZ$4)*$D17:$AB17))} | CA17: =IFERROR(IF($CA$3=0,"",BZ17/$CA$3),"") | CB17: {=IF(B17="","",SUMPRODUCT(($D$1:$AB$4=$CB$4)*$D17:$AB17))} | CC17: =IFERROR(IF($CC$3=0,"",CB17/$CC$3),"") | CD17: {=IF(B17="","",SUMPRODUCT(($D$1:$AB$4=$CD$4)*$D17:$AB17))} | CE17: =IFERROR(IF($CE$3=0,"",CD17/$CE$3),"") | CF17: {=IF(B17="","",SUMPRODUCT(($D$1:$AB$4=$CF$4)*$D17:$AB17))} | CG17: =IFERROR(IF($CG$3=0,"",CF17/$CG$3),"") | CH17: {=IF(B17="","",SUMPRODUCT(($D$1:$AB$4=$CH$4)*$D17:$AB17))} | CI17: =IFERROR(IF($CI$3=0,"",CH17/$CI$3),"")
A18: 12 | AC18: =IF(B18="","",SUM(D18:AB18)) | AD18: =IF(AC18="","",SUM(D18:AB18)/$AE$3) | AL18: {=IF(B18="","",SUMPRODUCT(($D$1:$AB$4=$AL$4)*D18:AB18))} | AM18: =IFERROR(IF($AM$3=0,"",AL18/$AM$3),"") | AN18: {=IF(B18="","",SUMPRODUCT(($D$1:$AB$4=$AN$4)*D18:AB18))} | AO18: =IFERROR(IF($AO$3=0,"",AN18/$AO$3),"") | AP18: {=IF(B18="","",SUMPRODUCT(($D$1:$AB$4=$AP$4)*D18:AB18))} | AQ18: =IFERROR(IF($AQ$3=0,"",AP18/$AQ$3),"") | AR18: {=IF(B18="","",SUMPRODUCT(($D$1:$AB$4=$AR$4)*D18:AB18))} | AS18: =IFERROR(IF($AS$3=0,"",AR18/$AS$3),"") | AT18: {=IF(B18="","",SUMPRODUCT(($D$1:$AB$4=$AT$4)*$D18:$AB18))} | AU18: =IFERROR(IF($AU$3=0,"",AT18/$AU$3),"") | AV18: {=IF(D18="","",SUMPRODUCT(($D$1:$AB$4=$AV$4)*$D18:$AB18))} | AW18: =IFERROR(IF($AW$3=0,"",AV18/$AW$3),"") | AX18: {=IF(F18="","",SUMPRODUCT(($D$1:$AB$4=$AX$4)*$D18:$AB18))} | AY18: =IFERROR(IF($AY$3=0,"",AX18/$AY$3),"") | AZ18: {=IF(B18="","",SUMPRODUCT(($D$1:$AB$4=$AZ$4)*$D18:$AB18))} | BA18: =IFERROR(IF($BA$3=0,"",AZ18/$BA$3),"") | BB18: {=IF(B18="","",SUMPRODUCT(($D$1:$AB$4=$BB$4)*$D18:$AB18))} | BC18: =IFERROR(IF($BC$3=0,"",BB18/$BC$3),"") | BD18: {=IF(B18="","",SUMPRODUCT(($D$1:$AB$4=$BD$4)*$D18:$AB18))} | BE18: =IFERROR(IF($BE$3=0,"",BD18/$BE$3),"") | BF18: {=IF(B18="","",SUMPRODUCT(($D$1:$AB$4=$BF$4)*$D18:$AB18))} | BG18: =IFERROR(IF($BG$3=0,"",BF18/$BG$3),"") | BH18: {=IF(B18="","",SUMPRODUCT(($D$1:$AB$4=$BH$4)*$D18:$AB18))} | BI18: =IFERROR(IF($BI$3=0,"",BH18/$BI$3),"") | BJ18: {=IF(B18="","",SUMPRODUCT(($D$1:$AB$4=$BJ$4)*$D18:$AB18))} | BK18: =IFERROR(IF($BK$3=0,"",BJ18/$BK$3),"") | BL18: {=IF(B18="","",SUMPRODUCT(($D$1:$AB$4=$BL$4)*$D18:$AB18))} | BM18: =IFERROR(IF($BM$3=0,"",BL18/$BM$3),"") | BN18: {=IF(B18="","",SUMPRODUCT(($D$1:$AB$4=$BN$4)*$D18:$AB18))} | BO18: =IFERROR(IF($BO$3=0,"",BN18/$BO$3),"") | BP18: {=IF(B18="","",SUMPRODUCT(($D$1:$AB$4=$BP$4)*$D18:$AB18))} | BQ18: =IFERROR(IF($BQ$3=0,"",BP18/$BQ$3),"") | BR18: {=IF(B18="","",SUMPRODUCT(($D$1:$AB$4=$BR$4)*$D18:$AB18))} | BS18: =IFERROR(IF($BS$3=0,"",BR18/$BS$3),"") | BT18: {=IF(B18="","",SUMPRODUCT(($D$1:$AB$4=$BT$4)*$D18:$AB18))} | BU18: =IFERROR(IF($BU$3=0,"",BT18/$BU$3),"") | BV18: {=IF(B18="","",SUMPRODUCT(($D$1:$AB$4=$BV$4)*$D18:$AB18))} | BW18: =IFERROR(IF($BW$3=0,"",BV18/$BW$3),"") | BX18: {=IF(B18="","",SUMPRODUCT(($D$1:$AB$4=$BX$4)*$D18:$AB18))} | BY18: =IFERROR(IF($BY$3=0,"",BX18/$BY$3),"") | BZ18: {=IF(B18="","",SUMPRODUCT(($D$1:$AB$4=$BZ$4)*$D18:$AB18))} | CA18: =IFERROR(IF($CA$3=0,"",BZ18/$CA$3),"") | CB18: {=IF(B18="","",SUMPRODUCT(($D$1:$AB$4=$CB$4)*$D18:$AB18))} | CC18: =IFERROR(IF($CC$3=0,"",CB18/$CC$3),"") | CD18: {=IF(B18="","",SUMPRODUCT(($D$1:$AB$4=$CD$4)*$D18:$AB18))} | CE18: =IFERROR(IF($CE$3=0,"",CD18/$CE$3),"") | CF18: {=IF(B18="","",SUMPRODUCT(($D$1:$AB$4=$CF$4)*$D18:$AB18))} | CG18: =IFERROR(IF($CG$3=0,"",CF18/$CG$3),"") | CH18: {=IF(B18="","",SUMPRODUCT(($D$1:$AB$4=$CH$4)*$D18:$AB18))} | CI18: =IFERROR(IF($CI$3=0,"",CH18/$CI$3),"")
A19: 13 | AC19: =IF(B19="","",SUM(D19:AB19)) | AD19: =IF(AC19="","",SUM(D19:AB19)/$AE$3) | AL19: {=IF(B19="","",SUMPRODUCT(($D$1:$AB$4=$AL$4)*D19:AB19))} | AM19: =IFERROR(IF($AM$3=0,"",AL19/$AM$3),"") | AN19: {=IF(B19="","",SUMPRODUCT(($D$1:$AB$4=$AN$4)*D19:AB19))} | AO19: =IFERROR(IF($AO$3=0,"",AN19/$AO$3),"") | AP19: {=IF(B19="","",SUMPRODUCT(($D$1:$AB$4=$AP$4)*D19:AB19))} | AQ19: =IFERROR(IF($AQ$3=0,"",AP19/$AQ$3),"") | AR19: {=IF(B19="","",SUMPRODUCT(($D$1:$AB$4=$AR$4)*D19:AB19))} | AS19: =IFERROR(IF($AS$3=0,"",AR19/$AS$3),"") | AT19: {=IF(B19="","",SUMPRODUCT(($D$1:$AB$4=$AT$4)*$D19:$AB19))} | AU19: =IFERROR(IF($AU$3=0,"",AT19/$AU$3),"") | AV19: {=IF(D19="","",SUMPRODUCT(($D$1:$AB$4=$AV$4)*$D19:$AB19))} | AW19: =IFERROR(IF($AW$3=0,"",AV19/$AW$3),"") | AX19: {=IF(F19="","",SUMPRODUCT(($D$1:$AB$4=$AX$4)*$D19:$AB19))} | AY19: =IFERROR(IF($AY$3=0,"",AX19/$AY$3),"") | AZ19: {=IF(B19="","",SUMPRODUCT(($D$1:$AB$4=$AZ$4)*$D19:$AB19))} | BA19: =IFERROR(IF($BA$3=0,"",AZ19/$BA$3),"") | BB19: {=IF(B19="","",SUMPRODUCT(($D$1:$AB$4=$BB$4)*$D19:$AB19))} | BC19: =IFERROR(IF($BC$3=0,"",BB19/$BC$3),"") | BD19: {=IF(B19="","",SUMPRODUCT(($D$1:$AB$4=$BD$4)*$D19:$AB19))} | BE19: =IFERROR(IF($BE$3=0,"",BD19/$BE$3),"") | BF19: {=IF(B19="","",SUMPRODUCT(($D$1:$AB$4=$BF$4)*$D19:$AB19))} | BG19: =IFERROR(IF($BG$3=0,"",BF19/$BG$3),"") | BH19: {=IF(B19="","",SUMPRODUCT(($D$1:$AB$4=$BH$4)*$D19:$AB19))} | BI19: =IFERROR(IF($BI$3=0,"",BH19/$BI$3),"") | BJ19: {=IF(B19="","",SUMPRODUCT(($D$1:$AB$4=$BJ$4)*$D19:$AB19))} | BK19: =IFERROR(IF($BK$3=0,"",BJ19/$BK$3),"") | BL19: {=IF(B19="","",SUMPRODUCT(($D$1:$AB$4=$BL$4)*$D19:$AB19))} | BM19: =IFERROR(IF($BM$3=0,"",BL19/$BM$3),"") | BN19: {=IF(B19="","",SUMPRODUCT(($D$1:$AB$4=$BN$4)*$D19:$AB19))} | BO19: =IFERROR(IF($BO$3=0,"",BN19/$BO$3),"") | BP19: {=IF(B19="","",SUMPRODUCT(($D$1:$AB$4=$BP$4)*$D19:$AB19))} | BQ19: =IFERROR(IF($BQ$3=0,"",BP19/$BQ$3),"") | BR19: {=IF(B19="","",SUMPRODUCT(($D$1:$AB$4=$BR$4)*$D19:$AB19))} | BS19: =IFERROR(IF($BS$3=0,"",BR19/$BS$3),"") | BT19: {=IF(B19="","",SUMPRODUCT(($D$1:$AB$4=$BT$4)*$D19:$AB19))} | BU19: =IFERROR(IF($BU$3=0,"",BT19/$BU$3),"") | BV19: {=IF(B19="","",SUMPRODUCT(($D$1:$AB$4=$BV$4)*$D19:$AB19))} | BW19: =IFERROR(IF($BW$3=0,"",BV19/$BW$3),"") | BX19: {=IF(B19="","",SUMPRODUCT(($D$1:$AB$4=$BX$4)*$D19:$AB19))} | BY19: =IFERROR(IF($BY$3=0,"",BX19/$BY$3),"") | BZ19: {=IF(B19="","",SUMPRODUCT(($D$1:$AB$4=$BZ$4)*$D19:$AB19))} | CA19: =IFERROR(IF($CA$3=0,"",BZ19/$CA$3),"") | CB19: {=IF(B19="","",SUMPRODUCT(($D$1:$AB$4=$CB$4)*$D19:$AB19))} | CC19: =IFERROR(IF($CC$3=0,"",CB19/$CC$3),"") | CD19: {=IF(B19="","",SUMPRODUCT(($D$1:$AB$4=$CD$4)*$D19:$AB19))} | CE19: =IFERROR(IF($CE$3=0,"",CD19/$CE$3),"") | CF19: {=IF(B19="","",SUMPRODUCT(($D$1:$AB$4=$CF$4)*$D19:$AB19))} | CG19: =IFERROR(IF($CG$3=0,"",CF19/$CG$3),"") | CH19: {=IF(B19="","",SUMPRODUCT(($D$1:$AB$4=$CH$4)*$D19:$AB19))} | CI19: =IFERROR(IF($CI$3=0,"",CH19/$CI$3),"")
A20: 14 | AC20: =IF(B20="","",SUM(D20:AB20)) | AD20: =IF(AC20="","",SUM(D20:AB20)/$AE$3) | AL20: {=IF(B20="","",SUMPRODUCT(($D$1:$AB$4=$AL$4)*D20:AB20))} | AM20: =IFERROR(IF($AM$3=0,"",AL20/$AM$3),"") | AN20: {=IF(B20="","",SUMPRODUCT(($D$1:$AB$4=$AN$4)*D20:AB20))} | AO20: =IFERROR(IF($AO$3=0,"",AN20/$AO$3),"") | AP20: {=IF(B20="","",SUMPRODUCT(($D$1:$AB$4=$AP$4)*D20:AB20))} | AQ20: =IFERROR(IF($AQ$3=0,"",AP20/$AQ$3),"") | AR20: {=IF(B20="","",SUMPRODUCT(($D$1:$AB$4=$AR$4)*D20:AB20))} | AS20: =IFERROR(IF($AS$3=0,"",AR20/$AS$3),"") | AT20: {=IF(B20="","",SUMPRODUCT(($D$1:$AB$4=$AT$4)*$D20:$AB20))} | AU20: =IFERROR(IF($AU$3=0,"",AT20/$AU$3),"") | AV20: {=IF(D20="","",SUMPRODUCT(($D$1:$AB$4=$AV$4)*$D20:$AB20))} | AW20: =IFERROR(IF($AW$3=0,"",AV20/$AW$3),"") | AX20: {=IF(F20="","",SUMPRODUCT(($D$1:$AB$4=$AX$4)*$D20:$AB20))} | AY20: =IFERROR(IF($AY$3=0,"",AX20/$AY$3),"") | AZ20: {=IF(B20="","",SUMPRODUCT(($D$1:$AB$4=$AZ$4)*$D20:$AB20))} | BA20: =IFERROR(IF($BA$3=0,"",AZ20/$BA$3),"") | BB20: {=IF(B20="","",SUMPRODUCT(($D$1:$AB$4=$BB$4)*$D20:$AB20))} | BC20: =IFERROR(IF($BC$3=0,"",BB20/$BC$3),"") | BD20: {=IF(B20="","",SUMPRODUCT(($D$1:$AB$4=$BD$4)*$D20:$AB20))} | BE20: =IFERROR(IF($BE$3=0,"",BD20/$BE$3),"") | BF20: {=IF(B20="","",SUMPRODUCT(($D$1:$AB$4=$BF$4)*$D20:$AB20))} | BG20: =IFERROR(IF($BG$3=0,"",BF20/$BG$3),"") | BH20: {=IF(B20="","",SUMPRODUCT(($D$1:$AB$4=$BH$4)*$D20:$AB20))} | BI20: =IFERROR(IF($BI$3=0,"",BH20/$BI$3),"") | BJ20: {=IF(B20="","",SUMPRODUCT(($D$1:$AB$4=$BJ$4)*$D20:$AB20))} | BK20: =IFERROR(IF($BK$3=0,"",BJ20/$BK$3),"") | BL20: {=IF(B20="","",SUMPRODUCT(($D$1:$AB$4=$BL$4)*$D20:$AB20))} | BM20: =IFERROR(IF($BM$3=0,"",BL20/$BM$3),"") | BN20: {=IF(B20="","",SUMPRODUCT(($D$1:$AB$4=$BN$4)*$D20:$AB20))} | BO20: =IFERROR(IF($BO$3=0,"",BN20/$BO$3),"") | BP20: {=IF(B20="","",SUMPRODUCT(($D$1:$AB$4=$BP$4)*$D20:$AB20))} | BQ20: =IFERROR(IF($BQ$3=0,"",BP20/$BQ$3),"") | BR20: {=IF(B20="","",SUMPRODUCT(($D$1:$AB$4=$BR$4)*$D20:$AB20))} | BS20: =IFERROR(IF($BS$3=0,"",BR20/$BS$3),"") | BT20: {=IF(B20="","",SUMPRODUCT(($D$1:$AB$4=$BT$4)*$D20:$AB20))} | BU20: =IFERROR(IF($BU$3=0,"",BT20/$BU$3),"") | BV20: {=IF(B20="","",SUMPRODUCT(($D$1:$AB$4=$BV$4)*$D20:$AB20))} | BW20: =IFERROR(IF($BW$3=0,"",BV20/$BW$3),"") | BX20: {=IF(B20="","",SUMPRODUCT(($D$1:$AB$4=$BX$4)*$D20:$AB20))} | BY20: =IFERROR(IF($BY$3=0,"",BX20/$BY$3),"") | BZ20: {=IF(B20="","",SUMPRODUCT(($D$1:$AB$4=$BZ$4)*$D20:$AB20))} | CA20: =IFERROR(IF($CA$3=0,"",BZ20/$CA$3),"") | CB20: {=IF(B20="","",SUMPRODUCT(($D$1:$AB$4=$CB$4)*$D20:$AB20))} | CC20: =IFERROR(IF($CC$3=0,"",CB20/$CC$3),"") | CD20: {=IF(B20="","",SUMPRODUCT(($D$1:$AB$4=$CD$4)*$D20:$AB20))} | CE20: =IFERROR(IF($CE$3=0,"",CD20/$CE$3),"") | CF20: {=IF(B20="","",SUMPRODUCT(($D$1:$AB$4=$CF$4)*$D20:$AB20))} | CG20: =IFERROR(IF($CG$3=0,"",CF20/$CG$3),"") | CH20: {=IF(B20="","",SUMPRODUCT(($D$1:$AB$4=$CH$4)*$D20:$AB20))} | CI20: =IFERROR(IF($CI$3=0,"",CH20/$CI$3),"")
A21: 15 | AC21: =IF(B21="","",SUM(D21:AB21)) | AD21: =IF(AC21="","",SUM(D21:AB21)/$AE$3) | AL21: {=IF(B21="","",SUMPRODUCT(($D$1:$AB$4=$AL$4)*D21:AB21))} | AM21: =IFERROR(IF($AM$3=0,"",AL21/$AM$3),"") | AN21: {=IF(B21="","",SUMPRODUCT(($D$1:$AB$4=$AN$4)*D21:AB21))} | AO21: =IFERROR(IF($AO$3=0,"",AN21/$AO$3),"") | AP21: {=IF(B21="","",SUMPRODUCT(($D$1:$AB$4=$AP$4)*D21:AB21))} | AQ21: =IFERROR(IF($AQ$3=0,"",AP21/$AQ$3),"") | AR21: {=IF(B21="","",SUMPRODUCT(($D$1:$AB$4=$AR$4)*D21:AB21))} | AS21: =IFERROR(IF($AS$3=0,"",AR21/$AS$3),"") | AT21: {=IF(B21="","",SUMPRODUCT(($D$1:$AB$4=$AT$4)*$D21:$AB21))} | AU21: =IFERROR(IF($AU$3=0,"",AT21/$AU$3),"") | AV21: {=IF(D21="","",SUMPRODUCT(($D$1:$AB$4=$AV$4)*$D21:$AB21))} | AW21: =IFERROR(IF($AW$3=0,"",AV21/$AW$3),"") | AX21: {=IF(F21="","",SUMPRODUCT(($D$1:$AB$4=$AX$4)*$D21:$AB21))} | AY21: =IFERROR(IF($AY$3=0,"",AX21/$AY$3),"") | AZ21: {=IF(B21="","",SUMPRODUCT(($D$1:$AB$4=$AZ$4)*$D21:$AB21))} | BA21: =IFERROR(IF($BA$3=0,"",AZ21/$BA$3),"") | BB21: {=IF(B21="","",SUMPRODUCT(($D$1:$AB$4=$BB$4)*$D21:$AB21))} | BC21: =IFERROR(IF($BC$3=0,"",BB21/$BC$3),"") | BD21: {=IF(B21="","",SUMPRODUCT(($D$1:$AB$4=$BD$4)*$D21:$AB21))} | BE21: =IFERROR(IF($BE$3=0,"",BD21/$BE$3),"") | BF21: {=IF(B21="","",SUMPRODUCT(($D$1:$AB$4=$BF$4)*$D21:$AB21))} | BG21: =IFERROR(IF($BG$3=0,"",BF21/$BG$3),"") | BH21: {=IF(B21="","",SUMPRODUCT(($D$1:$AB$4=$BH$4)*$D21:$AB21))} | BI21: =IFERROR(IF($BI$3=0,"",BH21/$BI$3),"") | BJ21: {=IF(B21="","",SUMPRODUCT(($D$1:$AB$4=$BJ$4)*$D21:$AB21))} | BK21: =IFERROR(IF($BK$3=0,"",BJ21/$BK$3),"") | BL21: {=IF(B21="","",SUMPRODUCT(($D$1:$AB$4=$BL$4)*$D21:$AB21))} | BM21: =IFERROR(IF($BM$3=0,"",BL21/$BM$3),"") | BN21: {=IF(B21="","",SUMPRODUCT(($D$1:$AB$4=$BN$4)*$D21:$AB21))} | BO21: =IFERROR(IF($BO$3=0,"",BN21/$BO$3),"") | BP21: {=IF(B21="","",SUMPRODUCT(($D$1:$AB$4=$BP$4)*$D21:$AB21))} | BQ21: =IFERROR(IF($BQ$3=0,"",BP21/$BQ$3),"") | BR21: {=IF(B21="","",SUMPRODUCT(($D$1:$AB$4=$BR$4)*$D21:$AB21))} | BS21: =IFERROR(IF($BS$3=0,"",BR21/$BS$3),"") | BT21: {=IF(B21="","",SUMPRODUCT(($D$1:$AB$4=$BT$4)*$D21:$AB21))} | BU21: =IFERROR(IF($BU$3=0,"",BT21/$BU$3),"") | BV21: {=IF(B21="","",SUMPRODUCT(($D$1:$AB$4=$BV$4)*$D21:$AB21))} | BW21: =IFERROR(IF($BW$3=0,"",BV21/$BW$3),"") | BX21: {=IF(B21="","",SUMPRODUCT(($D$1:$AB$4=$BX$4)*$D21:$AB21))} | BY21: =IFERROR(IF($BY$3=0,"",BX21/$BY$3),"") | BZ21: {=IF(B21="","",SUMPRODUCT(($D$1:$AB$4=$BZ$4)*$D21:$AB21))} | CA21: =IFERROR(IF($CA$3=0,"",BZ21/$CA$3),"") | CB21: {=IF(B21="","",SUMPRODUCT(($D$1:$AB$4=$CB$4)*$D21:$AB21))} | CC21: =IFERROR(IF($CC$3=0,"",CB21/$CC$3),"") | CD21: {=IF(B21="","",SUMPRODUCT(($D$1:$AB$4=$CD$4)*$D21:$AB21))} | CE21: =IFERROR(IF($CE$3=0,"",CD21/$CE$3),"") | CF21: {=IF(B21="","",SUMPRODUCT(($D$1:$AB$4=$CF$4)*$D21:$AB21))} | CG21: =IFERROR(IF($CG$3=0,"",CF21/$CG$3),"") | CH21: {=IF(B21="","",SUMPRODUCT(($D$1:$AB$4=$CH$4)*$D21:$AB21))} | CI21: =IFERROR(IF($CI$3=0,"",CH21/$CI$3),"")
A22: 16 | AC22: =IF(B22="","",SUM(D22:AB22)) | AD22: =IF(AC22="","",SUM(D22:AB22)/$AE$3) | AL22: {=IF(B22="","",SUMPRODUCT(($D$1:$AB$4=$AL$4)*D22:AB22))} | AM22: =IFERROR(IF($AM$3=0,"",AL22/$AM$3),"") | AN22: {=IF(B22="","",SUMPRODUCT(($D$1:$AB$4=$AN$4)*D22:AB22))} | AO22: =IFERROR(IF($AO$3=0,"",AN22/$AO$3),"") | AP22: {=IF(B22="","",SUMPRODUCT(($D$1:$AB$4=$AP$4)*D22:AB22))} | AQ22: =IFERROR(IF($AQ$3=0,"",AP22/$AQ$3),"") | AR22: {=IF(B22="","",SUMPRODUCT(($D$1:$AB$4=$AR$4)*D22:AB22))} | AS22: =IFERROR(IF($AS$3=0,"",AR22/$AS$3),"") | AT22: {=IF(B22="","",SUMPRODUCT(($D$1:$AB$4=$AT$4)*$D22:$AB22))} | AU22: =IFERROR(IF($AU$3=0,"",AT22/$AU$3),"") | AV22: {=IF(D22="","",SUMPRODUCT(($D$1:$AB$4=$AV$4)*$D22:$AB22))} | AW22: =IFERROR(IF($AW$3=0,"",AV22/$AW$3),"") | AX22: {=IF(F22="","",SUMPRODUCT(($D$1:$AB$4=$AX$4)*$D22:$AB22))} | AY22: =IFERROR(IF($AY$3=0,"",AX22/$AY$3),"") | AZ22: {=IF(B22="","",SUMPRODUCT(($D$1:$AB$4=$AZ$4)*$D22:$AB22))} | BA22: =IFERROR(IF($BA$3=0,"",AZ22/$BA$3),"") | BB22: {=IF(B22="","",SUMPRODUCT(($D$1:$AB$4=$BB$4)*$D22:$AB22))} | BC22: =IFERROR(IF($BC$3=0,"",BB22/$BC$3),"") | BD22: {=IF(B22="","",SUMPRODUCT(($D$1:$AB$4=$BD$4)*$D22:$AB22))} | BE22: =IFERROR(IF($BE$3=0,"",BD22/$BE$3),"") | BF22: {=IF(B22="","",SUMPRODUCT(($D$1:$AB$4=$BF$4)*$D22:$AB22))} | BG22: =IFERROR(IF($BG$3=0,"",BF22/$BG$3),"") | BH22: {=IF(B22="","",SUMPRODUCT(($D$1:$AB$4=$BH$4)*$D22:$AB22))} | BI22: =IFERROR(IF($BI$3=0,"",BH22/$BI$3),"") | BJ22: {=IF(B22="","",SUMPRODUCT(($D$1:$AB$4=$BJ$4)*$D22:$AB22))} | BK22: =IFERROR(IF($BK$3=0,"",BJ22/$BK$3),"") | BL22: {=IF(B22="","",SUMPRODUCT(($D$1:$AB$4=$BL$4)*$D22:$AB22))} | BM22: =IFERROR(IF($BM$3=0,"",BL22/$BM$3),"") | BN22: {=IF(B22="","",SUMPRODUCT(($D$1:$AB$4=$BN$4)*$D22:$AB22))} | BO22: =IFERROR(IF($BO$3=0,"",BN22/$BO$3),"") | BP22: {=IF(B22="","",SUMPRODUCT(($D$1:$AB$4=$BP$4)*$D22:$AB22))} | BQ22: =IFERROR(IF($BQ$3=0,"",BP22/$BQ$3),"") | BR22: {=IF(B22="","",SUMPRODUCT(($D$1:$AB$4=$BR$4)*$D22:$AB22))} | BS22: =IFERROR(IF($BS$3=0,"",BR22/$BS$3),"") | BT22: {=IF(B22="","",SUMPRODUCT(($D$1:$AB$4=$BT$4)*$D22:$AB22))} | BU22: =IFERROR(IF($BU$3=0,"",BT22/$BU$3),"") | BV22: {=IF(B22="","",SUMPRODUCT(($D$1:$AB$4=$BV$4)*$D22:$AB22))} | BW22: =IFERROR(IF($BW$3=0,"",BV22/$BW$3),"") | BX22: {=IF(B22="","",SUMPRODUCT(($D$1:$AB$4=$BX$4)*$D22:$AB22))} | BY22: =IFERROR(IF($BY$3=0,"",BX22/$BY$3),"") | BZ22: {=IF(B22="","",SUMPRODUCT(($D$1:$AB$4=$BZ$4)*$D22:$AB22))} | CA22: =IFERROR(IF($CA$3=0,"",BZ22/$CA$3),"") | CB22: {=IF(B22="","",SUMPRODUCT(($D$1:$AB$4=$CB$4)*$D22:$AB22))} | CC22: =IFERROR(IF($CC$3=0,"",CB22/$CC$3),"") | CD22: {=IF(B22="","",SUMPRODUCT(($D$1:$AB$4=$CD$4)*$D22:$AB22))} | CE22: =IFERROR(IF($CE$3=0,"",CD22/$CE$3),"") | CF22: {=IF(B22="","",SUMPRODUCT(($D$1:$AB$4=$CF$4)*$D22:$AB22))} | CG22: =IFERROR(IF($CG$3=0,"",CF22/$CG$3),"") | CH22: {=IF(B22="","",SUMPRODUCT(($D$1:$AB$4=$CH$4)*$D22:$AB22))} | CI22: =IFERROR(IF($CI$3=0,"",CH22/$CI$3),"")
... A206: 200 | AC206: =IF(B206="","",SUM(D206:AB206)) | AD206: =IF(AC206="","",SUM(D206:AB206)/$AE$3) | AL206: {=IF(B206="","",SUMPRODUCT(($D$1:$AB$4=$AL$4)*D206:AB206))} | AM206: =IFERROR(IF($AM$3=0,"",AL206/$AM$3),"") | AN206: {=IF(B206="","",SUMPRODUCT(($D$1:$AB$4=$AN$4)*D206:AB206))} | AO206: =IFERROR(IF($AO$3=0,"",AN206/$AO$3),"") | AP206: {=IF(B206="","",SUMPRODUCT(($D$1:$AB$4=$AP$4)*D206:AB206))} | AQ206: =IFERROR(IF($AQ$3=0,"",AP206/$AQ$3),"") | AR206: {=IF(B206="","",SUMPRODUCT(($D$1:$AB$4=$AR$4)*D206:AB206))} | AS206: =IFERROR(IF($AS$3=0,"",AR206/$AS$3),"") | AT206: {=IF(B206="","",SUMPRODUCT(($D$1:$AB$4=$AT$4)*$D206:$AB206))} | AU206: =IFERROR(IF($AU$3=0,"",AT206/$AU$3),"") | AV206: {=IF(D206="","",SUMPRODUCT(($D$1:$AB$4=$AV$4)*$D206:$AB206))} | AW206: =IFERROR(IF($AW$3=0,"",AV206/$AW$3),"") | AX206: {=IF(F206="","",SUMPRODUCT(($D$1:$AB$4=$AX$4)*$D206:$AB206))} | AY206: =IFERROR(IF($AY$3=0,"",AX206/$AY$3),"") | AZ206: {=IF(B206="","",SUMPRODUCT(($D$1:$AB$4=$AZ$4)*$D206:$AB206))} | BA206: =IFERROR(IF($BA$3=0,"",AZ206/$BA$3),"") | BB206: {=IF(B206="","",SUMPRODUCT(($D$1:$AB$4=$BB$4)*$D206:$AB206))} | BC206: =IFERROR(IF($BC$3=0,"",BB206/$BC$3),"") | BD206: {=IF(B206="","",SUMPRODUCT(($D$1:$AB$4=$BD$4)*$D206:$AB206))} | BE206: =IFERROR(IF($BE$3=0,"",BD206/$BE$3),"") | BF206: {=IF(B206="","",SUMPRODUCT(($D$1:$AB$4=$BF$4)*$D206:$AB206))} | BG206: =IFERROR(IF($BG$3=0,"",BF206/$BG$3),"") | BH206: {=IF(B206="","",SUMPRODUCT(($D$1:$AB$4=$BH$4)*$D206:$AB206))} | BI206: =IFERROR(IF($BI$3=0,"",BH206/$BI$3),"") | BJ206: {=IF(B206="","",SUMPRODUCT(($D$1:$AB$4=$BJ$4)*$D206:$AB206))} | BK206: =IFERROR(IF($BK$3=0,"",BJ206/$BK$3),"") | BL206: {=IF(B206="","",SUMPRODUCT(($D$1:$AB$4=$BL$4)*$D206:$AB206))} | BM206: =IFERROR(IF($BM$3=0,"",BL206/$BM$3),"") | BN206: {=IF(B206="","",SUMPRODUCT(($D$1:$AB$4=$BN$4)*$D206:$AB206))} | BO206: =IFERROR(IF($BO$3=0,"",BN206/$BO$3),"") | BP206: {=IF(B206="","",SUMPRODUCT(($D$1:$AB$4=$BP$4)*$D206:$AB206))} | BQ206: =IFERROR(IF($BQ$3=0,"",BP206/$BQ$3),"") | BR206: {=IF(B206="","",SUMPRODUCT(($D$1:$AB$4=$BR$4)*$D206:$AB206))} | BS206: =IFERROR(IF($BS$3=0,"",BR206/$BS$3),"") | BT206: {=IF(B206="","",SUMPRODUCT(($D$1:$AB$4=$BT$4)*$D206:$AB206))} | BU206: =IFERROR(IF($BU$3=0,"",BT206/$BU$3),"") | BV206: {=IF(B206="","",SUMPRODUCT(($D$1:$AB$4=$BV$4)*$D206:$AB206))} | BW206: =IFERROR(IF($BW$3=0,"",BV206/$BW$3),"") | BX206: {=IF(B206="","",SUMPRODUCT(($D$1:$AB$4=$BX$4)*$D206:$AB206))} | BY206: =IFERROR(IF($BY$3=0,"",BX206/$BY$3),"") | BZ206: {=IF(B206="","",SUMPRODUCT(($D$1:$AB$4=$BZ$4)*$D206:$AB206))} | CA206: =IFERROR(IF($CA$3=0,"",BZ206/$CA$3),"") | CB206: {=IF(B206="","",SUMPRODUCT(($D$1:$AB$4=$CB$4)*$D206:$AB206))} | CC206: =IFERROR(IF($CC$3=0,"",CB206/$CC$3),"") | CD206: {=IF(B206="","",SUMPRODUCT(($D$1:$AB$4=$CD$4)*$D206:$AB206))} | CE206: =IFERROR(IF($CE$3=0,"",CD206/$CE$3),"") | CF206: {=IF(B206="","",SUMPRODUCT(($D$1:$AB$4=$CF$4)*$D206:$AB206))} | CG206: =IFERROR(IF($CG$3=0,"",CF206/$CG$3),"") | CH206: {=IF(B206="","",SUMPRODUCT(($D$1:$AB$4=$CH$4)*$D206:$AB206))} | CI206: =IFERROR(IF($CI$3=0,"",CH206/$CI$3),"")
F209: عدد الطلاب | G209: =COUNTIF(B7:B206,"*") -> 4
L212: عدد الإجابات الصحيحة
D215: =IFERROR(LEFT(D1,FIND(":",D1,1)-1),"") -> المرتفع | E215: =IFERROR(LEFT(E1,FIND(":",E1,1)-1),"") -> المرتفع | F215: =IFERROR(LEFT(F1,FIND(":",F1,1)-1),"") -> المتوسط | G215: =IFERROR(LEFT(G1,FIND(":",G1,1)-1),"") -> المتوسط | H215: =IFERROR(LEFT(H1,FIND(":",H1,1)-1),"") | I215: =IFERROR(LEFT(I1,FIND(":",I1,1)-1),"") | J215: =IFERROR(LEFT(J1,FIND(":",J1,1)-1),"") | K215: =IFERROR(LEFT(K1,FIND(":",K1,1)-1),"") | ... AB215: =IFERROR(LEFT(AB1,FIND(":",AB1,1)-1),"")
D216: =IF(D1="","","س1") -> س1 | E216: =IF(E1="","","س2") -> س2 | F216: =IF(F1="","","س3") -> س3 | G216: =IF(G1="","","س4") -> س4 | H216: =IF(H1="","","س5") | I216: =IF(I1="","","س6") | J216: =IF(J1="","","س7") | K216: =IF(K1="","","س8") | L216: =IF(L1="","","س9") | M216: =IF(M1="","","س10") | N216: =IF(N1="","","س11") | O216: =IF(O1="","","س12") | P216: =IF(P1="","","س13") | Q216: =IF(Q1="","","س14") | R216: =IF(R1="","","س15") | S216: =IF(S1="","","س16") | T216: =IF(T1="","","س17") | U216: =IF(U1="","","س18") | V216: =IF(V1="","","س19") | W216: =IF(W1="","","س20") | X216: =IF(X1="","","س21") | Y216: =IF(Y1="","","س22") | Z216: =IF(Z1="","","س23") | AA216: =IF(AA1="","","س24") | AB216: =IF(AB1="","","س25") | AD216: مج درجات | AE216: خ منخ
D217: =IF(D1="","",COUNTIF(D7:D126,">0")) -> 4 | E217: =IF(E1="","",COUNTIF(E7:E126,">0")) -> 2 | F217: =IF(F1="","",COUNTIF(F7:F126,">0")) -> 3 | G217: =IF(G1="","",COUNTIF(G7:G126,">0")) -> 4 | H217: =IF(H1="","",COUNTIF(H7:H126,">0")) | I217: =IF(I1="","",COUNTIF(I7:I126,">0")) | J217: =IF(J1="","",COUNTIF(J7:J126,">0")) | K217: =IF(K1="","",COUNTIF(K7:K126,">0")) | ... AB217: =IF(AB1="","",COUNTIF(AB7:AB126,">0")) | AD217: =SUM(D217:AB217) -> 13 | AE217: =AD217-SUM(AF222,AF223,AF225) -> 0
L218: عدد الإجابات الخاطئة
D219: =D216 -> س1 | E219: =E216 -> س2 | F219: =F216 -> س3 | G219: =G216 -> س4 | H219: =H216 | I219: =I216 | J219: =J216 | K219: =K216 | ... AB219: =AB216
D220: =COUNTIF(D7:D126,"=0") -> 0 | E220: =COUNTIF(E7:E126,"=0") -> 2 | F220: =COUNTIF(F7:F126,"=0") -> 1 | G220: =COUNTIF(G7:G126,"=0") -> 0 | H220: =COUNTIF(H7:H126,"=0") -> 0 | I220: =COUNTIF(I7:I126,"=0") -> 0 | J220: =COUNTIF(J7:J126,"=0") -> 0 | K220: =COUNTIF(K7:K126,"=0") -> 0 | ... AB220: =COUNTIF(AB7:AB126,"=0") -> 0
AE221: ع الأسئلة | AF221: الصح | AG221: ع*ط
AC222: ر | AD222: المرتفع | AE222: ='مج 0'!K6 -> 2 | AF222: =SUMIF($D$215:$AB$215,"*"&AC222&"*",$D$217:$AB$217) -> 6 | AG222: =AE222*$G$209 -> 8 | AH222: =IFERROR(AF222/AG222,"لايوجد") -> 0.75
AC223: س | AD223: المتوسط | AE223: ='مج 0'!L6 -> 2 | AF223: =SUMIF($D$215:$AB$215,"*"&AC223&"*",$D$217:$AB$217) -> 7 | AG223: =AE223*$G$209 -> 8 | AH223: =IFERROR(AF223/AG223,"لايوجد") -> 0.875
AC224: خ | AD224: المنخفض | AE224: ='مج 0'!M6 -> 0 | AF224: =AE217 -> 0 | AG224: =AE224*$G$209 -> 0 | AH224: =IFERROR(AF224/AG224,"لايوجد") -> لايوجد
AC225: ج | AD225: المنخفض جداً | AE225: ='مج 0'!N6 -> 0 | AF225: =SUMIF($D$215:$AB$215,"*"&AC225&"*",$D$217:$AB$217) -> 0 | AG225: =AE225*$G$209 -> 0 | AH225: =IFERROR(AF225/AG225,"لايوجد") -> لايوجد
AD230: =HLOOKUP(MAX(D233:AB233),D233:AB234,2,0) -> س2
D233: =D220 -> 0 | E233: =E220 -> 2 | F233: =F220 -> 1 | G233: =G220 -> 0 | H233: =H220 -> 0 | I233: =I220 -> 0 | J233: =J220 -> 0 | K233: =K220 -> 0 | ... AB233: =AB220 -> 0
D234: س1 | E234: س2 | F234: س3 | G234: س4 | H234: س5 | I234: س6 | J234: س7 | K234: س8 | L234: س9 | M234: س10 | N234: س11 | O234: س12 | P234: س13 | Q234: س14 | R234: س15 | S234: س16 | T234: س17 | U234: س18 | V234: س19 | W234: س20 | X234: س21 | Y234: س22 | Z234: س23 | AA234: س24 | AB234: س25

Sheet تقرير 0
D2: التقرير الختامي للاختبار التشخيصي | N2: التقرير الختامي للاختبار التشخيصي
A3: المملكة العربية السعودية | K3: المملكة العربية السعودية
A4: وزارة التعليم | K4: وزارة التعليم
A5: إدارة التعليم بمحافظة | K5: إدارة التعليم بمحافظة
B10: رقم الاختبار: | C10: تشخيصي | E10: عدد الطلاب: | F10: ='ادخال درجات التشخيصي'!G209 -> 4 | G10: المادة والصف: | I10: ='الاختبار التشخيصي'!X13 -> رياضيات_سادس | K10: مهارات يجب متابعتها في المرحلة القادمة
K11: م | L11: المستوى المستهدف | T11: النسبة
B12: عدد الأسئلة: | C12: ='مج 0'!N8 -> 4 | D12: متوسط النتائج: | F12: ='ترتيب الطلاب '!L3 -> 0.8 | G12: السؤال الأضعف: | I12: ='ترتيب الطلاب '!L2 -> س2 | K12: 1 | L12: =IF(AE16=0,"",AE16) -> المرتفع : يدرك الفروق بين مقاييس النزعة المركزية | T12: =IF(L12="-","",AJ16) -> 0.4375
K13: 2 | L13: =IF(AE17=0,"",AE17) -> المتوسط : يوجد النسبة المئوية | T13: =IF(L13="-","",AJ17) -> 0.7
C14: عدد الطلاب الأعلى من المتوسط: | F14: ='ترتيب الطلاب '!L5 -> 2 | K14: 3 | L14: =IF(AE18=0,"",AE18) -> المرتفع : يحل مسائل رياضية على الأنماط العددية والدوال | T14: =IF(L14="-","",AJ18) -> 0.95
K15: 4 | L15: =IF(AE19=0,"",AE19) -> المتوسط : يطبق العمليات على الكسور والأعداد العشرية | T15: =IF(L15="-","",AJ19) -> 1
K16: 5 | L16: =IF(AE20=0,"",AE20) -> - | T16: =IF(L16="-","",AJ20) | AE16: {=_xlfn._xlws.SORT(D35:I49,6,1)} -> المرتفع : يدرك الفروق بين مقاييس النزعة المركزية | AF16: 0 | AG16: 0 | AH16: 0 | AI16: 0 | AJ16: 0.4375
B17: عدد الأسئلة حسب المستوى | K17: 6 | L17: =IF(AE21=0,"",AE21) -> - | T17: =IF(L17="-","",AJ21) | AE17: المتوسط : يوجد النسبة المئوية | AF17: 0 | AG17: 0 | AH17: 0 | AI17: 0 | AJ17: 0.7
B18: مرتفع | C18: متوسط | D18: منخفض | E18: منخفض جدا | K18: 7 | L18: =IF(AE22=0,"",AE22) -> - | T18: =IF(L18="-","",AJ22) | AE18: المرتفع : يحل مسائل رياضية على الأنماط العددية والدوال | AF18: 0 | AG18: 0 | AH18: 0 | AI18: 0 | AJ18: 0.95
B19: ='مج 0'!K6 -> 2 | C19: ='مج 0'!L6 -> 2 | D19: ='مج 0'!M6 -> 0 | E19: ='مج 0'!N6 -> 0 | K19: 8 | L19: =IF(AE23=0,"",AE23) -> - | T19: =IF(L19="-","",AJ23) | AE19: المتوسط : يطبق العمليات على الكسور والأعداد العشرية | AF19: 0 | AG19: 0 | AH19: 0 | AI19: 0 | AJ19: 1
K20: 9 | L20: =IF(AE24=0,"",AE24) -> - | T20: =IF(L20="-","",AJ24) | AE20: - | AF20: 0 | AG20: 0 | AH20: 0 | AI20: 0 | AJ20: #DIV/0!
K21: 10 | L21: =IF(AE25=0,"",AE25) -> - | T21: =IF(L21="-","",AJ25) | AE21: - | AF21: 0 | AG21: 0 | AH21: 0 | AI21: 0 | AJ21: #DIV/0!
K22: الطلاب الأقل مستوى ( الأضعف ) | AE22: - | AF22: 0 | AG22: 0 | AH22: 0 | AI22: 0 | AJ22: #DIV/0!
K23: م | L23: اسم الطالب | R23: النسبة | AE23: - | AF23: 0 | AG23: 0 | AH23: 0 | AI23: 0 | AJ23: #DIV/0!
B24: رقم السؤال | C24: عدد الإجابات الصحيحة | K24: 1 | L24: ='ترتيب الطلاب '!AT11 -> طالب 3 | R24: ='ترتيب الطلاب '!AU11 -> 0.55 | AE24: - | AF24: 0 | AG24: 0 | AH24: 0 | AI24: 0 | AJ24: #DIV/0!
K25: 2 | L25: ='ترتيب الطلاب '!AT12 -> طالب 4 | R25: ='ترتيب الطلاب '!AU12 -> 0.75 | AE25: - | AF25: 0 | AG25: 0 | AH25: 0 | AI25: 0 | AJ25: #DIV/0!
B26: {=TRANSPOSE('ادخال درجات التشخيصي'!D216:AB217)} -> س1 | C26: 4 | K26: 3 | L26: ='ترتيب الطلاب '!AT13 -> طالب 2 | R26: ='ترتيب الطلاب '!AU13 -> 0.9 | AE26: - | AF26: 0 | AG26: 0 | AH26: 0 | AI26: 0 | AJ26: #DIV/0!
B27: س2 | C27: 2 | K27: 4 | L27: ='ترتيب الطلاب '!AT14 -> طالب 1 | R27: ='ترتيب الطلاب '!AU14 -> 1 | AE27: - | AF27: 0 | AG27: 0 | AH27: 0 | AI27: 0 | AJ27: #DIV/0!
B28: س3 | C28: 3 | K28: 5 | L28: ='ترتيب الطلاب '!AT15 | R28: ='ترتيب الطلاب '!AU15 | Z28: =D35 -> المرتفع : يحل مسائل رياضية على الأنماط العددية والدوال | AA28: =I35 -> 0.95 | AB28: =IFERROR(RANK(AA28,$AA:$AA,1)+COUNTIF($AA28:AA$28,AA28)-1,"") | AE28: - | AF28: 0 | AG28: 0 | AH28: 0 | AI28: 0 | AJ28: #DIV/0!
B29: س4 | C29: 4 | K29: 6 | L29: ='ترتيب الطلاب '!AT16 | R29: ='ترتيب الطلاب '!AU16 | Z29: =D36 -> المرتفع : يدرك الفروق بين مقاييس النزعة المركزية | AA29: =I36 -> 0.4375 | AB29: =IFERROR(RANK(AA29,$AA:$AA,1)+COUNTIF($AA$28:AA29,AA29)-1,"") | AE29: - | AF29: 0 | AG29: 0 | AH29: 0 | AI29: 0 | AJ29: #DIV/0!
K30: 7 | L30: ='ترتيب الطلاب '!AT17 | R30: ='ترتيب الطلاب '!AU17 | Z30: =D37 -> المتوسط : يوجد النسبة المئوية | AA30: =I37 -> 0.7 | AB30: =IFERROR(RANK(AA30,$AA:$AA,1)+COUNTIF($AA$28:AA30,AA30)-1,"") | AE30: - | AF30: 0 | AG30: 0 | AH30: 0 | AI30: 0 | AJ30: #DIV/0!
K31: 8 | L31: ='ترتيب الطلاب '!AT18 | R31: ='ترتيب الطلاب '!AU18 | Z31: =D38 -> المتوسط : يطبق العمليات على الكسور والأعداد العشرية | AA31: =I38 -> 1 | AB31: =IFERROR(RANK(AA31,$AA:$AA,1)+COUNTIF($AA$28:AA31,AA31)-1,"")
K32: 9 | L32: ='ترتيب الطلاب '!AT19 | R32: ='ترتيب الطلاب '!AU19 | Z32: =D39 -> - | AA32: =I39 -> #DIV/0! | AB32: =IFERROR(RANK(AA32,$AA:$AA,1)+COUNTIF($AA$28:AA32,AA32)-1,"")
K33: 10 | L33: ='ترتيب الطلاب '!AT20 | R33: ='ترتيب الطلاب '!AU20 | Z33: =D40 -> - | AA33: =I40 -> #DIV/0! | AB33: =IFERROR(RANK(AA33,$AA:$AA,1)+COUNTIF($AA$28:AA33,AA33)-1,"")
D34: المهارة / المستوى | I34: النسبة | Z34: =D41 -> - | AA34: =I41 -> #DIV/0! | AB34: =IFERROR(RANK(AA34,$AA:$AA,1)+COUNTIF($AA$28:AA34,AA34)-1,"")
D35: =احصائيات0!B3 -> المرتفع : يحل مسائل رياضية على الأنماط العددية والدوال | I35: =IF(احصائيات0!D3="","",احصائيات0!D3) -> 0.95 | K35: =IFERROR(RANK(J35,$J:$J,1)+COUNTIF($J35:J$36,J35)-1,"") | L35: العشرة الأوائل | Z35: =D42 -> - | AA35: =I42 -> #DIV/0! | AB35: =IFERROR(RANK(AA35,$AA:$AA,1)+COUNTIF($AA$28:AA35,AA35)-1,"")
D36: =احصائيات0!B4 -> المرتفع : يدرك الفروق بين مقاييس النزعة المركزية | I36: =IF(احصائيات0!D4="","",احصائيات0!D4) -> 0.4375 | K36: =IFERROR(RANK(J36,$J:$J,1)+COUNTIF($J$36:J36,J36)-1,"") | L36: م | M36: اسم الطالب | R36: النسبة | Z36: =D43 -> - | AA36: =I43 -> #DIV/0! | AB36: =IFERROR(RANK(AA36,$AA:$AA,1)+COUNTIF($AA$28:AA36,AA36)-1,"")
D37: =احصائيات0!B5 -> المتوسط : يوجد النسبة المئوية | I37: =IF(احصائيات0!D5="","",احصائيات0!D5) -> 0.7 | K37: =IFERROR(RANK(J37,$J:$J,1)+COUNTIF($J$36:J37,J37)-1,"") | L37: 1 | M37: ='ترتيب الطلاب '!K11 -> طالب 1 | R37: ='ترتيب الطلاب '!L11 -> 1 | Z37: =D44 -> - | AA37: =I44 -> #DIV/0! | AB37: =IFERROR(RANK(AA37,$AA:$AA,1)+COUNTIF($AA$28:AA37,AA37)-1,"")
D38: =احصائيات0!B6 -> المتوسط : يطبق العمليات على الكسور والأعداد العشرية | I38: =IF(احصائيات0!D6="","",احصائيات0!D6) -> 1 | K38: =IFERROR(RANK(J38,$J:$J,1)+COUNTIF($J$36:J38,J38)-1,"") | L38: 2 | M38: ='ترتيب الطلاب '!K12 -> طالب 2 | R38: ='ترتيب الطلاب '!L12 -> 0.9 | Z38: =D45 -> - | AA38: =I45 -> #DIV/0! | AB38: =IFERROR(RANK(AA38,$AA:$AA,1)+COUNTIF($AA$28:AA38,AA38)-1,"")
D39: =احصائيات0!B7 -> - | I39: =IF(احصائيات0!D7="","",احصائيات0!D7) -> #DIV/0! | K39: =IFERROR(RANK(J39,$J:$J,1)+COUNTIF($J$36:J39,J39)-1,"") | L39: 3 | M39: ='ترتيب الطلاب '!K13 -> طالب 4 | R39: ='ترتيب الطلاب '!L13 -> 0.75 | Z39: =D46 -> - | AA39: =I46 -> #DIV/0! | AB39: =IFERROR(RANK(AA39,$AA:$AA,1)+COUNTIF($AA$28:AA39,AA39)-1,"")
D40: =احصائيات0!B8 -> - | I40: =IF(احصائيات0!D8="","",احصائيات0!D8) -> #DIV/0! | K40: =IFERROR(RANK(J40,$J:$J,1)+COUNTIF($J$36:J40,J40)-1,"") | L40: 4 | M40: ='ترتيب الطلاب '!K14 -> طالب 3 | R40: ='ترتيب الطلاب '!L14 -> 0.55 | Z40: =D47 -> - | AA40: =I47 -> #DIV/0! | AB40: =IFERROR(RANK(AA40,$AA:$AA,1)+COUNTIF($AA$28:AA40,AA40)-1,"")
D41: =احصائيات0!B9 -> - | I41: =IF(احصائيات0!D9="","",احصائيات0!D9) -> #DIV/0! | K41: =IFERROR(RANK(J41,$J:$J,1)+COUNTIF($J$36:J41,J41)-1,"") | L41: 5 | M41: ='ترتيب الطلاب '!K15 | R41: ='ترتيب الطلاب '!L15 | Z41: =D48 -> - | AA41: =I48 -> #DIV/0! | AB41: =IFERROR(RANK(AA41,$AA:$AA,1)+COUNTIF($AA$28:AA41,AA41)-1,"")
D42: =احصائيات0!B10 -> - | I42: =IF(احصائيات0!D10="","",احصائيات0!D10) -> #DIV/0! | K42: =IFERROR(RANK(J42,$J:$J,1)+COUNTIF($J$36:J42,J42)-1,"") | L42: 6 | M42: ='ترتيب الطلاب '!K16 | R42: ='ترتيب الطلاب '!L16
D43: =احصائيات0!B11 -> - | I43: =IF(احصائيات0!D11="","",احصائيات0!D11) -> #DIV/0! | K43: =IFERROR(RANK(J43,$J:$J,1)+COUNTIF($J$36:J43,J43)-1,"") | L43: 7 | M43: ='ترتيب الطلاب '!K17 | R43: ='ترتيب الطلاب '!L17
D44: =احصائيات0!B12 -> - | I44: =IF(احصائيات0!D12="","",احصائيات0!D12) -> #DIV/0! | K44: =IFERROR(RANK(J44,$J:$J,1)+COUNTIF($J$36:J44,J44)-1,"") | L44: 8 | M44: ='ترتيب الطلاب '!K18 | R44: ='ترتيب الطلاب '!L18
D45: =احصائيات0!B13 -> - | I45: =IF(احصائيات0!D13="","",احصائيات0!D13) -> #DIV/0! | K45: =IFERROR(RANK(J45,$J:$J,1)+COUNTIF($J$36:J45,J45)-1,"") | L45: 9 | M45: ='ترتيب الطلاب '!K19 | R45: ='ترتيب الطلاب '!L19
D46: =احصائيات0!B14 -> - | I46: =IF(احصائيات0!D14="","",احصائيات0!D14) -> #DIV/0! | K46: =IFERROR(RANK(J46,$J:$J,1)+COUNTIF($J$36:J46,J46)-1,"") | L46: 10 | M46: ='ترتيب الطلاب '!K20 | R46: ='ترتيب الطلاب '!L20
D47: =احصائيات0!B15 -> - | I47: =IF(احصائيات0!D15="","",احصائيات0!D15) -> #DIV/0! | K47: =IFERROR(RANK(J47,$J:$J,1)+COUNTIF($J$36:J47,J47)-1,"")
D48: =احصائيات0!B16 -> - | I48: =IF(احصائيات0!D16="","",احصائيات0!D16) -> #DIV/0! | K48: =IFERROR(RANK(J48,$J:$J,1)+COUNTIF($J$36:J48,J48)-1,"") | M48: إعداد | P48: مدير/’ة المدرسة
D49: =احصائيات0!B17 -> - | I49: =IF(احصائيات0!D17="","",احصائيات0!D17) -> #DIV/0!
D50: =احصائيات0!B18 -> - | I50: =IF(احصائيات0!D18="","",احصائيات0!D18) -> #DIV/0! | K50: =IFERROR(RANK(J50,$J:$J,1)+COUNTIF(J$35:$J50,J50)-1,"")

Sheet ترتيب الطلاب 
P1: 1 | Q1: 2 | R1: 3 | S1: 4 | T1: 5 | U1: 6 | V1: 7 | W1: 8 | X1: 9 | Y1: 10 | Z1: 11 | AA1: 12 | AB1: 13 | AC1: 14 | AD1: 15 | AE1: 16 | AF1: 17 | AG1: 18 | AH1: 19 | AI1: 20 | AJ1: 21 | AK1: 22 | AL1: 23 | AM1: 24 | AN1: 25
C2: نتيجة الاختبار التشخيصي | K2: أخطأ أغلب الطلاب في السؤال | L2: ='ادخال درجات التشخيصي'!AD230 -> س2 | N2: تفاصيل نتائج الطلاب حسب المؤشرات | P2: ='ادخال درجات التشخيصي'!DB4 -> المرتفع : يحل مسائل رياضية على الأنماط العددية والدوال | Q2: ='ادخال درجات التشخيصي'!DC4 -> المرتفع : يدرك الفروق بين مقاييس النزعة المركزية | R2: ='ادخال درجات التشخيصي'!DD4 -> المتوسط : يوجد النسبة المئوية | S2: ='ادخال درجات التشخيصي'!DE4 -> المتوسط : يطبق العمليات على الكسور والأعداد العشرية | T2: ='ادخال درجات التشخيصي'!DF4 -> - | U2: ='ادخال درجات التشخيصي'!DG4 -> - | V2: ='ادخال درجات التشخيصي'!DH4 -> - | W2: ='ادخال درجات التشخيصي'!DI4 -> - | ... AN2: ='ادخال درجات التشخيصي'!DZ4 -> -
K3: متوسط نسب الطلاب في الاختبار | L3: =AVERAGE(L11:L130) -> 0.8
K5: عدد الطلاب أعلى من المتوسط | L5: =COUNTIF(L11:L130,">"&L3) -> 2
J7: الترتيب التنازلي | AS7: الترتيب التنازلي
A8: ='ادخال درجات التشخيصي'!A6 -> م | B8: ='ادخال درجات التشخيصي'!B6 -> الاسم | C8: ='ادخال درجات التشخيصي'!AC6 -> المجموع | D8: ='ادخال درجات التشخيصي'!AD6 -> النسبة | J8: م | K8: الاسم | L8: النسبة | N8: =A8 -> م | O8: =B8 -> الاسم | AS8: م | AT8: الاسم | AU8: النسبة
A11: ='ادخال درجات التشخيصي'!A7 -> 1 | B11: =IF('ادخال درجات التشخيصي'!B7="","",'ادخال درجات التشخيصي'!B7) -> طالب 1 | C11: =IF('ادخال درجات التشخيصي'!AC7="","",'ادخال درجات التشخيصي'!AC7) -> 20 | D11: ='ادخال درجات التشخيصي'!AD7 -> 1 | G11: =IF(B11="","",RANK(D11,$D:$D,1)+COUNTIF(D$11:$D11,D11)-1) -> 4 | H11: =IF(B11="","",RANK(D11,$D:$D)+COUNTIF($D$11:D11,D11)-1) -> 1 | J11: 1 | K11: =IF(B11="","",INDEX($B$11:$B$454,MATCH(J11,$H$11:$H$454,0))) -> طالب 1 | L11: =IF(D11="","",INDEX($D$11:$D$454,MATCH(J11,$H$11:$H$454,0))) -> 1 | N11: =A11 -> 1 | O11: =B11 -> طالب 1 | P11: ='ادخال درجات التشخيصي'!AM7 -> 1 | Q11: ='ادخال درجات التشخيصي'!AO7 -> 1 | R11: ='ادخال درجات التشخيصي'!AQ7 -> 1 | S11: ='ادخال درجات التشخيصي'!AS7 -> 1 | T11: ='ادخال درجات التشخيصي'!AU7 | U11: ='ادخال درجات التشخيصي'!AW7 | V11: ='ادخال درجات التشخيصي'!AY7 | W11: ='ادخال درجات التشخيصي'!BA7 | X11: ='ادخال درجات التشخيصي'!BC7 | Y11: ='ادخال درجات التشخيصي'!BE7 | Z11: ='ادخال درجات التشخيصي'!BG7 | AA11: ='ادخال درجات التشخيصي'!BI7 | AB11: ='ادخال درجات التشخيصي'!BK7 | AC11: ='ادخال درجات التشخيصي'!BM7 | AD11: ='ادخال درجات التشخيصي'!BO7 | AE11: ='ادخال درجات التشخيصي'!BQ7 | AF11: ='ادخال درجات التشخيصي'!BS7 | AG11: ='ادخال درجات التشخيصي'!BU7 | AH11: ='ادخال درجات التشخيصي'!BW7 | AI11: ='ادخال درجات التشخيصي'!BY7 | AJ11: ='ادخال درجات التشخيصي'!CA7 | AK11: ='ادخال درجات التشخيصي'!CC7 | AL11: ='ادخال درجات التشخيصي'!CE7 | AM11: ='ادخال درجات التشخيصي'!CG7 | AN11: ='ادخال درجات التشخيصي'!CI7 | AS11: 1 | AT11: =IF(B11="","",INDEX($B$11:$B$454,MATCH(AS11,$G$11:$G$454,0))) -> طالب 3 | AU11: =IF(B11="","",INDEX($D$11:$D$454,MATCH(AS11,$G$11:$G$454,0))) -> 0.55
A12: ='ادخال درجات التشخيصي'!A8 -> 2 | B12: =IF('ادخال درجات التشخيصي'!B8="","",'ادخال درجات التشخيصي'!B8) -> طالب 2 | C12: =IF('ادخال درجات التشخيصي'!AC8="","",'ادخال درجات التشخيصي'!AC8) -> 18 | D12: ='ادخال درجات التشخيصي'!AD8 -> 0.9 | G12: =IF(B12="","",RANK(D12,$D:$D,1)+COUNTIF(D$11:$D12,D12)-1) -> 3 | H12: =IF(B12="","",RANK(D12,$D:$D)+COUNTIF($D$11:D12,D12)-1) -> 2 | J12: 2 | K12: =IF(B12="","",INDEX($B$11:$B$454,MATCH(J12,$H$11:$H$454,0))) -> طالب 2 | L12: =IF(D12="","",INDEX($D$11:$D$454,MATCH(J12,$H$11:$H$454,0))) -> 0.9 | N12: =A12 -> 2 | O12: =B12 -> طالب 2 | P12: ='ادخال درجات التشخيصي'!AM8 -> 1 | Q12: ='ادخال درجات التشخيصي'!AO8 -> 0.75 | R12: ='ادخال درجات التشخيصي'!AQ8 -> 0.8 | S12: ='ادخال درجات التشخيصي'!AS8 -> 1 | T12: ='ادخال درجات التشخيصي'!AU8 | U12: ='ادخال درجات التشخيصي'!AW8 | V12: ='ادخال درجات التشخيصي'!AY8 | W12: ='ادخال درجات التشخيصي'!BA8 | X12: ='ادخال درجات التشخيصي'!BC8 | Y12: ='ادخال درجات التشخيصي'!BE8 | Z12: ='ادخال درجات التشخيصي'!BG8 | AA12: ='ادخال درجات التشخيصي'!BI8 | AB12: ='ادخال درجات التشخيصي'!BK8 | AC12: ='ادخال درجات التشخيصي'!BM8 | AD12: ='ادخال درجات التشخيصي'!BO8 | AE12: ='ادخال درجات التشخيصي'!BQ8 | AF12: ='ادخال درجات التشخيصي'!BS8 | AG12: ='ادخال درجات التشخيصي'!BU8 | AH12: ='ادخال درجات التشخيصي'!BW8 | AI12: ='ادخال درجات التشخيصي'!BY8 | AJ12: ='ادخال درجات التشخيصي'!CA8 | AK12: ='ادخال درجات التشخيصي'!CC8 | AL12: ='ادخال درجات التشخيصي'!CE8 | AM12: ='ادخال درجات التشخيصي'!CG8 | AN12: ='ادخال درجات التشخيصي'!CI8 | AS12: 2 | AT12: =IF(B12="","",INDEX($B$11:$B$454,MATCH(AS12,$G$11:$G$454,0))) -> طالب 4 | AU12: =IF(B12="","",INDEX($D$11:$D$454,MATCH(AS12,$G$11:$G$454,0))) -> 0.75
A13: ='ادخال درجات التشخيصي'!A9 -> 3 | B13: =IF('ادخال درجات التشخيصي'!B9="","",'ادخال درجات التشخيصي'!B9) -> طالب 3 | C13: =IF('ادخال درجات التشخيصي'!AC9="","",'ادخال درجات التشخيصي'!AC9) -> 11 | D13: ='ادخال درجات التشخيصي'!AD9 -> 0.55 | G13: =IF(B13="","",RANK(D13,$D:$D,1)+COUNTIF(D$11:$D13,D13)-1) -> 1 | H13: =IF(B13="","",RANK(D13,$D:$D)+COUNTIF($D$11:D13,D13)-1) -> 4 | J13: 3 | K13: =IF(B13="","",INDEX($B$11:$B$454,MATCH(J13,$H$11:$H$454,0))) -> طالب 4 | L13: =IF(D13="","",INDEX($D$11:$D$454,MATCH(J13,$H$11:$H$454,0))) -> 0.75 | N13: =A13 -> 3 | O13: =B13 -> طالب 3 | P13: ='ادخال درجات التشخيصي'!AM9 -> 1 | Q13: ='ادخال درجات التشخيصي'!AO9 -> 0 | R13: ='ادخال درجات التشخيصي'!AQ9 -> 0 | S13: ='ادخال درجات التشخيصي'!AS9 -> 1 | T13: ='ادخال درجات التشخيصي'!AU9 | U13: ='ادخال درجات التشخيصي'!AW9 | V13: ='ادخال درجات التشخيصي'!AY9 | W13: ='ادخال درجات التشخيصي'!BA9 | X13: ='ادخال درجات التشخيصي'!BC9 | Y13: ='ادخال درجات التشخيصي'!BE9 | Z13: ='ادخال درجات التشخيصي'!BG9 | AA13: ='ادخال درجات التشخيصي'!BI9 | AB13: ='ادخال درجات التشخيصي'!BK9 | AC13: ='ادخال درجات التشخيصي'!BM9 | AD13: ='ادخال درجات التشخيصي'!BO9 | AE13: ='ادخال درجات التشخيصي'!BQ9 | AF13: ='ادخال درجات التشخيصي'!BS9 | AG13: ='ادخال درجات التشخيصي'!BU9 | AH13: ='ادخال درجات التشخيصي'!BW9 | AI13: ='ادخال درجات التشخيصي'!BY9 | AJ13: ='ادخال درجات التشخيصي'!CA9 | AK13: ='ادخال درجات التشخيصي'!CC9 | AL13: ='ادخال درجات التشخيصي'!CE9 | AM13: ='ادخال درجات التشخيصي'!CG9 | AN13: ='ادخال درجات التشخيصي'!CI9 | AS13: 3 | AT13: =IF(B13="","",INDEX($B$11:$B$454,MATCH(AS13,$G$11:$G$454,0))) -> طالب 2 | AU13: =IF(B13="","",INDEX($D$11:$D$454,MATCH(AS13,$G$11:$G$454,0))) -> 0.9
A14: ='ادخال درجات التشخيصي'!A10 -> 4 | B14: =IF('ادخال درجات التشخيصي'!B10="","",'ادخال درجات التشخيصي'!B10) -> طالب 4 | C14: =IF('ادخال درجات التشخيصي'!AC10="","",'ادخال درجات التشخيصي'!AC10) -> 15 | D14: ='ادخال درجات التشخيصي'!AD10 -> 0.75 | G14: =IF(B14="","",RANK(D14,$D:$D,1)+COUNTIF(D$11:$D14,D14)-1) -> 2 | H14: =IF(B14="","",RANK(D14,$D:$D)+COUNTIF($D$11:D14,D14)-1) -> 3 | J14: 4 | K14: =IF(B14="","",INDEX($B$11:$B$454,MATCH(J14,$H$11:$H$454,0))) -> طالب 3 | L14: =IF(D14="","",INDEX($D$11:$D$454,MATCH(J14,$H$11:$H$454,0))) -> 0.55 | N14: =A14 -> 4 | O14: =B14 -> طالب 4 | P14: ='ادخال درجات التشخيصي'!AM10 -> 0.8 | Q14: ='ادخال درجات التشخيصي'!AO10 -> 0 | R14: ='ادخال درجات التشخيصي'!AQ10 -> 1 | S14: ='ادخال درجات التشخيصي'!AS10 -> 1 | T14: ='ادخال درجات التشخيصي'!AU10 | U14: ='ادخال درجات التشخيصي'!AW10 | V14: ='ادخال درجات التشخيصي'!AY10 | W14: ='ادخال درجات التشخيصي'!BA10 | X14: ='ادخال درجات التشخيصي'!BC10 | Y14: ='ادخال درجات التشخيصي'!BE10 | Z14: ='ادخال درجات التشخيصي'!BG10 | AA14: ='ادخال درجات التشخيصي'!BI10 | AB14: ='ادخال درجات التشخيصي'!BK10 | AC14: ='ادخال درجات التشخيصي'!BM10 | AD14: ='ادخال درجات التشخيصي'!BO10 | AE14: ='ادخال درجات التشخيصي'!BQ10 | AF14: ='ادخال درجات التشخيصي'!BS10 | AG14: ='ادخال درجات التشخيصي'!BU10 | AH14: ='ادخال درجات التشخيصي'!BW10 | AI14: ='ادخال درجات التشخيصي'!BY10 | AJ14: ='ادخال درجات التشخيصي'!CA10 | AK14: ='ادخال درجات التشخيصي'!CC10 | AL14: ='ادخال درجات التشخيصي'!CE10 | AM14: ='ادخال درجات التشخيصي'!CG10 | AN14: ='ادخال درجات التشخيصي'!CI10 | AS14: 4 | AT14: =IF(B14="","",INDEX($B$11:$B$454,MATCH(AS14,$G$11:$G$454,0))) -> طالب 1 | AU14: =IF(B14="","",INDEX($D$11:$D$454,MATCH(AS14,$G$11:$G$454,0))) -> 1
A15: ='ادخال درجات التشخيصي'!A11 -> 5 | B15: =IF('ادخال درجات التشخيصي'!B11="","",'ادخال درجات التشخيصي'!B11) | C15: =IF('ادخال درجات التشخيصي'!AC11="","",'ادخال درجات التشخيصي'!AC11) | D15: ='ادخال درجات التشخيصي'!AD11 | G15: =IF(B15="","",RANK(D15,$D:$D,1)+COUNTIF(D$11:$D15,D15)-1) | H15: =IF(B15="","",RANK(D15,$D:$D)+COUNTIF($D$11:D15,D15)-1) | J15: 5 | K15: =IF(B15="","",INDEX($B$11:$B$454,MATCH(J15,$H$11:$H$454,0))) | L15: =IF(D15="","",INDEX($D$11:$D$454,MATCH(J15,$H$11:$H$454,0))) | N15: =A15 -> 5 | O15: =B15 | P15: ='ادخال درجات التشخيصي'!AM11 | Q15: ='ادخال درجات التشخيصي'!AO11 | R15: ='ادخال درجات التشخيصي'!AQ11 | S15: ='ادخال درجات التشخيصي'!AS11 | T15: ='ادخال درجات التشخيصي'!AU11 | U15: ='ادخال درجات التشخيصي'!AW11 | V15: ='ادخال درجات التشخيصي'!AY11 | W15: ='ادخال درجات التشخيصي'!BA11 | X15: ='ادخال درجات التشخيصي'!BC11 | Y15: ='ادخال درجات التشخيصي'!BE11 | Z15: ='ادخال درجات التشخيصي'!BG11 | AA15: ='ادخال درجات التشخيصي'!BI11 | AB15: ='ادخال درجات التشخيصي'!BK11 | AC15: ='ادخال درجات التشخيصي'!BM11 | AD15: ='ادخال درجات التشخيصي'!BO11 | AE15: ='ادخال درجات التشخيصي'!BQ11 | AF15: ='ادخال درجات التشخيصي'!BS11 | AG15: ='ادخال درجات التشخيصي'!BU11 | AH15: ='ادخال درجات التشخيصي'!BW11 | AI15: ='ادخال درجات التشخيصي'!BY11 | AJ15: ='ادخال درجات التشخيصي'!CA11 | AK15: ='ادخال درجات التشخيصي'!CC11 | AL15: ='ادخال درجات التشخيصي'!CE11 | AM15: ='ادخال درجات التشخيصي'!CG11 | AN15: ='ادخال درجات التشخيصي'!CI11 | AS15: 5 | AT15: =IF(B15="","",INDEX($B$11:$B$454,MATCH(AS15,$G$11:$G$454,0))) | AU15: =IF(B15="","",INDEX($D$11:$D$454,MATCH(AS15,$G$11:$G$454,0)))
A16: ='ادخال درجات التشخيصي'!A12 -> 6 | B16: =IF('ادخال درجات التشخيصي'!B12="","",'ادخال درجات التشخيصي'!B12) | C16: =IF('ادخال درجات التشخيصي'!AC12="","",'ادخال درجات التشخيصي'!AC12) | D16: ='ادخال درجات التشخيصي'!AD12 | G16: =IF(B16="","",RANK(D16,$D:$D,1)+COUNTIF(D$11:$D16,D16)-1) | H16: =IF(B16="","",RANK(D16,$D:$D)+COUNTIF($D$11:D16,D16)-1) | J16: 6 | K16: =IF(B16="","",INDEX($B$11:$B$454,MATCH(J16,$H$11:$H$454,0))) | L16: =IF(D16="","",INDEX($D$11:$D$454,MATCH(J16,$H$11:$H$454,0))) | N16: =A16 -> 6 | O16: =B16 | P16: ='ادخال درجات التشخيصي'!AM12 | Q16: ='ادخال درجات التشخيصي'!AO12 | R16: ='ادخال درجات التشخيصي'!AQ12 | S16: ='ادخال درجات التشخيصي'!AS12 | T16: ='ادخال درجات التشخيصي'!AU12 | U16: ='ادخال درجات التشخيصي'!AW12 | V16: ='ادخال درجات التشخيصي'!AY12 | W16: ='ادخال درجات التشخيصي'!BA12 | X16: ='ادخال درجات التشخيصي'!BC12 | Y16: ='ادخال درجات التشخيصي'!BE12 | Z16: ='ادخال درجات التشخيصي'!BG12 | AA16: ='ادخال درجات التشخيصي'!BI12 | AB16: ='ادخال درجات التشخيصي'!BK12 | AC16: ='ادخال درجات التشخيصي'!BM12 | AD16: ='ادخال درجات التشخيصي'!BO12 | AE16: ='ادخال درجات التشخيصي'!BQ12 | AF16: ='ادخال درجات التشخيصي'!BS12 | AG16: ='ادخال درجات التشخيصي'!BU12 | AH16: ='ادخال درجات التشخيصي'!BW12 | AI16: ='ادخال درجات التشخيصي'!BY12 | AJ16: ='ادخال درجات التشخيصي'!CA12 | AK16: ='ادخال درجات التشخيصي'!CC12 | AL16: ='ادخال درجات التشخيصي'!CE12 | AM16: ='ادخال درجات التشخيصي'!CG12 | AN16: ='ادخال درجات التشخيصي'!CI12 | AS16: 6 | AT16: =IF(B16="","",INDEX($B$11:$B$454,MATCH(AS16,$G$11:$G$454,0))) | AU16: =IF(B16="","",INDEX($D$11:$D$454,MATCH(AS16,$G$11:$G$454,0)))
A17: ='ادخال درجات التشخيصي'!A13 -> 7 | B17: =IF('ادخال درجات التشخيصي'!B13="","",'ادخال درجات التشخيصي'!B13) | C17: =IF('ادخال درجات التشخيصي'!AC13="","",'ادخال درجات التشخيصي'!AC13) | D17: ='ادخال درجات التشخيصي'!AD13 | G17: =IF(B17="","",RANK(D17,$D:$D,1)+COUNTIF(D$11:$D17,D17)-1) | H17: =IF(B17="","",RANK(D17,$D:$D)+COUNTIF($D$11:D17,D17)-1) | J17: 7 | K17: =IF(B17="","",INDEX($B$11:$B$454,MATCH(J17,$H$11:$H$454,0))) | L17: =IF(D17="","",INDEX($D$11:$D$454,MATCH(J17,$H$11:$H$454,0))) | N17: =A17 -> 7 | O17: =B17 | P17: ='ادخال درجات التشخيصي'!AM13 | Q17: ='ادخال درجات التشخيصي'!AO13 | R17: ='ادخال درجات التشخيصي'!AQ13 | S17: ='ادخال درجات التشخيصي'!AS13 | T17: ='ادخال درجات التشخيصي'!AU13 | U17: ='ادخال درجات التشخيصي'!AW13 | V17: ='ادخال درجات التشخيصي'!AY13 | W17: ='ادخال درجات التشخيصي'!BA13 | X17: ='ادخال درجات التشخيصي'!BC13 | Y17: ='ادخال درجات التشخيصي'!BE13 | Z17: ='ادخال درجات التشخيصي'!BG13 | AA17: ='ادخال درجات التشخيصي'!BI13 | AB17: ='ادخال درجات التشخيصي'!BK13 | AC17: ='ادخال درجات التشخيصي'!BM13 | AD17: ='ادخال درجات التشخيصي'!BO13 | AE17: ='ادخال درجات التشخيصي'!BQ13 | AF17: ='ادخال درجات التشخيصي'!BS13 | AG17: ='ادخال درجات التشخيصي'!BU13 | AH17: ='ادخال درجات التشخيصي'!BW13 | AI17: ='ادخال درجات التشخيصي'!BY13 | AJ17: ='ادخال درجات التشخيصي'!CA13 | AK17: ='ادخال درجات التشخيصي'!CC13 | AL17: ='ادخال درجات التشخيصي'!CE13 | AM17: ='ادخال درجات التشخيصي'!CG13 | AN17: ='ادخال درجات التشخيصي'!CI13 | AS17: 7 | AT17: =IF(B17="","",INDEX($B$11:$B$454,MATCH(AS17,$G$11:$G$454,0))) | AU17: =IF(B17="","",INDEX($D$11:$D$454,MATCH(AS17,$G$11:$G$454,0)))
A18: ='ادخال درجات التشخيصي'!A14 -> 8 | B18: =IF('ادخال درجات التشخيصي'!B14="","",'ادخال درجات التشخيصي'!B14) | C18: =IF('ادخال درجات التشخيصي'!AC14="","",'ادخال درجات التشخيصي'!AC14) | D18: ='ادخال درجات التشخيصي'!AD14 | G18: =IF(B18="","",RANK(D18,$D:$D,1)+COUNTIF(D$11:$D18,D18)-1) | H18: =IF(B18="","",RANK(D18,$D:$D)+COUNTIF($D$11:D18,D18)-1) | J18: 8 | K18: =IF(B18="","",INDEX($B$11:$B$454,MATCH(J18,$H$11:$H$454,0))) | L18: =IF(D18="","",INDEX($D$11:$D$454,MATCH(J18,$H$11:$H$454,0))) | N18: =A18 -> 8 | O18: =B18 | P18: ='ادخال درجات التشخيصي'!AM14 | Q18: ='ادخال درجات التشخيصي'!AO14 | R18: ='ادخال درجات التشخيصي'!AQ14 | S18: ='ادخال درجات التشخيصي'!AS14 | T18: ='ادخال درجات التشخيصي'!AU14 | U18: ='ادخال درجات التشخيصي'!AW14 | V18: ='ادخال درجات التشخيصي'!AY14 | W18: ='ادخال درجات التشخيصي'!BA14 | X18: ='ادخال درجات التشخيصي'!BC14 | Y18: ='ادخال درجات التشخيصي'!BE14 | Z18: ='ادخال درجات التشخيصي'!BG14 | AA18: ='ادخال درجات التشخيصي'!BI14 | AB18: ='ادخال درجات التشخيصي'!BK14 | AC18: ='ادخال درجات التشخيصي'!BM14 | AD18: ='ادخال درجات التشخيصي'!BO14 | AE18: ='ادخال درجات التشخيصي'!BQ14 | AF18: ='ادخال درجات التشخيصي'!BS14 | AG18: ='ادخال درجات التشخيصي'!BU14 | AH18: ='ادخال درجات التشخيصي'!BW14 | AI18: ='ادخال درجات التشخيصي'!BY14 | AJ18: ='ادخال درجات التشخيصي'!CA14 | AK18: ='ادخال درجات التشخيصي'!CC14 | AL18: ='ادخال درجات التشخيصي'!CE14 | AM18: ='ادخال درجات التشخيصي'!CG14 | AN18: ='ادخال درجات التشخيصي'!CI14 | AS18: 8 | AT18: =IF(B18="","",INDEX($B$11:$B$454,MATCH(AS18,$G$11:$G$454,0))) | AU18: =IF(B18="","",INDEX($D$11:$D$454,MATCH(AS18,$G$11:$G$454,0)))
A19: ='ادخال درجات التشخيصي'!A15 -> 9 | B19: =IF('ادخال درجات التشخيصي'!B15="","",'ادخال درجات التشخيصي'!B15) | C19: =IF('ادخال درجات التشخيصي'!AC15="","",'ادخال درجات التشخيصي'!AC15) | D19: ='ادخال درجات التشخيصي'!AD15 | G19: =IF(B19="","",RANK(D19,$D:$D,1)+COUNTIF(D$11:$D19,D19)-1) | H19: =IF(B19="","",RANK(D19,$D:$D)+COUNTIF($D$11:D19,D19)-1) | J19: 9 | K19: =IF(B19="","",INDEX($B$11:$B$454,MATCH(J19,$H$11:$H$454,0))) | L19: =IF(D19="","",INDEX($D$11:$D$454,MATCH(J19,$H$11:$H$454,0))) | N19: =A19 -> 9 | O19: =B19 | P19: ='ادخال درجات التشخيصي'!AM15 | Q19: ='ادخال درجات التشخيصي'!AO15 | R19: ='ادخال درجات التشخيصي'!AQ15 | S19: ='ادخال درجات التشخيصي'!AS15 | T19: ='ادخال درجات التشخيصي'!AU15 | U19: ='ادخال درجات التشخيصي'!AW15 | V19: ='ادخال درجات التشخيصي'!AY15 | W19: ='ادخال درجات التشخيصي'!BA15 | X19: ='ادخال درجات التشخيصي'!BC15 | Y19: ='ادخال درجات التشخيصي'!BE15 | Z19: ='ادخال درجات التشخيصي'!BG15 | AA19: ='ادخال درجات التشخيصي'!BI15 | AB19: ='ادخال درجات التشخيصي'!BK15 | AC19: ='ادخال درجات التشخيصي'!BM15 | AD19: ='ادخال درجات التشخيصي'!BO15 | AE19: ='ادخال درجات التشخيصي'!BQ15 | AF19: ='ادخال درجات التشخيصي'!BS15 | AG19: ='ادخال درجات التشخيصي'!BU15 | AH19: ='ادخال درجات التشخيصي'!BW15 | AI19: ='ادخال درجات التشخيصي'!BY15 | AJ19: ='ادخال درجات التشخيصي'!CA15 | AK19: ='ادخال درجات التشخيصي'!CC15 | AL19: ='ادخال درجات التشخيصي'!CE15 | AM19: ='ادخال درجات التشخيصي'!CG15 | AN19: ='ادخال درجات التشخيصي'!CI15 | AS19: 9 | AT19: =IF(B19="","",INDEX($B$11:$B$454,MATCH(AS19,$G$11:$G$454,0))) | AU19: =IF(B19="","",INDEX($D$11:$D$454,MATCH(AS19,$G$11:$G$454,0)))
A20: ='ادخال درجات التشخيصي'!A16 -> 10 | B20: =IF('ادخال درجات التشخيصي'!B16="","",'ادخال درجات التشخيصي'!B16) | C20: =IF('ادخال درجات التشخيصي'!AC16="","",'ادخال درجات التشخيصي'!AC16) | D20: ='ادخال درجات التشخيصي'!AD16 | G20: =IF(B20="","",RANK(D20,$D:$D,1)+COUNTIF(D$11:$D20,D20)-1) | H20: =IF(B20="","",RANK(D20,$D:$D)+COUNTIF($D$11:D20,D20)-1) | J20: 10 | K20: =IF(B20="","",INDEX($B$11:$B$454,MATCH(J20,$H$11:$H$454,0))) | L20: =IF(D20="","",INDEX($D$11:$D$454,MATCH(J20,$H$11:$H$454,0))) | N20: =A20 -> 10 | O20: =B20 | P20: ='ادخال درجات التشخيصي'!AM16 | Q20: ='ادخال درجات التشخيصي'!AO16 | R20: ='ادخال درجات التشخيصي'!AQ16 | S20: ='ادخال درجات التشخيصي'!AS16 | T20: ='ادخال درجات التشخيصي'!AU16 | U20: ='ادخال درجات التشخيصي'!AW16 | V20: ='ادخال درجات التشخيصي'!AY16 | W20: ='ادخال درجات التشخيصي'!BA16 | X20: ='ادخال درجات التشخيصي'!BC16 | Y20: ='ادخال درجات التشخيصي'!BE16 | Z20: ='ادخال درجات التشخيصي'!BG16 | AA20: ='ادخال درجات التشخيصي'!BI16 | AB20: ='ادخال درجات التشخيصي'!BK16 | AC20: ='ادخال درجات التشخيصي'!BM16 | AD20: ='ادخال درجات التشخيصي'!BO16 | AE20: ='ادخال درجات التشخيصي'!BQ16 | AF20: ='ادخال درجات التشخيصي'!BS16 | AG20: ='ادخال درجات التشخيصي'!BU16 | AH20: ='ادخال درجات التشخيصي'!BW16 | AI20: ='ادخال درجات التشخيصي'!BY16 | AJ20: ='ادخال درجات التشخيصي'!CA16 | AK20: ='ادخال درجات التشخيصي'!CC16 | AL20: ='ادخال درجات التشخيصي'!CE16 | AM20: ='ادخال درجات التشخيصي'!CG16 | AN20: ='ادخال درجات التشخيصي'!CI16 | AS20: 10 | AT20: =IF(B20="","",INDEX($B$11:$B$454,MATCH(AS20,$G$11:$G$454,0))) | AU20: =IF(B20="","",INDEX($D$11:$D$454,MATCH(AS20,$G$11:$G$454,0)))
A21: ='ادخال درجات التشخيصي'!A17 -> 11 | B21: =IF('ادخال درجات التشخيصي'!B17="","",'ادخال درجات التشخيصي'!B17) | C21: =IF('ادخال درجات التشخيصي'!AC17="","",'ادخال درجات التشخيصي'!AC17) | D21: ='ادخال درجات التشخيصي'!AD17 | G21: =IF(B21="","",RANK(D21,$D:$D,1)+COUNTIF(D$11:$D21,D21)-1) | H21: =IF(B21="","",RANK(D21,$D:$D)+COUNTIF($D$11:D21,D21)-1) | J21: 11 | K21: =IF(B21="","",INDEX($B$11:$B$454,MATCH(J21,$H$11:$H$454,0))) | L21: =IF(D21="","",INDEX($D$11:$D$454,MATCH(J21,$H$11:$H$454,0))) | N21: =A21 -> 11 | O21: =B21 | P21: ='ادخال درجات التشخيصي'!AM17 | Q21: ='ادخال درجات التشخيصي'!AO17 | R21: ='ادخال درجات التشخيصي'!AQ17 | S21: ='ادخال درجات التشخيصي'!AS17 | T21: ='ادخال درجات التشخيصي'!AU17 | U21: ='ادخال درجات التشخيصي'!AW17 | V21: ='ادخال درجات التشخيصي'!AY17 | W21: ='ادخال درجات التشخيصي'!BA17 | X21: ='ادخال درجات التشخيصي'!BC17 | Y21: ='ادخال درجات التشخيصي'!BE17 | Z21: ='ادخال درجات التشخيصي'!BG17 | AA21: ='ادخال درجات التشخيصي'!BI17 | AB21: ='ادخال درجات التشخيصي'!BK17 | AC21: ='ادخال درجات التشخيصي'!BM17 | AD21: ='ادخال درجات التشخيصي'!BO17 | AE21: ='ادخال درجات التشخيصي'!BQ17 | AF21: ='ادخال درجات التشخيصي'!BS17 | AG21: ='ادخال درجات التشخيصي'!BU17 | AH21: ='ادخال درجات التشخيصي'!BW17 | AI21: ='ادخال درجات التشخيصي'!BY17 | AJ21: ='ادخال درجات التشخيصي'!CA17 | AK21: ='ادخال درجات التشخيصي'!CC17 | AL21: ='ادخال درجات التشخيصي'!CE17 | AM21: ='ادخال درجات التشخيصي'!CG17 | AN21: ='ادخال درجات التشخيصي'!CI17 | AS21: 11 | AT21: =IF(B21="","",INDEX($B$11:$B$454,MATCH(AS21,$G$11:$G$454,0))) | AU21: =IF(B21="","",INDEX($D$11:$D$454,MATCH(AS21,$G$11:$G$454,0)))
A22: ='ادخال درجات التشخيصي'!A18 -> 12 | B22: =IF('ادخال درجات التشخيصي'!B18="","",'ادخال درجات التشخيصي'!B18) | C22: =IF('ادخال درجات التشخيصي'!AC18="","",'ادخال درجات التشخيصي'!AC18) | D22: ='ادخال درجات التشخيصي'!AD18 | G22: =IF(B22="","",RANK(D22,$D:$D,1)+COUNTIF(D$11:$D22,D22)-1) | H22: =IF(B22="","",RANK(D22,$D:$D)+COUNTIF($D$11:D22,D22)-1) | J22: 12 | K22: =IF(B22="","",INDEX($B$11:$B$454,MATCH(J22,$H$11:$H$454,0))) | L22: =IF(D22="","",INDEX($D$11:$D$454,MATCH(J22,$H$11:$H$454,0))) | N22: =A22 -> 12 | O22: =B22 | P22: ='ادخال درجات التشخيصي'!AM18 | Q22: ='ادخال درجات التشخيصي'!AO18 | R22: ='ادخال درجات التشخيصي'!AQ18 | S22: ='ادخال درجات التشخيصي'!AS18 | T22: ='ادخال درجات التشخيصي'!AU18 | U22: ='ادخال درجات التشخيصي'!AW18 | V22: ='ادخال درجات التشخيصي'!AY18 | W22: ='ادخال درجات التشخيصي'!BA18 | X22: ='ادخال درجات التشخيصي'!BC18 | Y22: ='ادخال درجات التشخيصي'!BE18 | Z22: ='ادخال درجات التشخيصي'!BG18 | AA22: ='ادخال درجات التشخيصي'!BI18 | AB22: ='ادخال درجات التشخيصي'!BK18 | AC22: ='ادخال درجات التشخيصي'!BM18 | AD22: ='ادخال درجات التشخيصي'!BO18 | AE22: ='ادخال درجات التشخيصي'!BQ18 | AF22: ='ادخال درجات التشخيصي'!BS18 | AG22: ='ادخال درجات التشخيصي'!BU18 | AH22: ='ادخال درجات التشخيصي'!BW18 | AI22: ='ادخال درجات التشخيصي'!BY18 | AJ22: ='ادخال درجات التشخيصي'!CA18 | AK22: ='ادخال درجات التشخيصي'!CC18 | AL22: ='ادخال درجات التشخيصي'!CE18 | AM22: ='ادخال درجات التشخيصي'!CG18 | AN22: ='ادخال درجات التشخيصي'!CI18 | AS22: 12 | AT22: =IF(B22="","",INDEX($B$11:$B$454,MATCH(AS22,$G$11:$G$454,0))) | AU22: =IF(B22="","",INDEX($D$11:$D$454,MATCH(AS22,$G$11:$G$454,0)))
... A130: ='ادخال درجات التشخيصي'!A126 -> 120 | B130: =IF('ادخال درجات التشخيصي'!B126="","",'ادخال درجات التشخيصي'!B126) | C130: =IF('ادخال درجات التشخيصي'!AC126="","",'ادخال درجات التشخيصي'!AC126) | D130: ='ادخال درجات التشخيصي'!AD126 | G130: =IF(B130="","",RANK(D130,$D:$D,1)+COUNTIF(D$11:$D130,D130)-1) | H130: =IF(B130="","",RANK(D130,$D:$D)+COUNTIF($D$11:D130,D130)-1) | J130: 120 | K130: =IF(B130="","",INDEX($B$11:$B$454,MATCH(J130,$H$11:$H$454,0))) | L130: =IF(D130="","",INDEX($D$11:$D$454,MATCH(J130,$H$11:$H$454,0))) | N130: =A130 -> 120 | O130: =B130 | P130: ='ادخال درجات التشخيصي'!AM126 | Q130: ='ادخال درجات التشخيصي'!AO126 | R130: ='ادخال درجات التشخيصي'!AQ126 | S130: ='ادخال درجات التشخيصي'!AS126 | T130: ='ادخال درجات التشخيصي'!AU126 | U130: ='ادخال درجات التشخيصي'!AW126 | V130: ='ادخال درجات التشخيصي'!AY126 | W130: ='ادخال درجات التشخيصي'!BA126 | X130: ='ادخال درجات التشخيصي'!BC126 | Y130: ='ادخال درجات التشخيصي'!BE126 | Z130: ='ادخال درجات التشخيصي'!BG126 | AA130: ='ادخال درجات التشخيصي'!BI126 | AB130: ='ادخال درجات التشخيصي'!BK126 | AC130: ='ادخال درجات التشخيصي'!BM126 | AD130: ='ادخال درجات التشخيصي'!BO126 | AE130: ='ادخال درجات التشخيصي'!BQ126 | AF130: ='ادخال درجات التشخيصي'!BS126 | AG130: ='ادخال درجات التشخيصي'!BU126 | AH130: ='ادخال درجات التشخيصي'!BW126 | AI130: ='ادخال درجات التشخيصي'!BY126 | AJ130: ='ادخال درجات التشخيصي'!CA126 | AK130: ='ادخال درجات التشخيصي'!CC126 | AL130: ='ادخال درجات التشخيصي'!CE126 | AM130: ='ادخال درجات التشخيصي'!CG126 | AN130: ='ادخال درجات التشخيصي'!CI126 | AS130: 120 | AT130: =IF(B130="","",INDEX($B$11:$B$454,MATCH(AS130,$G$11:$G$454,0))) | AU130: =IF(B130="","",INDEX($D$11:$D$454,MATCH(AS130,$G$11:$G$454,0)))

Sheet الاختبار التشخيصي
J10: لطباعة النموذج بعد كتابة الأسئلة - ضلل الأسئلة ثم طباعة - طباعة التحديد
A13: م | B13: المؤشرات التي تم تحديدها للاختبار | I13: الاختبار التشخيصي - نافس اسم الطالب : | W13: الصف | X13: ='مج 0'!G5 -> رياضيات_سادس | AD13: بنك الأسئلة ( لاضافة سؤال جديد أو تعديل صيغة سؤال )
A14: 1 | B14: =IF('مج 0'!G6="","",'مج 0'!G6) -> المرتفع : يحل مسائل رياضية على الأنماط العددية والدوال | I14: س1 | AC14: 1 | AD14: ماهو العدد المفقود في الصيغة التحليلية ( 4 + 10 + ....... + 6000 = 6314 )
J15: أ | N15: ب | R15: ج | V15: د | AC15: 2 | AD15: أكبر عدد فيما يلي هو : 5099 ، 5009 ، 9005 ، 5959
A16: 2 | B16: =IF('مج 0'!G7="","",'مج 0'!G7) -> المرتفع : يدرك الفروق بين مقاييس النزعة المركزية | I16: س2 | AC16: 3 | AD16: زرع بدر 65% من مساحة حديقته ، والكسر الاعتيادي الذي يمثل المنطقة التي لم يزرعها ؟
J17: أ | N17: ب | R17: ج | V17: د | AC17: 4 | AD17: اشترت الجوهرة تلفازا بعد التخفيض بمبلغ ( 1989 ريالا ) اذا كان السعر الأصلي للتلفاز قبل التخفيض هو ( 2499 ريالا ) فما افضل تقدير للمبلغ الذي وفرته الجوهرة عند شرائها التلفاز ؟
A18: 3 | B18: =IF('مج 0'!G8="","",'مج 0'!G8) -> المتوسط : يوجد النسبة المئوية | I18: س3 | AC18: 5 | AD18: أي الاعداد التالية القيمة المنزلية للرقم 7 فيه هي ( 70000 )
J19: أ | N19: ب | R19: ج | V19: د | AC19: 6 | AD19: يدق قلب سميرة 410 مرات في 5 دقائق ، فكم مرة يدق قلبها في الدقيقة الواحدة بهذا المعدل ؟
A20: 4 | B20: =IF('مج 0'!G9="","",'مج 0'!G9) -> المتوسط : يطبق العمليات على الكسور والأعداد العشرية | I20: س4 | AC20: 7 | AD20: المنسبة المئوية 20 % على صورة كسر اعتيادي تساوي :
J21: أ | N21: ب | R21: ج | V21: د | AC21: 8 | AD21: إذا كانت 84 كعكة تكفي لإطعام 28 طفلا ، فكم كعكة تكفي لإطعام 30 طفل ؟
A22: 5 | B22: =IF('مج 0'!G10="","",'مج 0'!G10) | I22: س5 | AC22: 9 | AD22: تسمى النقطة في المستوى الإحداثي : ( 0 ، 0 ) :
J23: أ | N23: ب | R23: ج | V23: د | AC23: 10 | AD23: تقع النقطة ( 0 ، 7 ) على المستوى الاحداثي فوق محور :
A24: 6 | B24: =IF('مج 0'!G11="","",'مج 0'!G11) | I24: س6 | AC24: 11 | AD24: تستهلك سيارة سعود 99 لترا من البنززين في اليوم ، فكم لترا ستستلكه في أسبوع تقريبا
J25: أ | N25: ب | R25: ج | V25: د | AC25: 12 | AD25: الوسيط لمجموعة الاعداد : 23 ، 21 ، 27 ، 36 ، 44 هو
A26: 7 | B26: =IF('مج 0'!G12="","",'مج 0'!G12) | I26: س7 | AC26: 13 | AD26: الوحدة المناسبة لقياس طول شجرة هي :
J27: أ | N27: ب | R27: ج | V27: د | AC27: 14 | AD27: 0.9 - 0.3 =
A28: 8 | B28: =IF('مج 0'!G13="","",'مج 0'!G13) | I28: س8 | AC28: 15 | AD28: مربع محيطه 16 سم ، مساحته بالسنتيمتر المربع تساوي :
J29: أ | N29: ب | R29: ج | V29: د | AC29: 16 | AD29: تريد سلمى أن تزور ثلاث مواقع انترنت فبكم ترتيب يمكنها زيارة هذه المواقع .
A30: 9 | B30: =IF('مج 0'!G14="","",'مج 0'!G14) | I30: س9 | AC30: 17 | AD30: مدرج يتكون من 8 صفوف يتسع كل منها ل 25 شخص ، اذا كان المدرج مليئا بالاشخاص فكم شخصا في المدرج ؟
J31: أ | N31: ب | R31: ج | V31: د | AC31: 18 | AD31: وعاد سعته 3 لتر اذا تم تعبئته بكوب سعته 300 ملليتر من الماء ، فكم يحتاج محمد من كوب لملء الوعاء ؟
A32: 10 | B32: =IF('مج 0'!G15="","",'مج 0'!G15) | I32: س10 | AC32: 19 | AD32: لدى محمد مكعب حجمه 117 سم مكعب ومساحة قاعدته 13 سم مكعب فكم يكون ارتفاعه
J33: أ | N33: ب | R33: ج | V33: د | AC33: 20 | AD33: أي الاعداد التلية يكون قيمته 20000 إاذا تم تقريبه لعشرات الألوف
A34: 11 | B34: =IF('مج 0'!G16="","",'مج 0'!G16) | I34: س11 | AC34: 21 | AD34: وفر أحمد 5 ريالات في الأسبوع الأول و10 ريالات في الأسبوع الثاني ، و15 ريالا في الأسبوع الثالث ، اذا استمر بنفس النمط لمدة 6 أسابيع فكم سيكون معه بنهاية المدة
J35: أ | N35: ب | R35: ج | V35: د | AC35: 22 | AD35: وحدة الجرام هي الأنسب لقياس :
A36: 12 | B36: =IF('مج 0'!G17="","",'مج 0'!G17) | I36: س12 | AC36: 23 | AD36: نطرح : 22 - 5.18 يكون الناتج
J37: أ | N37: ب | R37: ج | V37: د | AC37: 24 | AD37: يبيع تاجر القطعة الواحدة من القماش ب 45.5 ريالا ، اذن هو سيبيع 5 قطع بمبلغ :
A38: 13 | B38: =IF('مج 0'!G18="","",'مج 0'!G18) | I38: س13 | AC38: 25 | AD38: 5أس4 تساوي :
J39: أ | N39: ب | R39: ج | V39: د | AC39: 26 | AD39: قيمة العبارة : 27 ÷ ( 3 + 6 ) × 5 - 12
A40: 14 | B40: =IF('مج 0'!G19="","",'مج 0'!G19) | I40: س14 | AC40: 27 | AD40: يمشر سعود 0.75 كيلو مترا في اليوم فكم مترا سيمشيها في خمسة أيام
J41: أ | N41: ب | R41: ج | V41: د | AC41: 28 | AD41: وحدة الطول المترية المناسبة لقياس طول شاطئ المملكة على البحر الأحمر هي
A42: 15 | B42: =IF('مج 0'!G20="","",'مج 0'!G20) | I42: س15 | AC42: 29 | AD42: بدأ الحفل الساعة 7:50 واستمر ساعتين و23 دقيقة ، متى ينتهي الحفل ؟
J43: أ | N43: ب | R43: ج | V43: د | AC43: 30 | AD43: ذكر سعيد أن ضعف مامعه يساوي 16.8 ، كم المبلغ الذي معه ؟
A44: 16 | B44: =IF('مج 0'!G21="","",'مج 0'!G21) | I44: س16 | AC44: 31 | AD44: بدأ الحفل الساعة 7:50 واستمر ساعتين و23 دقيقة ، متى ينتهي الحفل ؟
J45: أ | N45: ب | R45: ج | V45: د | AC45: 32 | AD45: سؤال جديد نكتبه هنا
A46: 17 | B46: =IF('مج 0'!G22="","",'مج 0'!G22) | I46: س17 | AC46: 33
J47: أ | N47: ب | R47: ج | V47: د | AC47: 34
A48: 18 | B48: =IF('مج 0'!G23="","",'مج 0'!G23) | I48: س18 | AC48: 35
J49: أ | N49: ب | R49: ج | V49: د | AC49: 36
A50: 19 | B50: =IF('مج 0'!G24="","",'مج 0'!G24) | I50: س19 | AC50: 37
J51: أ | N51: ب | R51: ج | V51: د | AC51: 38
A52: 20 | B52: =IF('مج 0'!G25="","",'مج 0'!G25) | I52: س20 | AC52: 39
J53: أ | N53: ب | R53: ج | V53: د | AC53: 40
A54: 21 | B54: =IF('مج 0'!G26="","",'مج 0'!G26) | I54: س21 | AC54: 41
J55: أ | N55: ب | R55: ج | V55: د | AC55: 42
A56: 22 | B56: =IF('مج 0'!G27="","",'مج 0'!G27) | I56: س22 | AC56: 43
J57: أ | N57: ب | R57: ج | V57: د | AC57: 44
A58: 23 | B58: =IF('مج 0'!G28="","",'مج 0'!G28) | I58: س23 | AC58: 45
J59: أ | N59: ب | R59: ج | V59: د | AC59: 46
A60: 24 | B60: =IF('مج 0'!G29="","",'مج 0'!G29) | I60: س24 | AC60: 47
J61: أ | N61: ب | R61: ج | V61: د | AC61: 48
A62: 25 | B62: =IF('مج 0'!G30="","",'مج 0'!G30) | I62: س25 | AC62: 49
J63: أ | N63: ب | R63: ج | V63: د | AC63: 50
AC64: 51
AC65: 52
AC66: 53
AC67: 54
AC68: 55
AC69: 56

Sheet مج 1
A3: المادة | B3: المستوى | C3: وصف المستوى | G3: اختر المادة ثم اختر المهارات ( الاختبارالاول) | S3: المادة | U3: رياضيات_سادس | V3: رياضيات_ثالث_ابتدائي | W3: قراءة_ثالث_ابتدائي | X3: قراءة_سادس_ابتدائي | Y3: قراءة_ثالث_متوسط | Z3: علوم_سادس | AA3: علوم_ثالث_متوسط | AB3: رياضيات_ثالث_متوسط
A4: قراءة ثالث ابتدائي | B4: المرتفع | C4: يحدد المترادفات والمتضادات من السياق أو من غيره | S4: قراءة ثالث ابتدائي | T4: =B4&" : "&C4 -> المرتفع : يحدد المترادفات والمتضادات من السياق أو من غيره | U4: =T92 -> المرتفع : يحل مسائل رياضية على الكسور الاعتيادية والكسور العشرية | V4: =T70 -> المرتفع : يقدر ناتج جمع وطرح الأعداد ضمن أربع منازل | W4: =T4 -> المرتفع : يحدد المترادفات والمتضادات من السياق أو من غيره | X4: =T22 -> المرتفع : يحدد المترادفات والمتضادات من السياق أو من غيره | Y4: =T44 -> المرتفع : يستنتج معاني مصطلحات تستخدم في مجالات علمية مختلفة | Z4: =T121 -> المرتفع : يصمم ويجري التجارب العلمية، ويحلل البيانات؛ ليقدم تفسيرات منطقية | AA4: =T155 -> المرتفع : يقدم أدلة تثبت أن المخلوقات الحية مكونة من خلايا | AB4: =T183 -> المرتفع : يحل المعادلات الخطية، ويحل نظام المعادلات الخطية
A5: قراءة ثالث ابتدائي | B5: المرتفع | C5: يفرق بين المفرد والمثنى والجمع من خلال السياق أو بدونه | F5: المادة | I5: عدد أسئلة الاختبار حسب مستوياتها | T5: =B5&" : "&C5 -> المرتفع : يفرق بين المفرد والمثنى والجمع من خلال السياق أو بدونه | U5: =T93 -> المرتفع : يقسم الأعداد الكسرية ويبسطها | V5: =T71 -> المرتفع : يطبق خصائص الجمع والضرب | W5: =T5 -> المرتفع : يفرق بين المفرد والمثنى والجمع من خلال السياق أو بدونه | X5: =T23 -> المرتفع : يستنتج معاني مفردات تغيرت دلالاتها بتغير الزمن والسياق | Y5: =T45 -> المرتفع : يصنف معاني المصطلحات الجديدة وفقا لدلالاتها | Z5: =T122 -> المرتفع : يستكشف الدور الرئيس للجينات في نقل الصفات عبر الأجيال | AA5: =T156 -> المرتفع : يبني تفسيرًا مدعمًا بالأدلة حول كيفية عمل أجهزة الجسم وتفواعلها مع بعضها | AB5: =T184 -> المرتفع : يحل المتباينات الخطية في متغير واحد جبريًّا، ومتباينات تتضمن قيمة مطلقة
A6: قراءة ثالث ابتدائي | B6: المرتفع | C6: يوضح معاني المفردات من خلال السياق أو بدونه | F6: مهارة1 | I6: المرتفع | J6: المتوسط | K6: المنخفض | L6: المنخفض جدا | O6: =IFERROR(LEFT(G6,FIND(":",G6,1)-1),"") | Q6: {=_xlfn.UNIQUE(G6:G30)} -> 0 | T6: =B6&" : "&C6 -> المرتفع : يوضح معاني المفردات من خلال السياق أو بدونه | U6: =T94 -> المرتفع : يحل مسائل رياضية على النسبة والمعدل والنسبة المئوية والتناسب | V6: =T72 -> المرتفع : يكتب جملاً عددية على العمليات الأربع ويوجد قيمتها | W6: =T6 -> المرتفع : يوضح معاني المفردات من خلال السياق أو بدونه | X6: =T24 -> المرتفع : يفهم النصوص المقروءة مع القدرة على تحليلها وتقويمها والتعبير عما يستنتج منها | Y6: =T46 -> المرتفع : يستنتج معاني المفردات الجديدة من خلال التفسير والتعريف | Z6: =T123 -> المرتفع : يميز التركيب والوظيفة في المخلوقات الحية | AA6: =T157 -> المرتفع : يوضح كيف تؤثر التغيرات في تركيب الجينات الطفرات( الموجودة على الكروموسومات في صنع البروتين) | AB6: =T185 -> المرتفع : يحل مسائل على الدالة الخطية
A7: قراءة ثالث ابتدائي | B7: المرتفع | C7: يحلل النصوص المقروءة ويقومها ويعبر عما يستنتج منها | F7: مهارة2 | I7: =COUNTIF($O$6:$O$30,"المرتفع ") -> 0 | J7: =COUNTIF($O$6:$O$30,"المتوسط ") -> 0 | K7: =COUNTIF($O$6:$O$30,"المنخفض ") -> 0 | L7: =COUNTIF($O$6:$O$30,"المنخفض جداً ") -> 0 | O7: =IFERROR(LEFT(G7,FIND(":",G7,1)-1),"") | T7: =B7&" : "&C7 -> المرتفع : يحلل النصوص المقروءة ويقومها ويعبر عما يستنتج منها | U7: =T95 -> المرتفع : يحل مسائل رياضية على الأنماط العددية والدوال | V7: =T73 -> المرتفع : يحل مسائل رياضية تتضمن تطبيقات مالية على النقود | W7: =T7 -> المرتفع : يحلل النصوص المقروءة ويقومها ويعبر عما يستنتج منها | X7: =T25 -> المرتفع : يميز نوع النص المقروء، ويحلل خصائصه، ويستنتج الأفكار الرئيسة والفرعية والضمنية فيه | Y7: =T47 -> المرتفع : يستنتج معاني المفردات الجديدة من خلال الترادف، والتضاد | Z7: =T124 -> المرتفع : يستخدم الأدلة العلمية لإيجاد حلول لبعض المشاكل التي تواجه النباتات والحيوانات؛ بسبب التغيرات البيئية | AA7: =T158 -> المرتفع : يجمع معلومات حول التقنيات الحديثة التي غيرت طرق البشر في توريث الصفات المرغوبة للمخلوقات الحية | AB7: =T186 -> المرتفع : يحل مسائل على الدالة التربيعية
A8: قراءة ثالث ابتدائي | B8: المرتفع | C8: يستنتج فكرة النص المنظور الرئيسة، ويستخرج قيمه وأفكاره الفرعية | F8: مهارة3 | O8: =IFERROR(LEFT(G8,FIND(":",G8,1)-1),"") | T8: =B8&" : "&C8 -> المرتفع : يستنتج فكرة النص المنظور الرئيسة، ويستخرج قيمه وأفكاره الفرعية | U8: =T96 -> المرتفع : يوجد قاعدة دالة ما من خلال جدول | V8: =T74 -> المرتفع : يحلل البيانات الممثلة في الرسوم البيانية | W8: =T8 -> المرتفع : يستنتج فكرة النص المنظور الرئيسة، ويستخرج قيمه وأفكاره الفرعية | X8: =T26 -> المرتفع : يستنتج المفاهيم من أفكار النص والعلاقات بينها | Y8: =T48 -> المرتفع : يستنتج معاني المفردات الجديدة من خلال السياق وبدونه | Z8: =T125 -> المرتفع : يبتكر طرًقًا جديدة ةعادة التدوير للحفاظ على الأرض | AA8: =T159 -> المرتفع : يتعرف على أمثلة الانتخاب الصناعي الانتقائي( لصفات معينة في النباتات والحيوانات) | AB8: =T187 -> المرتفع : يوجد قيم الدوال المثلثية باستخدام الآلة الحاسبة
A9: قراءة ثالث ابتدائي | B9: المرتفع | C9: يحلل أحداث النصوص المتشابكة وتسلسلها ويحدد شخصياتها | F9: مهارة4 | I9: عدد أسئلة الاختبار | L9: =I7+J7+K7+L7 -> 0 | O9: =IFERROR(LEFT(G9,FIND(":",G9,1)-1),"") | T9: =B9&" : "&C9 -> المرتفع : يحلل أحداث النصوص المتشابكة وتسلسلها ويحدد شخصياتها | U9: =T97 -> المرتفع : يوجد زوايا قياسات مجهولة في المثلن أو الشكل الرباعي | V9: =T75 -> المتوسط : يميز القيمة المنزلية لعدد ضمن سبع منازل | W9: =T9 -> المرتفع : يحلل أحداث النصوص المتشابكة وتسلسلها ويحدد شخصياتها | X9: =T27 -> المرتفع : يستنتج القيم والاتجاهات الإيجابية والسلبية من النص المقروء وأثرها في الفرد والمجتمع | Y9: =T49 -> المرتفع : يميز الفروق الأساسية في بنية النص المقروء | Z9: =T126 -> المرتفع : يميز مصادر الطاقة البديلة للحفاظ على البيئة | AA9: =T160 -> المرتفع : يتنبأ بتغيرات الأرض المسببة للكوارث الطبيعية ويقترح حلولاً لتقليل تأثير تلك التغيرات | AB9: =T188 -> المرتفع : يحل مسائل على اةحصاء والاحتمالات
